From mboxrd@z Thu Jan 1 00:00:00 1970 Return-Path: Received: from mails.dpdk.org (mails.dpdk.org [217.70.189.124]) by inbox.dpdk.org (Postfix) with ESMTP id 1B2AE489A1 for ; Wed, 22 Oct 2025 09:14:19 +0200 (CEST) Received: from mails.dpdk.org (localhost [127.0.0.1]) by mails.dpdk.org (Postfix) with ESMTP id EA458400D5; Wed, 22 Oct 2025 09:14:18 +0200 (CEST) Received: from mail-ot1-f99.google.com (mail-ot1-f99.google.com [209.85.210.99]) by mails.dpdk.org (Postfix) with ESMTP id EC8C5400D5 for ; Wed, 22 Oct 2025 09:14:17 +0200 (CEST) Received: by mail-ot1-f99.google.com with SMTP id 46e09a7af769-7c280b71af9so1674238a34.2 for ; Wed, 22 Oct 2025 00:14:17 -0700 (PDT) DKIM-Signature: v=1; a=rsa-sha256; c=relaxed/relaxed; d=iol.unh.edu; s=unh-iol; t=1761117257; x=1761722057; darn=dpdk.org; h=cc:to:from:subject:message-id:date:from:to:cc:subject:date :message-id:reply-to; bh=+fUD37BcX9ITbKaqoVb2Yp/BMZdj/lAC0Q8yWNpa4WA=; b=M40G6PGnrVI6e28hlXkI9Np+HUyhZmVj66kbReDwZTdZiwG+6WVECWYb9IY1XRm9ox SZhPoKngpsddig5IlJ14ni9RtAEDZrNqUfXX1EWqCiltQhNWHiw5b8/2gogYwM4i6rsn f1M0fSpTnwS/O9hcdXuYRbtu45a08uFNrTo24= X-Google-DKIM-Signature: v=1; a=rsa-sha256; c=relaxed/relaxed; d=1e100.net; s=20230601; t=1761117257; x=1761722057; h=cc:to:from:subject:message-id:date:x-gm-message-state:from:to:cc :subject:date:message-id:reply-to; bh=+fUD37BcX9ITbKaqoVb2Yp/BMZdj/lAC0Q8yWNpa4WA=; b=bdwRIG2nAqJXoECsiDyj5Ee/dfLPsOq5Wu6ZthBcVP7SeZ77pmWrsOrgYGy/Ae0InO z/IhkmqyDxq+wZJtW9DiY+Bs1oVXC3sfmuvhJ8o+R6RQ6R2qKo9zbn+JdI5J4x0BQZMn MZx3rHZ1vDG6cBkYIgxOsuGlJUN8yYrxmtqtjGmiJhu/JvwSxoNLQuZhsRM5VMd0Z+lX w07fXNpFhv1DIV9QVfjGYL1T//S1lZ7RHHpeitszrcncvex1aTFLk+qiocOKW/6Z2MXD YScIf4jGwrybRM9vQ+1FtzPONxA8qjrdWdHf8Nfn1I253XT7p9kMge46BgtiIwXJToXB fnbw== X-Gm-Message-State: AOJu0YzJ6bwsnKXE1xMUh6NB+98cN2rPw032HObDEsshgUylvpBFi2np H2XYguKF5FX1XHdP9ymYUj9TMDjY0/EGZRfspYR+sU2ZTXPSDZO8AoXa5BRfrIGW0LHED/fPTQ8 m6+1g7kwcjucpvpOR+4FFmL6MP91n1IZbjMl8WX6C05fbLG2x3IEf7PJ4oUCa X-Gm-Gg: ASbGncv40IFvXlGNcUeEN2pXOBZdhQ6/duC7b6bPttB0p31Dl9kOTIGhzD24xsCia4M Pqn735FCqUd5I2MTf+W8JjGXaxrrP6hzh4HOofRGld7sv/fQOa6mV8VUTYMw/dWThWqrFJxeYQY dPp3VagxMmBem5+EAXOafAKhv0QVbO6hcXcP5F/RFKatCixmkSxL61J75xkPF+4fT0Fj5czouL5 xMyBBlfdNMzgagTkFrWiI7WzcCL+AK1nEiX5uZ4g/erTBbRU1AMqRwuJIOOpfQopfJ09AsDgMjb 9TAxF6ASEpWWY9/e4CdFiWQeqynMaW4wBaO7GI1sqiHTXEXBZE2hlGz4J9qqEPUy3t+OkNTqDWq 5lUdrGP2g X-Google-Smtp-Source: AGHT+IFU/0sMidQjS/7BEBYFTsrfHRnbRqZtTfox7fIQ14vocAzdx0+ES5oEfYGigYXhgOtfu0yiPUFeIGD6 X-Received: by 2002:a05:6830:dc1:b0:7ae:9100:a4f7 with SMTP id 46e09a7af769-7c27ccc5c18mr9171285a34.34.1761117257197; Wed, 22 Oct 2025 00:14:17 -0700 (PDT) Received: from postal.iol.unh.edu (postal.iol.unh.edu. [2606:4100:3880:1234::84]) by smtp-relay.gmail.com with ESMTPS id 46e09a7af769-7c3e21d3fabsm154162a34.5.2025.10.22.00.14.17 (version=TLS1_2 cipher=ECDHE-ECDSA-AES128-GCM-SHA256 bits=128/128); Wed, 22 Oct 2025 00:14:17 -0700 (PDT) X-Relaying-Domain: iol.unh.edu Date: Wed, 22 Oct 2025 00:14:17 -0700 (PDT) Message-ID: <68f88449.050a0220.315d0d.739cSMTPIN_ADDED_MISSING@mx.google.com> Received: from [172.21.0.2] (unknown [172.18.0.240]) by postal.iol.unh.edu (Postfix) with ESMTP id A869960003E7; Wed, 22 Oct 2025 03:14:16 -0400 (EDT) Subject: |SUCCESS| [GIT MASTER] 0e381f61496b14349b03f95878399791d76519e4 From: dpdklab@iol.unh.edu To: Test Report Cc: dpdk-test-reports@iol.unh.edu, Stephen Hemminger Content-Type: text/plain X-BeenThere: test-report@dpdk.org X-Mailman-Version: 2.1.29 Precedence: list List-Id: automatic DPDK test reports List-Unsubscribe: , List-Archive: List-Post: List-Help: List-Subscribe: , Errors-To: test-report-bounces@dpdk.org _Testing PASS_ Branch: dpdk-next-net 0e381f61496b14349b03f95878399791d76519e4 --> testing pass Upstream job id: Generic-Unit-Test-DPDK#384106 Test environment and result as below: +-------------------------------+----------------+ | Environment | dpdk_unit_test | +===============================+================+ | CentOS Stream 10 | PASS | +-------------------------------+----------------+ | Debian GNU/Linux 12 | PASS | +-------------------------------+----------------+ | Fedora Linux 41 | PASS | +-------------------------------+----------------+ | Fedora Linux 40 | PASS | +-------------------------------+----------------+ | CentOS Stream 9 | PASS | +-------------------------------+----------------+ | Ubuntu 24.04 | PASS | +-------------------------------+----------------+ | Ubuntu 22.04 | PASS | +-------------------------------+----------------+ | Fedora Linux 42 | PASS | +-------------------------------+----------------+ | Red Hat Enterprise Linux 9.5 | PASS | +-------------------------------+----------------+ | Red Hat Enterprise Linux 8.10 | PASS | +-------------------------------+----------------+ | Ubuntu 20.04 | PASS | +-------------------------------+----------------+ | Windows Server 2022 | PASS | +-------------------------------+----------------+ CentOS Stream 10 Kernel: 5.15 Compiler: gcc gcc (GCC) 14.2.1 20250110 (Red Hat 14.2.1-8) Debian GNU/Linux 12 Kernel: 5.15 Compiler: gcc gcc (Debian 12.2.0-14+deb12u1) 12.2.0 Fedora Linux 41 Kernel: 5.15 Compiler: gcc gcc (GCC) 14.3.1 20250523 (Red Hat 14.3.1-1) Fedora Linux 40 Kernel: 5.15 Compiler: gcc gcc (GCC) 14.2.1 20240912 (Red Hat 14.2.1-3) CentOS Stream 9 Kernel: 5.15 Compiler: gcc gcc (GCC) 11.5.0 20240719 (Red Hat 11.5.0-11) Ubuntu 24.04 Kernel: 5.15 Compiler: gcc gcc (Ubuntu 13.3.0-6ubuntu2~24.04) 13.3.0 Ubuntu 22.04 Kernel: 5.15 Compiler: gcc gcc (Ubuntu 11.4.0-1ubuntu1~22.04) 11.4.0 Fedora Linux 42 Kernel: 5.15 Compiler: gcc gcc (GCC) 15.2.1 20250808 (Red Hat 15.2.1-1) Red Hat Enterprise Linux 9.5 Kernel: 5.15 Compiler: gcc gcc (GCC) 11.5.0 20240719 (Red Hat 11.5.0-2) Red Hat Enterprise Linux 8.10 Kernel: 5.15 Compiler: gcc gcc (GCC) 8.5.0 20210514 (Red Hat 8.5.0-22) Ubuntu 20.04 Kernel: 5.15 Compiler: gcc gcc (Ubuntu 9.4.0-1ubuntu1~20.04.2) 9.4.0 Windows Server 2022 Kernel: 10.0.20348.2031 Compiler: clang 15.0.7, gcc 14.1.0 (MinGW), and MSVC VS 19.39.33521 To view detailed results, visit: https://lab.dpdk.org/results/dashboard/tarballs/35301/ UNH-IOL DPDK Community Lab To manage your email subscriptions, visit: https://lab.dpdk.org/results/dashboard/preferences/subscriptions/