From mboxrd@z Thu Jan 1 00:00:00 1970 Return-Path: Received: from mails.dpdk.org (mails.dpdk.org [217.70.189.124]) by inbox.dpdk.org (Postfix) with ESMTP id D615A489A3 for ; Wed, 22 Oct 2025 10:13:22 +0200 (CEST) Received: from mails.dpdk.org (localhost [127.0.0.1]) by mails.dpdk.org (Postfix) with ESMTP id B282C400D5; Wed, 22 Oct 2025 10:13:22 +0200 (CEST) Received: from mail-pf1-f227.google.com (mail-pf1-f227.google.com [209.85.210.227]) by mails.dpdk.org (Postfix) with ESMTP id 07030400D5 for ; Wed, 22 Oct 2025 10:13:22 +0200 (CEST) Received: by mail-pf1-f227.google.com with SMTP id d2e1a72fcca58-794e300e20dso623665b3a.1 for ; Wed, 22 Oct 2025 01:13:21 -0700 (PDT) DKIM-Signature: v=1; a=rsa-sha256; c=relaxed/relaxed; d=iol.unh.edu; s=unh-iol; t=1761120801; x=1761725601; darn=dpdk.org; h=cc:to:from:subject:message-id:date:from:to:cc:subject:date :message-id:reply-to; bh=IDuee4DwR2S2Ogby/5mu7Lnr282kWS3hwSEIIzZh4JA=; b=fUyJjpSCfbtzIe7oBcrExzbP1S9M7J2ZFx3keVYTqvOFYp+kqI/WMovllqrzcqZFqB l/Ww/vuzCF+9lMDjdPbyJ/bFiTWI7VpKJeoN3PQTzodHPUep1i7x1LuGErZwOaYU5cmK +m3wlr7QV78Y4ui63qHC/ydstGlZnJJnXjEzI= X-Google-DKIM-Signature: v=1; a=rsa-sha256; c=relaxed/relaxed; d=1e100.net; s=20230601; t=1761120801; x=1761725601; h=cc:to:from:subject:message-id:date:x-gm-message-state:from:to:cc :subject:date:message-id:reply-to; bh=IDuee4DwR2S2Ogby/5mu7Lnr282kWS3hwSEIIzZh4JA=; b=lu8iRReWyjVOQuiZH3/LayuOoRmZQg4VPrXi5l6D50jp9RNbQM5AFypHwz05bo1oTa VXzndn7Agfj9ULumoI6EGLECY5hINnPHsXHCpdpcSCEfCARg6PivjJ4GZVFMWz6xpcgN Fwy6WdfnkQUxdHx0iaPBuUbdbd0Y8b4ByuGkvZtlgH2eXKfgAYdh2cG6EKKr/YQNneMH U/kIzlg1BxeKIMAEnuvsF7AT5TwHYfyodAVCFz9xpY/7ixXGQATeH4Z1+KOR09CkOJVK bIUyahcge11RW7X+ULNngxRXD1skjpzaGTDtVGow1GAG7XxmUNMqRz8dP0+Zpp6svZ4Z QdOQ== X-Gm-Message-State: AOJu0YzuS59kDc8s5zYVZUBf0w/BdnRnHNVGdlpbPveDdzBy+hkqqwlK wIXD1m7FwYJu2UApkL3l3CNsLRpFqr7kbICGY9q0rHyhCJQm1J63jN3S3bCW9kfgN9TTbUJrhZM W5ofLWg+UFtrMaL4cgjmX4WGqW3M9boRPALFtueZxf0a1kvkKAN88 X-Gm-Gg: ASbGnctWM2avIKGkKCZZ6G43KZSgKY6oTF0jqFw0D/H4dQs/aQVnEEqiJ4W2XbQaOxF JzqDb0AUsjOhkhnG3qHDAdqGijNFswlMzDnqe0GKeCQiq/xz+6r44PP+XW0NOKGmnwXRO0friaK jmmaBzueZ/SffnYqmdiQKXjj+IfFgYzoaGL8vv9nTEx8yLFA39dQiRnhPO9SWWEu/aAOGARpTpD HyG48kyEdI2zkJ29zVjfWq0ftm6NUG7Ec8jHMsAe9HCe8XRdBnHmKJda/zZGZ/fmKeO32i/90SQ 0+FuYTd0S2WEg23nNGUxJvDeJ65kmMp1GOd4bCfB4QAP3y7M6xypG17iY+kHo1FN0eYlrOPWbBb Mj4lOo12Q X-Google-Smtp-Source: AGHT+IHvifOJaSAzJqmK39AeVdNyMDQjnuHj2wKMRJv8D+9Qf6wFS30XpC1zEjUj3ez2Eb9Xls4XjU4mSf/Q X-Received: by 2002:a05:6a21:4e84:b0:32d:95f2:1fe with SMTP id adf61e73a8af0-33aa5c9acf5mr3768489637.2.1761120801085; Wed, 22 Oct 2025 01:13:21 -0700 (PDT) Received: from postal.iol.unh.edu (postal.iol.unh.edu. [2606:4100:3880:1234::84]) by smtp-relay.gmail.com with ESMTPS id d2e1a72fcca58-7a26caa3f2asm21357b3a.10.2025.10.22.01.13.20 (version=TLS1_2 cipher=ECDHE-ECDSA-AES128-GCM-SHA256 bits=128/128); Wed, 22 Oct 2025 01:13:21 -0700 (PDT) X-Relaying-Domain: iol.unh.edu Date: Wed, 22 Oct 2025 01:13:21 -0700 (PDT) Message-ID: <68f89221.050a0220.1d6ad1.0e77SMTPIN_ADDED_MISSING@mx.google.com> Received: from [172.21.0.2] (unknown [172.18.0.240]) by postal.iol.unh.edu (Postfix) with ESMTP id BDF256051830; Wed, 22 Oct 2025 04:13:19 -0400 (EDT) Subject: |SUCCESS| [GIT MASTER] b287e404643aeab5bb5db084c142789df187844e From: dpdklab@iol.unh.edu To: Test Report Cc: dpdk-test-reports@iol.unh.edu, Xueming Li , Christian Ehrhardt , Kevin Traynor , Luca Boccassi Content-Type: text/plain X-BeenThere: test-report@dpdk.org X-Mailman-Version: 2.1.29 Precedence: list List-Id: automatic DPDK test reports List-Unsubscribe: , List-Archive: List-Post: List-Help: List-Subscribe: , Errors-To: test-report-bounces@dpdk.org _Testing PASS_ Branch: tags/v24.11 b287e404643aeab5bb5db084c142789df187844e --> testing pass Upstream job id: Generic-Unit-Test-DPDK#384071 Test environment and result as below: +------------------------------+----------------+--------------+---------------------------+------------------------------+ | Environment | dpdk_unit_test | lpm_autotest | cryptodev_sw_zuc_autotest | cryptodev_sw_snow3g_autotest | +==============================+================+==============+===========================+==============================+ | CentOS Stream 9 | PASS | SKIPPED | SKIPPED | SKIPPED | +------------------------------+----------------+--------------+---------------------------+------------------------------+ | Red Hat Enterprise Linux 9.5 | PASS | SKIPPED | SKIPPED | SKIPPED | +------------------------------+----------------+--------------+---------------------------+------------------------------+ | Debian GNU/Linux 12 | PASS | SKIPPED | SKIPPED | SKIPPED | +------------------------------+----------------+--------------+---------------------------+------------------------------+ | CentOS Stream 10 | PASS | SKIPPED | SKIPPED | SKIPPED | +------------------------------+----------------+--------------+---------------------------+------------------------------+ | Fedora Linux 40 | PASS | SKIPPED | SKIPPED | SKIPPED | +------------------------------+----------------+--------------+---------------------------+------------------------------+ | Fedora Linux 41 | PASS | SKIPPED | SKIPPED | SKIPPED | +------------------------------+----------------+--------------+---------------------------+------------------------------+ | Ubuntu 24.04 | PASS | SKIPPED | SKIPPED | SKIPPED | +------------------------------+----------------+--------------+---------------------------+------------------------------+ | Ubuntu 22.04 | PASS | SKIPPED | SKIPPED | SKIPPED | +------------------------------+----------------+--------------+---------------------------+------------------------------+ | Ubuntu 20.04 | PASS | PASS | SKIPPED | SKIPPED | +------------------------------+----------------+--------------+---------------------------+------------------------------+ | Fedora Linux 42 | PASS | SKIPPED | SKIPPED | SKIPPED | +------------------------------+----------------+--------------+---------------------------+------------------------------+ | Debian 12 (arm) | SKIPPED | SKIPPED | PASS | PASS | +------------------------------+----------------+--------------+---------------------------+------------------------------+ CentOS Stream 9 Kernel: 5.4 Compiler: gcc gcc (GCC) 11.5.0 20240719 (Red Hat 11.5.0-11) Red Hat Enterprise Linux 9.5 Kernel: 5.4 Compiler: gcc gcc (GCC) 11.5.0 20240719 (Red Hat 11.5.0-2) Debian GNU/Linux 12 Kernel: 5.4 Compiler: gcc gcc (Debian 12.2.0-14+deb12u1) 12.2.0 CentOS Stream 10 Kernel: 5.4 Compiler: gcc gcc (GCC) 14.2.1 20250110 (Red Hat 14.2.1-8) Fedora Linux 40 Kernel: 5.4 Compiler: gcc gcc (GCC) 14.2.1 20240912 (Red Hat 14.2.1-3) Fedora Linux 41 Kernel: 5.4 Compiler: clang gcc (GCC) 14.3.1 20250523 (Red Hat 14.3.1-1) Ubuntu 24.04 Kernel: 5.4 Compiler: gcc gcc (Ubuntu 13.3.0-6ubuntu2~24.04) 13.3.0 Ubuntu 22.04 Kernel: 5.4 Compiler: gcc gcc (Ubuntu 11.4.0-1ubuntu1~22.04) 11.4.0 Ubuntu 20.04 Kernel: 5.4 Compiler: gcc gcc (Ubuntu 9.4.0-1ubuntu1~20.04.2) 9.4.0 Fedora Linux 42 Kernel: 5.4 Compiler: gcc gcc (GCC) 15.2.1 20250808 (Red Hat 15.2.1-1) Debian 12 (arm) Kernel: Depends on container host Compiler: gcc (Debian 12.2.0-14) 12.2.0 To view detailed results, visit: https://lab.dpdk.org/results/dashboard/tarballs/35300/ UNH-IOL DPDK Community Lab To manage your email subscriptions, visit: https://lab.dpdk.org/results/dashboard/preferences/subscriptions/