From mboxrd@z Thu Jan 1 00:00:00 1970 Return-Path: Received: from mails.dpdk.org (mails.dpdk.org [217.70.189.124]) by inbox.dpdk.org (Postfix) with ESMTP id 163F7489A3 for ; Wed, 22 Oct 2025 10:27:53 +0200 (CEST) Received: from mails.dpdk.org (localhost [127.0.0.1]) by mails.dpdk.org (Postfix) with ESMTP id DFBEA400D5; Wed, 22 Oct 2025 10:27:52 +0200 (CEST) Received: from mail-qk1-f225.google.com (mail-qk1-f225.google.com [209.85.222.225]) by mails.dpdk.org (Postfix) with ESMTP id 5F05F400D5 for ; Wed, 22 Oct 2025 10:27:51 +0200 (CEST) Received: by mail-qk1-f225.google.com with SMTP id af79cd13be357-890d9981983so877984985a.2 for ; Wed, 22 Oct 2025 01:27:51 -0700 (PDT) DKIM-Signature: v=1; a=rsa-sha256; c=relaxed/relaxed; d=iol.unh.edu; s=unh-iol; t=1761121670; x=1761726470; darn=dpdk.org; h=cc:to:from:subject:message-id:date:from:to:cc:subject:date :message-id:reply-to; bh=XOi5YNIwse0vybwmQnMbH4axUl+4YJKj52s9w6YoXXM=; b=PBe6QwY4XsH/yOm4cB+N6mrw3YAoyX3g95rRGQVXnRjujEzdyABSXNq66AaUYprXX1 Pt/a9VFYD4uFY4WmmaDeVXFNAkvFsBzYKaSzeeBaSZxVynSh2ea7kVSGHrcwfL4u1Ie1 ZWoBPXcBgUZ3kc+P8/HqP+/3Wm8IJkvBtneL8= X-Google-DKIM-Signature: v=1; a=rsa-sha256; c=relaxed/relaxed; d=1e100.net; s=20230601; t=1761121670; x=1761726470; h=cc:to:from:subject:message-id:date:x-gm-message-state:from:to:cc :subject:date:message-id:reply-to; bh=XOi5YNIwse0vybwmQnMbH4axUl+4YJKj52s9w6YoXXM=; b=A3kC/GORhVbAMij4TuWS9w8ifK9e7fmC4BM58xslbxFtR5gQRUq2knwEcW8EeKV7XD Pp9ziYpufYN14Uos2+F/ZYjj84KopKgXWYcsV3f2oAbeYMLU+uV9P1RpwbT/hlt6QkvN FaDQArc5Isw7O1agHLSEcKbgtUXxgziv2qjgo5nF0ls8YZRKr6hStoWAMTz1LQvPByVl yOkFO9Zpu818pDjx/Ss283IX8X7c+PEnVOXKKKLOTuFbK/FY1NIgN1vhltzWielBUVZ5 u7sAJDwBXZ+9MOzgwkXAU2Z8h/6SL7+Hc52gwoBxRYsjMoPLOw9VizdERB6zfzXvvh3U 9MHg== X-Gm-Message-State: AOJu0Yz0U7BLe4bnrOPcVv765wwtYtqV9Wy+91H6cgEc8kUjRuARb0H4 9n/jIW7XmGzta0/kNQzxdZkqmBoGACrzDDdBMPI259y35cfFyBjyUzoGdSNhFTwRHVorl8Zsk7x ZW4VvWEHz9SEP5edMCxrCxU+D8MQdXZhdvaGo X-Gm-Gg: ASbGncs5N9zgXT12IACUFeT65pk2ccRpITzTC7baGA8i3dwd9UMI5jDti3yYLGBgJG9 On3JQIzPeB039/6PHkZCiZZZ29IoQBop1glxhuv5F0gABlceLWEu7OZXOSBfPNnbHjls2T3XnR+ 4Fmc4LpwQArkg2ht6C+lE2OKDv1Qf31W4H642WdpLy/lUryF9gECG/WO3fwpLkV6+37RGfBDLHX nPUaL+AshKFjwqQyprPYRGmanqIc7GpXlEfay6bXA01IKIgl0aTP2Xbp8CbhTMI1neYp/BzsAaU SiiTKQbKmvy0D1XXiGitN0inbAuuMbrEOCRxpfRp5P/ngm+URqKUY7QAlv+hRij6thdzuf5X5Wq K30lzivUIS/ehWue6plsulmbKxmCrpUo= X-Google-Smtp-Source: AGHT+IGAZKpnc/qK58+20+8Hwbd044yVfCr2CqOk+GiSGHBWAB/gtfL4BR3ssM+LVGSrWMmnfdIVjo9nH7zG X-Received: by 2002:a05:620a:3182:b0:866:73f7:25a2 with SMTP id af79cd13be357-8907050d05dmr2198551985a.64.1761121670580; Wed, 22 Oct 2025 01:27:50 -0700 (PDT) Received: from postal.iol.unh.edu (postal.iol.unh.edu. [132.177.123.84]) by smtp-relay.gmail.com with ESMTPS id af79cd13be357-891cc6ea49dsm155182785a.1.2025.10.22.01.27.50 (version=TLS1_2 cipher=ECDHE-ECDSA-AES128-GCM-SHA256 bits=128/128); Wed, 22 Oct 2025 01:27:50 -0700 (PDT) X-Relaying-Domain: iol.unh.edu Date: Wed, 22 Oct 2025 01:27:50 -0700 (PDT) Message-ID: <68f89586.050a0220.34b3ec.87a4SMTPIN_ADDED_MISSING@mx.google.com> Received: from [172.21.0.2] (unknown [172.18.0.240]) by postal.iol.unh.edu (Postfix) with ESMTP id 43AA560003F4; Wed, 22 Oct 2025 04:27:50 -0400 (EDT) Subject: |SUCCESS| [GIT MASTER] 3b43ce3f4a54468e7ef65760c2fd7b4d6ee6d9fc From: dpdklab@iol.unh.edu To: Test Report Cc: dpdk-test-reports@iol.unh.edu, Xueming Li , Christian Ehrhardt , Kevin Traynor , Luca Boccassi Content-Type: text/plain X-BeenThere: test-report@dpdk.org X-Mailman-Version: 2.1.29 Precedence: list List-Id: automatic DPDK test reports List-Unsubscribe: , List-Archive: List-Post: List-Help: List-Subscribe: , Errors-To: test-report-bounces@dpdk.org _Testing PASS_ Branch: tags/v22.11 3b43ce3f4a54468e7ef65760c2fd7b4d6ee6d9fc --> testing pass Upstream job id: Generic-DPDK-Compile-Meson#436681 Test environment and result as below: +------------------------------+--------------------+ | Environment | dpdk_meson_compile | +==============================+====================+ | CentOS Stream 9 | PASS | +------------------------------+--------------------+ | Ubuntu 20.04 | PASS | +------------------------------+--------------------+ | Ubuntu 24.04 | PASS | +------------------------------+--------------------+ | Debian GNU/Linux 12 | PASS | +------------------------------+--------------------+ | Red Hat Enterprise Linux 9.5 | PASS | +------------------------------+--------------------+ | Fedora Linux 42 | PASS | +------------------------------+--------------------+ | Ubuntu 22.04 | PASS | +------------------------------+--------------------+ | CentOS Stream 10 | PASS | +------------------------------+--------------------+ CentOS Stream 9 Kernel: 5.4 Compiler: gcc gcc (GCC) 11.5.0 20240719 (Red Hat 11.5.0-11) Ubuntu 20.04 Kernel: 5.15 Compiler: aarch64-linux-gnu-gcc gcc (Ubuntu 9.4.0-1ubuntu1~20.04.2) 9.4.0 Ubuntu 24.04 Kernel: 5.4 Compiler: gcc gcc (Ubuntu 13.3.0-6ubuntu2~24.04) 13.3.0 Debian GNU/Linux 12 Kernel: 5.4 Compiler: gcc gcc (Debian 12.2.0-14+deb12u1) 12.2.0 Red Hat Enterprise Linux 9.5 Kernel: 5.4 Compiler: gcc gcc (GCC) 11.5.0 20240719 (Red Hat 11.5.0-2) Fedora Linux 42 Kernel: 5.4 Compiler: clang gcc (GCC) 15.2.1 20250808 (Red Hat 15.2.1-1) Ubuntu 22.04 Kernel: 5.4 Compiler: gcc gcc (Ubuntu 11.4.0-1ubuntu1~22.04) 11.4.0 CentOS Stream 10 Kernel: 5.4 Compiler: gcc gcc (GCC) 14.2.1 20250110 (Red Hat 14.2.1-8) To view detailed results, visit: https://lab.dpdk.org/results/dashboard/tarballs/35298/ UNH-IOL DPDK Community Lab To manage your email subscriptions, visit: https://lab.dpdk.org/results/dashboard/preferences/subscriptions/