From mboxrd@z Thu Jan 1 00:00:00 1970 Return-Path: Received: from mails.dpdk.org (mails.dpdk.org [217.70.189.124]) by inbox.dpdk.org (Postfix) with ESMTP id B23B3489A3 for ; Wed, 22 Oct 2025 11:54:06 +0200 (CEST) Received: from mails.dpdk.org (localhost [127.0.0.1]) by mails.dpdk.org (Postfix) with ESMTP id 8EC8F400D5; Wed, 22 Oct 2025 11:54:06 +0200 (CEST) Received: from mail-oo1-f99.google.com (mail-oo1-f99.google.com [209.85.161.99]) by mails.dpdk.org (Postfix) with ESMTP id 42D62400D5 for ; Wed, 22 Oct 2025 11:54:05 +0200 (CEST) Received: by mail-oo1-f99.google.com with SMTP id 006d021491bc7-651c77805b7so2936878eaf.1 for ; Wed, 22 Oct 2025 02:54:05 -0700 (PDT) DKIM-Signature: v=1; a=rsa-sha256; c=relaxed/relaxed; d=iol.unh.edu; s=unh-iol; t=1761126844; x=1761731644; darn=dpdk.org; h=cc:to:from:subject:message-id:date:from:to:cc:subject:date :message-id:reply-to; bh=8vWxbBQyeMA+/lOPZqasYGt7pB2lGH9d3LBnRtS6Qqo=; b=WAinKeXwHmlF31SKHps2hNzLKUZl3QEfFMOrkqnieFzjdW//JOx3GzxzLBKztH6unH C4UO9u7+6HQfx38yAur/aLuMLKtKd6JJQ+mnqXoAHeVLdHKyI3pmhWYpHWqi4Q356SXv 2w2jaiK7rxwyEWIQWPgfLrA2iV3D5pmby9FlI= X-Google-DKIM-Signature: v=1; a=rsa-sha256; c=relaxed/relaxed; d=1e100.net; s=20230601; t=1761126844; x=1761731644; h=cc:to:from:subject:message-id:date:x-gm-message-state:from:to:cc :subject:date:message-id:reply-to; bh=8vWxbBQyeMA+/lOPZqasYGt7pB2lGH9d3LBnRtS6Qqo=; b=SFX3cwaZa2unOtVj+Gle++YHRYvrwmlUjZ6HYT2VsgUDvKojyoa7wITeIrHgACdzi5 HiGF4B+YG0/xKAHv4kbmc8+3scA1l0IGGlinTzy5oKMhfzha2WXeSIKpXNfTilcrcokp /UD18yDd5WH+ebbss8rbK5VGcUfGqLn8gAX70DVmStq2KCJgHjIXzDeYXJjsX/U1BVxp S53G+IIrPuhgNF3/Ubni3BzW3aEGGgEoCF9M7hlpBKgy+y2dm2YA1v4Au9xyn5r1uS8z pwKOzLtpPgSO0Zz95Amnr04qXtCBliuskdEnVzNkkifzazkWi9JwkbuglHIZWUG2XYMs Q03w== X-Gm-Message-State: AOJu0YzgLvXzMVbLct9e4TsG5gJN/3ljSja1DNJwOXmTkXKqTslK42CK 90vr3vAy4gzf3Q5OQ0oZ+YsOPBIeufAZLJrV5vUHwC3fH1oTHLIL7kl5pwWmcUQYcA3uqBsfY0k EqxtlGQ5VqcyJSqn7GTsICW8GvOwoXlHDZRj6+UurSdZuV68ebFJM X-Gm-Gg: ASbGncsqXHUPg3wWiQjs22DbYqgSc+xCkBDxej/oA0irJpVgVLn4VHYg2CuEw8yeHxE woLZcNBVKw5a9ybph4Vh70fwdXAt4WQR33xsn20/GKzqTCiqb17X1SLNF5b3fXL+ZoHNk/pS57a rJ5I98Vbc4X1ei9ToKih4MXrgE+oDyPCQ4PA3bK6Q4MKEDUNnn1bJCua+lRNTsVh8KW3dWbzD+7 mvowlazPDCn9u/sPguJ0xMrppUvSKe0ogWGOMexS+xCVJdyOrpo8yS8zDrCjDyZodhoKWlTqhs/ wWErm0WaGsL5VZZDP+PJhk/k0nk3EoXMkxat7qUgRFZEns0iIIrQay5DfS6f17Z4gvEmvtZT/2O PVeS33axr X-Google-Smtp-Source: AGHT+IFFHmt4VGGBXxCEJ5kR60CRJ+qDyGzWjseVebENsm8mh0kil7H1km6621/KRhDXPaPXrnQhEib5V26R X-Received: by 2002:a05:6871:2e90:b0:387:9b79:a61b with SMTP id 586e51a60fabf-3c98cff3fd9mr8237432fac.22.1761126844291; Wed, 22 Oct 2025 02:54:04 -0700 (PDT) Received: from postal.iol.unh.edu (postal.iol.unh.edu. [2606:4100:3880:1234::84]) by smtp-relay.gmail.com with ESMTPS id 586e51a60fabf-3c9aec2a52csm1530437fac.0.2025.10.22.02.54.04 (version=TLS1_2 cipher=ECDHE-ECDSA-AES128-GCM-SHA256 bits=128/128); Wed, 22 Oct 2025 02:54:04 -0700 (PDT) X-Relaying-Domain: iol.unh.edu Date: Wed, 22 Oct 2025 02:54:04 -0700 (PDT) Message-ID: <68f8a9bc.050a0220.1f89aa.6d5eSMTPIN_ADDED_MISSING@mx.google.com> Received: from [172.21.0.2] (unknown [172.18.0.240]) by postal.iol.unh.edu (Postfix) with ESMTP id C027860003F4; Wed, 22 Oct 2025 05:54:03 -0400 (EDT) Subject: |SUCCESS| [GIT MASTER] b287e404643aeab5bb5db084c142789df187844e From: dpdklab@iol.unh.edu To: Test Report Cc: dpdk-test-reports@iol.unh.edu, Xueming Li , Christian Ehrhardt , Kevin Traynor , Luca Boccassi Content-Type: text/plain X-BeenThere: test-report@dpdk.org X-Mailman-Version: 2.1.29 Precedence: list List-Id: automatic DPDK test reports List-Unsubscribe: , List-Archive: List-Post: List-Help: List-Subscribe: , Errors-To: test-report-bounces@dpdk.org _Testing PASS_ Branch: tags/v24.11 b287e404643aeab5bb5db084c142789df187844e --> testing pass Upstream job id: Generic-DPDK-Compile-Meson#436689 Test environment and result as below: +------------------------------+--------------------+ | Environment | dpdk_meson_compile | +==============================+====================+ | Fedora Linux 42 | PASS | +------------------------------+--------------------+ | Red Hat Enterprise Linux 9.5 | PASS | +------------------------------+--------------------+ | Ubuntu 20.04 | PASS | +------------------------------+--------------------+ | Debian GNU/Linux 12 | PASS | +------------------------------+--------------------+ | Ubuntu 22.04 | PASS | +------------------------------+--------------------+ | CentOS Stream 10 | PASS | +------------------------------+--------------------+ | Ubuntu 24.04 | PASS | +------------------------------+--------------------+ | CentOS Stream 9 | PASS | +------------------------------+--------------------+ Fedora Linux 42 Kernel: 5.4 Compiler: clang gcc (GCC) 15.2.1 20250808 (Red Hat 15.2.1-1) Red Hat Enterprise Linux 9.5 Kernel: 5.4 Compiler: gcc gcc (GCC) 11.5.0 20240719 (Red Hat 11.5.0-2) Ubuntu 20.04 Kernel: 5.15 Compiler: aarch64-linux-gnu-gcc gcc (Ubuntu 9.4.0-1ubuntu1~20.04.2) 9.4.0 Debian GNU/Linux 12 Kernel: 5.4 Compiler: gcc gcc (Debian 12.2.0-14+deb12u1) 12.2.0 Ubuntu 22.04 Kernel: 5.4 Compiler: gcc gcc (Ubuntu 11.4.0-1ubuntu1~22.04) 11.4.0 CentOS Stream 10 Kernel: 5.4 Compiler: gcc gcc (GCC) 14.2.1 20250110 (Red Hat 14.2.1-8) Ubuntu 24.04 Kernel: 5.4 Compiler: gcc gcc (Ubuntu 13.3.0-6ubuntu2~24.04) 13.3.0 CentOS Stream 9 Kernel: 5.4 Compiler: gcc gcc (GCC) 11.5.0 20240719 (Red Hat 11.5.0-11) To view detailed results, visit: https://lab.dpdk.org/results/dashboard/tarballs/35300/ UNH-IOL DPDK Community Lab To manage your email subscriptions, visit: https://lab.dpdk.org/results/dashboard/preferences/subscriptions/