From mboxrd@z Thu Jan 1 00:00:00 1970 Return-Path: Received: from mails.dpdk.org (mails.dpdk.org [217.70.189.124]) by inbox.dpdk.org (Postfix) with ESMTP id 21725489A4 for ; Wed, 22 Oct 2025 12:29:18 +0200 (CEST) Received: from mails.dpdk.org (localhost [127.0.0.1]) by mails.dpdk.org (Postfix) with ESMTP id EC719400D5; Wed, 22 Oct 2025 12:29:17 +0200 (CEST) Received: from mail-pg1-f225.google.com (mail-pg1-f225.google.com [209.85.215.225]) by mails.dpdk.org (Postfix) with ESMTP id EF270400D5 for ; Wed, 22 Oct 2025 12:29:15 +0200 (CEST) Received: by mail-pg1-f225.google.com with SMTP id 41be03b00d2f7-b6ce806af3eso243517a12.0 for ; Wed, 22 Oct 2025 03:29:15 -0700 (PDT) DKIM-Signature: v=1; a=rsa-sha256; c=relaxed/relaxed; d=iol.unh.edu; s=unh-iol; t=1761128955; x=1761733755; darn=dpdk.org; h=cc:to:from:subject:message-id:date:from:to:cc:subject:date :message-id:reply-to; bh=2Oqrbr6G+qdbq573yrsYH3QTD8EUXvcXgWFdc1gKfTA=; b=TznwTk8KuH1Ohn/nOllmhaN+6m+qx9CvBnI4TtqEvqeOsRcAGxOoKVgJfepQPpkOCe B0/hSF3uKaP2EWjaOj3WX52VwcTpiX8FWq7Vlp4GHj4UOGfZo3VgLCWK/s94PgtFnUtD MQsYAHUF48HRF90ObwdRRoPozpAVzf+cqMilk= X-Google-DKIM-Signature: v=1; a=rsa-sha256; c=relaxed/relaxed; d=1e100.net; s=20230601; t=1761128955; x=1761733755; h=cc:to:from:subject:message-id:date:x-gm-message-state:from:to:cc :subject:date:message-id:reply-to; bh=2Oqrbr6G+qdbq573yrsYH3QTD8EUXvcXgWFdc1gKfTA=; b=ceKphT/S31fk4V3o5InDktx9i17Z8a5ea6P6aGZgxC5QxRSUsWHPPaRD+AmLAx4Ufz 1l/WCrZ9+DnMNY4oa3KEEy9L0flupPqvbOHyAoL8bPU94wwjfdy2p6O4cNsih5P+h13p giMbiUnwzYvU2MFbjWmy+3Q8p++kKBEECCQ1qFawI4cqc9b9MGDDxGAklRPnY19esysA qpPxdiRXftIlMM0v/UVGWi937A45JD9cwlrFd/2UlsVrD4cwYdTkG9jvR1wvb9r1ZHty 6Thcqi5g8pgJ4vGen04c8TCyE3b1g5vbS+aZiU6aRbuyF/HcsH55R2xpx55mBEmXhhJl ZyQw== X-Gm-Message-State: AOJu0YwceCT97CeN/IXrKLOydLbCCPTovR47K396BzO6fo5FMlj+oplU iLV/pZgEhCaDGJ6HrqeqrHI/9lL4StvuSlbQZrrsA8EBeFl75oMN+N7+BfsSha7oRAchnJatNMv j8C28c+4ftyv1/v7aTbIqOpyN8M7jtTkVErAD1+mHgWui X-Gm-Gg: ASbGncu5w9F6RWy1m2UdAIvFr+V8B+RIL7dPbMMrX3e4XGIgRIV0Iyd6t60ipPkiXXi iF+uhDW2X51D527LtvSjKFFtoG8h2KNYIpaKGMMQLadvdK/gGYDNNFz/MwiVtUbs7jx+t5J0cio 9j7nEWtg/wiThM/XTl2x75n5wTPJf94Om5Eae4efTo7tKSat95ukyTgm8i/Ip4hLw01jFVLulUO SFJEQeJHQQIrzc6sLbwBAk584VShMgpYFr9i+nb9vtaSPZYqgFUBda6tyxssXDFvQhGJNw5vVxQ k58qA8n6tb2eVVSarc/ht3z7GSEOgAN0rtwZQRdGn3YLJnJq+YQWJ7GmtYAPCTksnjN+Sh2CLRl Nyasc+UHpnlbNkjHsIeC/H/OGK2ULKaA= X-Google-Smtp-Source: AGHT+IEK4pd/vv/otcZIhY9JhkFArZOeOu+K/kcH+xQJjLqbX843vGDiRjrtmmI/bgKZbcxak4jF7XnQTeV+ X-Received: by 2002:a17:903:2b0d:b0:272:f9c3:31f7 with SMTP id d9443c01a7336-290cbe2ae84mr115087245ad.50.1761128955120; Wed, 22 Oct 2025 03:29:15 -0700 (PDT) Received: from postal.iol.unh.edu (postal.iol.unh.edu. [132.177.123.84]) by smtp-relay.gmail.com with ESMTPS id d9443c01a7336-2924701868bsm14193925ad.28.2025.10.22.03.29.14 (version=TLS1_2 cipher=ECDHE-ECDSA-AES128-GCM-SHA256 bits=128/128); Wed, 22 Oct 2025 03:29:15 -0700 (PDT) X-Relaying-Domain: iol.unh.edu Date: Wed, 22 Oct 2025 03:29:15 -0700 (PDT) Message-ID: <68f8b1fb.170a0220.2c8be.2a25SMTPIN_ADDED_MISSING@mx.google.com> Received: from [172.21.0.2] (unknown [172.18.0.240]) by postal.iol.unh.edu (Postfix) with ESMTP id 044796051830; Wed, 22 Oct 2025 06:29:14 -0400 (EDT) Subject: |SUCCESS| [GIT MASTER] 0e381f61496b14349b03f95878399791d76519e4 From: dpdklab@iol.unh.edu To: Test Report Cc: dpdk-test-reports@iol.unh.edu, Stephen Hemminger Content-Type: text/plain X-BeenThere: test-report@dpdk.org X-Mailman-Version: 2.1.29 Precedence: list List-Id: automatic DPDK test reports List-Unsubscribe: , List-Archive: List-Post: List-Help: List-Subscribe: , Errors-To: test-report-bounces@dpdk.org _Testing PASS_ Branch: dpdk-next-net 0e381f61496b14349b03f95878399791d76519e4 --> testing pass Upstream job id: Generic-Unit-Test-DPDK#384116 Test environment and result as below: +------------------------------+----------------+---------------------------+------------------------------+--------------+ | Environment | dpdk_unit_test | cryptodev_sw_zuc_autotest | cryptodev_sw_snow3g_autotest | lpm_autotest | +==============================+================+===========================+==============================+==============+ | Fedora Linux 40 | PASS | SKIPPED | SKIPPED | SKIPPED | +------------------------------+----------------+---------------------------+------------------------------+--------------+ | Fedora Linux 41 | PASS | SKIPPED | SKIPPED | SKIPPED | +------------------------------+----------------+---------------------------+------------------------------+--------------+ | CentOS Stream 10 | PASS | SKIPPED | SKIPPED | SKIPPED | +------------------------------+----------------+---------------------------+------------------------------+--------------+ | Ubuntu 20.04 | PASS | SKIPPED | SKIPPED | PASS | +------------------------------+----------------+---------------------------+------------------------------+--------------+ | Fedora Linux 42 | PASS | SKIPPED | SKIPPED | SKIPPED | +------------------------------+----------------+---------------------------+------------------------------+--------------+ | Red Hat Enterprise Linux 9.5 | PASS | SKIPPED | SKIPPED | SKIPPED | +------------------------------+----------------+---------------------------+------------------------------+--------------+ | CentOS Stream 9 | PASS | SKIPPED | SKIPPED | SKIPPED | +------------------------------+----------------+---------------------------+------------------------------+--------------+ | Ubuntu 22.04 | PASS | SKIPPED | SKIPPED | SKIPPED | +------------------------------+----------------+---------------------------+------------------------------+--------------+ | Debian GNU/Linux 12 | PASS | SKIPPED | SKIPPED | SKIPPED | +------------------------------+----------------+---------------------------+------------------------------+--------------+ | Ubuntu 24.04 | PASS | SKIPPED | SKIPPED | SKIPPED | +------------------------------+----------------+---------------------------+------------------------------+--------------+ | Debian 12 (arm) | SKIPPED | PASS | PASS | SKIPPED | +------------------------------+----------------+---------------------------+------------------------------+--------------+ Fedora Linux 40 Kernel: 5.4 Compiler: clang gcc (GCC) 14.2.1 20240912 (Red Hat 14.2.1-3) Fedora Linux 41 Kernel: 5.4 Compiler: clang gcc (GCC) 14.3.1 20250523 (Red Hat 14.3.1-1) CentOS Stream 10 Kernel: 5.4 Compiler: gcc gcc (GCC) 14.2.1 20250110 (Red Hat 14.2.1-8) Ubuntu 20.04 Kernel: 5.4 Compiler: gcc gcc (Ubuntu 9.4.0-1ubuntu1~20.04.2) 9.4.0 Fedora Linux 42 Kernel: 5.4 Compiler: gcc gcc (GCC) 15.2.1 20250808 (Red Hat 15.2.1-1) Red Hat Enterprise Linux 9.5 Kernel: 5.4 Compiler: gcc gcc (GCC) 11.5.0 20240719 (Red Hat 11.5.0-2) CentOS Stream 9 Kernel: 5.4 Compiler: gcc gcc (GCC) 11.5.0 20240719 (Red Hat 11.5.0-11) Ubuntu 22.04 Kernel: 5.4 Compiler: gcc gcc (Ubuntu 11.4.0-1ubuntu1~22.04) 11.4.0 Debian GNU/Linux 12 Kernel: 5.4 Compiler: gcc gcc (Debian 12.2.0-14+deb12u1) 12.2.0 Ubuntu 24.04 Kernel: 5.4 Compiler: gcc gcc (Ubuntu 13.3.0-6ubuntu2~24.04) 13.3.0 Debian 12 (arm) Kernel: Depends on container host Compiler: gcc (Debian 12.2.0-14) 12.2.0 To view detailed results, visit: https://lab.dpdk.org/results/dashboard/tarballs/35301/ UNH-IOL DPDK Community Lab To manage your email subscriptions, visit: https://lab.dpdk.org/results/dashboard/preferences/subscriptions/