From mboxrd@z Thu Jan 1 00:00:00 1970 Return-Path: Received: from mails.dpdk.org (mails.dpdk.org [217.70.189.124]) by inbox.dpdk.org (Postfix) with ESMTP id E0A72489A4 for ; Wed, 22 Oct 2025 12:39:07 +0200 (CEST) Received: from mails.dpdk.org (localhost [127.0.0.1]) by mails.dpdk.org (Postfix) with ESMTP id BD546400D5; Wed, 22 Oct 2025 12:39:07 +0200 (CEST) Received: from mail-pg1-f225.google.com (mail-pg1-f225.google.com [209.85.215.225]) by mails.dpdk.org (Postfix) with ESMTP id 4FA26400D5 for ; Wed, 22 Oct 2025 12:39:06 +0200 (CEST) Received: by mail-pg1-f225.google.com with SMTP id 41be03b00d2f7-b55517e74e3so6794400a12.2 for ; Wed, 22 Oct 2025 03:39:05 -0700 (PDT) DKIM-Signature: v=1; a=rsa-sha256; c=relaxed/relaxed; d=iol.unh.edu; s=unh-iol; t=1761129545; x=1761734345; darn=dpdk.org; h=cc:to:from:subject:message-id:date:from:to:cc:subject:date :message-id:reply-to; bh=6eGPvhczCUd9kSTt+UYMht8g0Js2A+enOTdzKT1oZVA=; b=JMMLSZbrFzLSGEA+mEkigXzlPZl1Bl0fyueLzfnnPWnyVh94vPjUSvAKkszVZwAgU5 2LNxDbI8m9ZfTMTHK20lj+L4DOY0mFqa23i64SoCrQZbB6jXh+Pxfm7aDfJKXsD+/Rq7 +62QqpbtGtmfIq8OaQCqa570V+0RfzOUCCUYE= X-Google-DKIM-Signature: v=1; a=rsa-sha256; c=relaxed/relaxed; d=1e100.net; s=20230601; t=1761129545; x=1761734345; h=cc:to:from:subject:message-id:date:x-gm-message-state:from:to:cc :subject:date:message-id:reply-to; bh=6eGPvhczCUd9kSTt+UYMht8g0Js2A+enOTdzKT1oZVA=; b=q9Afd4xn5WuU0ZJMkJFXPX5bN1kG4+0RKOzqiFlfsOGiIuCJmnsUPAU2/6L6p5snPa KcyhwBs+lmBoSfVgc6VWYpekhqM26L0aMgL1PH/pjBJzqccmnuIwEStlPBMWrfHGREH0 h7EewbXBWfIvz29IQqlV0kEHtw5BTlpu98u2H2+7ZEPsjNKTWSkQI75lqWaZ9jRH0BQF /N+fZ0Zi+fw+iwH+hCARaH6w7ADvLUDTrKL87dl5chjvQ7EtehzLi3shRPnsZaT5A4ah aaA5CTae1hNzTCDUdp7UJEYMkGKOzLMq5a0OKMKfFBh2qo8bX5IYBve7YQBw3CxmKSTV lZBw== X-Gm-Message-State: AOJu0Ywt9LvBkUafhe6CwR4ymrcr54EriBGTRdz3y1nWuYC0Z71GN2pA 9XVpGuWkEFBDPbD5ay5LmIJegPs+6Zgwjz8LkSkBWvbn5i11dqLfHaI/nt5xC02v0iZa5Q20kXm VYGXpDOimEVIl4Khz3hXyLc2Ta0n9Wa5pS44fQwOIIF0J X-Gm-Gg: ASbGncuBE0P1qkP+GUjRKKi5LTe6ERp5ML0VXpO0MiYifBHPDeN1HOCnVO+VIjvhYGw O+cp9o2eCpZ+jvhiMs271/pir+u6JQyd7ZbGP5u/jcb9NfA9JBVc3v/7gwuUJ6TFgkuatqN975a 0sS2fprEcBiFZ7E2tJBIFJE9GcpKxms6NZXraHY9kQa7NYKr7P8NNeQxqTEvJbONtL8gGsQCd3d i+7M6Fajj+2PM2EtZMUGTwj3bEo51rAmFXvV6Oa7Z1yqcp+nZ34DLCQux9u4f516DVB5jwoWwE/ 8kcPbc7f4BjB0ncksWqcJ/hRz0l9SEsBNXTw4LlLdtOCRTcrdqaSTdcTmi9JYoE0W0vWt7zyuK3 GLk8q/HEdb2uMvTp4gkW3kw4+MBl/DyU= X-Google-Smtp-Source: AGHT+IEVjsuYW5ALRAHOuTeZhclIL8PrRuJwy3rJrfIcKI2mVsob9AWh0wQR/5GqCFNAgnKqMVOHLSHTZrxU X-Received: by 2002:a17:902:f610:b0:272:2bf1:6a21 with SMTP id d9443c01a7336-290c9ca72aamr285477715ad.14.1761129545106; Wed, 22 Oct 2025 03:39:05 -0700 (PDT) Received: from postal.iol.unh.edu (postal.iol.unh.edu. [132.177.123.84]) by smtp-relay.gmail.com with ESMTPS id d9443c01a7336-2924701589fsm14848675ad.19.2025.10.22.03.39.05 (version=TLS1_2 cipher=ECDHE-ECDSA-AES128-GCM-SHA256 bits=128/128); Wed, 22 Oct 2025 03:39:05 -0700 (PDT) X-Relaying-Domain: iol.unh.edu Date: Wed, 22 Oct 2025 03:39:05 -0700 (PDT) Message-ID: <68f8b449.170a0220.0329.52b3SMTPIN_ADDED_MISSING@mx.google.com> Received: from [172.21.0.2] (unknown [172.18.0.240]) by postal.iol.unh.edu (Postfix) with ESMTP id 562176051830; Wed, 22 Oct 2025 06:39:04 -0400 (EDT) Subject: |SUCCESS| [GIT MASTER] 0e381f61496b14349b03f95878399791d76519e4 From: dpdklab@iol.unh.edu To: Test Report Cc: dpdk-test-reports@iol.unh.edu, Stephen Hemminger Content-Type: text/plain X-BeenThere: test-report@dpdk.org X-Mailman-Version: 2.1.29 Precedence: list List-Id: automatic DPDK test reports List-Unsubscribe: , List-Archive: List-Post: List-Help: List-Subscribe: , Errors-To: test-report-bounces@dpdk.org _Testing PASS_ Branch: dpdk-next-net 0e381f61496b14349b03f95878399791d76519e4 --> testing pass Upstream job id: Generic-DPDK-Compile-Meson#436724 Test environment and result as below: +------------------------------+--------------------+ | Environment | dpdk_meson_compile | +==============================+====================+ | Ubuntu 20.04 | PASS | +------------------------------+--------------------+ | Red Hat Enterprise Linux 9.5 | PASS | +------------------------------+--------------------+ | Debian GNU/Linux 12 | PASS | +------------------------------+--------------------+ | CentOS Stream 9 | PASS | +------------------------------+--------------------+ | Fedora Linux 42 | PASS | +------------------------------+--------------------+ | Ubuntu 24.04 | PASS | +------------------------------+--------------------+ | Ubuntu 22.04 | PASS | +------------------------------+--------------------+ | CentOS Stream 10 | PASS | +------------------------------+--------------------+ Ubuntu 20.04 Kernel: 5.15 Compiler: clang gcc (Ubuntu 9.4.0-1ubuntu1~20.04.2) 9.4.0 Red Hat Enterprise Linux 9.5 Kernel: 5.4 Compiler: gcc gcc (GCC) 11.5.0 20240719 (Red Hat 11.5.0-2) Debian GNU/Linux 12 Kernel: 5.4 Compiler: gcc gcc (Debian 12.2.0-14+deb12u1) 12.2.0 CentOS Stream 9 Kernel: 5.4 Compiler: gcc gcc (GCC) 11.5.0 20240719 (Red Hat 11.5.0-11) Fedora Linux 42 Kernel: 5.4 Compiler: gcc gcc (GCC) 15.2.1 20250808 (Red Hat 15.2.1-1) Ubuntu 24.04 Kernel: 5.4 Compiler: gcc gcc (Ubuntu 13.3.0-6ubuntu2~24.04) 13.3.0 Ubuntu 22.04 Kernel: 5.4 Compiler: gcc gcc (Ubuntu 11.4.0-1ubuntu1~22.04) 11.4.0 CentOS Stream 10 Kernel: 5.4 Compiler: gcc gcc (GCC) 14.2.1 20250110 (Red Hat 14.2.1-8) To view detailed results, visit: https://lab.dpdk.org/results/dashboard/tarballs/35301/ UNH-IOL DPDK Community Lab To manage your email subscriptions, visit: https://lab.dpdk.org/results/dashboard/preferences/subscriptions/