From mboxrd@z Thu Jan 1 00:00:00 1970 Return-Path: Received: from mails.dpdk.org (mails.dpdk.org [217.70.189.124]) by inbox.dpdk.org (Postfix) with ESMTP id BAA4C489A8 for ; Wed, 22 Oct 2025 21:31:41 +0200 (CEST) Received: from mails.dpdk.org (localhost [127.0.0.1]) by mails.dpdk.org (Postfix) with ESMTP id B3DE04025E; Wed, 22 Oct 2025 21:31:41 +0200 (CEST) Received: from mail-io1-f97.google.com (mail-io1-f97.google.com [209.85.166.97]) by mails.dpdk.org (Postfix) with ESMTP id ACCD140262 for ; Wed, 22 Oct 2025 21:31:40 +0200 (CEST) Received: by mail-io1-f97.google.com with SMTP id ca18e2360f4ac-9379a062ca8so313514039f.2 for ; Wed, 22 Oct 2025 12:31:40 -0700 (PDT) DKIM-Signature: v=1; a=rsa-sha256; c=relaxed/relaxed; d=iol.unh.edu; s=unh-iol; t=1761161500; x=1761766300; darn=dpdk.org; h=references:in-reply-to:cc:to:from:subject:message-id:date:from:to :cc:subject:date:message-id:reply-to; bh=/kN/oQqJbYZ0mRlaM8oI32k965jZKmqcqFIVv5oOhWc=; b=ixJs8KLnAMVQPyGgNmJNsGWe2W1/V82+YG9+v8zLXG7PwcfaMpnwBOmUVMuuXikNpH mCh84Lzu2jMkGlk9Shf15iDSoicEaGZ5J6ktaBPO+Z8OFgJcjNH4fBkHo2keHRvBCyWJ vAsuVJuW/9YorKFX5niKU8Pp+oy02pgzmdXUw= X-Google-DKIM-Signature: v=1; a=rsa-sha256; c=relaxed/relaxed; d=1e100.net; s=20230601; t=1761161500; x=1761766300; h=references:in-reply-to:cc:to:from:subject:message-id:date :x-gm-message-state:from:to:cc:subject:date:message-id:reply-to; bh=/kN/oQqJbYZ0mRlaM8oI32k965jZKmqcqFIVv5oOhWc=; b=PfOeky4UYBEJcp7vyaKDR8BYzcLgUEOo8I/XwKHY/6En3F35IHNTDVqwvXXGxCiAq4 yPUi3NUKsUstyQTsznaps7bOw83413ffSs9iCttCjx54YOiIayANQG1+k46tGMPZ8jdd tdUIFsOsOdnvXwWw5PymfWhOE8vPV/AxqCcUnJNiUXCAlyc4MfDaQOvEtTIFUb+Bdr6z lDc66YNUIqRdZ9EuB+/nHefzGYwjp4oF1jEapQ/tpA/fqceJUz/xxITYQBjxeAHBI6Ya vHTSzjwiMrZtIeqmRcYj4Iism9zf23NC6mD2CEzBXM43V93k9p/SW2ylD8L935MUBG56 JCdA== X-Gm-Message-State: AOJu0YzS2mmFfTnosznbkY5043BGL7Ch9SOjVjBNiKrWgkOyuE1iTnIg 5dJCmE7lBzEchvHAlNES3Z/naYFHaFSMQhyPXT1ricYVnF4XsYNNzLoaVsm55dthc6z11fusddc q803C2sIjuERbz7Sol9P53SMjJyszZ4JYuudVgKWWUAFgrTLVxQCg68kp2W6J X-Gm-Gg: ASbGncsahiwxDPhoocaWqBeRY39jhiuf9DDwYb1Pqei3S1zHeY1WqSp6HyRJRan1GOC 375koIiQNdvemRRgkLipGEUu18vOqjjAFNxLwWLphmw21nQqrrPpE4ypeJDN1xTr7eYS+wECd/u mLiHh1RZWophcdni7RpUYtQ9ouN3rSus3atx0bHDHkBJpg8ILN2GnHuBDoS8ILO7FYGqk1vRkGL n2n8yH304ooWc+2kFGGeBselMzTFu1x+LYkrvbhWWrafghm6wn6AjhW7oKe7E/6dsyMATHKvO2N b9v7FvwegU/yxwKLHUdDHNynA0hoYhummhWU4dBd5sUVhKnPJT2Sexv6ea5HzEe5m5ji3A70Atd rUUguxgo8 X-Google-Smtp-Source: AGHT+IEgUQlwDPLz1LE3rkQFudSax3y0uRvQEbHHbhJ85CWiExanm7vNUIcL8TWbpYCVAq/Ja05CgIN2MkfQ X-Received: by 2002:a05:6602:485:b0:93e:8b7c:4a25 with SMTP id ca18e2360f4ac-93e8b7c4cc7mr2713710439f.18.1761161499967; Wed, 22 Oct 2025 12:31:39 -0700 (PDT) Received: from postal.iol.unh.edu (postal.iol.unh.edu. [2606:4100:3880:1234::84]) by smtp-relay.gmail.com with ESMTPS id 8926c6da1cb9f-5a8a9778ba1sm1559470173.36.2025.10.22.12.31.39 (version=TLS1_2 cipher=ECDHE-ECDSA-AES128-GCM-SHA256 bits=128/128); Wed, 22 Oct 2025 12:31:39 -0700 (PDT) X-Relaying-Domain: iol.unh.edu Date: Wed, 22 Oct 2025 12:31:39 -0700 (PDT) Message-ID: <68f9311b.050a0220.1dd793.8fd1SMTPIN_ADDED_MISSING@mx.google.com> Received: from [172.21.0.2] (unknown [172.18.0.240]) by postal.iol.unh.edu (Postfix) with ESMTP id 794176051830; Wed, 22 Oct 2025 15:31:39 -0400 (EDT) Subject: |SUCCESS| pw157990 [PATCH] [v2] net/vmxnet3: disable RSS for single From: dpdklab@iol.unh.edu To: Test Report Cc: dpdk-test-reports@iol.unh.edu, Stephen Hemminger In-Reply-To: <20251022155651.9818-1-amiyaranjan.mohakud@gmail.com> References: <20251022155651.9818-1-amiyaranjan.mohakud@gmail.com> Content-Type: text/plain X-BeenThere: test-report@dpdk.org X-Mailman-Version: 2.1.29 Precedence: list List-Id: automatic DPDK test reports List-Unsubscribe: , List-Archive: List-Post: List-Help: List-Subscribe: , Errors-To: test-report-bounces@dpdk.org Test-Label: iol-unit-amd64-testing Test-Status: SUCCESS http://dpdk.org/patch/157990 _Testing PASS_ Submitter: Amiya Ranjan Mohakud Date: Wednesday, October 22 2025 15:56:51 DPDK git baseline: Repo:dpdk-next-net Branch: master CommitID:4c4055bdd19f919795f83a01faae9fc267570d7f 157990 --> testing pass Upstream job id: Generic-Unit-Test-DPDK#384131 Test environment and result as below: +-------------------------------+----------------+ | Environment | dpdk_unit_test | +===============================+================+ | CentOS Stream 9 | PASS | +-------------------------------+----------------+ | Ubuntu 22.04 | PASS | +-------------------------------+----------------+ | Ubuntu 20.04 | PASS | +-------------------------------+----------------+ | Fedora Linux 40 | PASS | +-------------------------------+----------------+ | Debian GNU/Linux 12 | PASS | +-------------------------------+----------------+ | Fedora Linux 41 | PASS | +-------------------------------+----------------+ | Fedora Linux 42 | PASS | +-------------------------------+----------------+ | Red Hat Enterprise Linux 9.5 | PASS | +-------------------------------+----------------+ | Ubuntu 24.04 | PASS | +-------------------------------+----------------+ | Red Hat Enterprise Linux 8.10 | PASS | +-------------------------------+----------------+ | CentOS Stream 10 | PASS | +-------------------------------+----------------+ | Windows Server 2022 | PASS | +-------------------------------+----------------+ CentOS Stream 9 Kernel: 5.15 Compiler: gcc gcc (GCC) 11.5.0 20240719 (Red Hat 11.5.0-11) Ubuntu 22.04 Kernel: 5.15 Compiler: gcc gcc (Ubuntu 11.4.0-1ubuntu1~22.04) 11.4.0 Ubuntu 20.04 Kernel: 5.15 Compiler: gcc gcc (Ubuntu 9.4.0-1ubuntu1~20.04.2) 9.4.0 Fedora Linux 40 Kernel: 5.15 Compiler: clang gcc (GCC) 14.2.1 20240912 (Red Hat 14.2.1-3) Debian GNU/Linux 12 Kernel: 5.15 Compiler: gcc gcc (Debian 12.2.0-14+deb12u1) 12.2.0 Fedora Linux 41 Kernel: 5.15 Compiler: clang gcc (GCC) 14.3.1 20250523 (Red Hat 14.3.1-1) Fedora Linux 42 Kernel: 5.15 Compiler: clang gcc (GCC) 15.2.1 20250808 (Red Hat 15.2.1-1) Red Hat Enterprise Linux 9.5 Kernel: 5.15 Compiler: gcc gcc (GCC) 11.5.0 20240719 (Red Hat 11.5.0-2) Ubuntu 24.04 Kernel: 5.15 Compiler: gcc gcc (Ubuntu 13.3.0-6ubuntu2~24.04) 13.3.0 Red Hat Enterprise Linux 8.10 Kernel: 5.15 Compiler: gcc gcc (GCC) 8.5.0 20210514 (Red Hat 8.5.0-22) CentOS Stream 10 Kernel: 5.15 Compiler: gcc gcc (GCC) 14.2.1 20250110 (Red Hat 14.2.1-8) Windows Server 2022 Kernel: 10.0.20348.2031 Compiler: clang 15.0.7, gcc 14.1.0 (MinGW), and MSVC VS 19.39.33521 To view detailed results, visit: https://lab.dpdk.org/results/dashboard/patchsets/34342/ UNH-IOL DPDK Community Lab To manage your email subscriptions, visit: https://lab.dpdk.org/results/dashboard/preferences/subscriptions/