From mboxrd@z Thu Jan 1 00:00:00 1970 Return-Path: Received: from mails.dpdk.org (mails.dpdk.org [217.70.189.124]) by inbox.dpdk.org (Postfix) with ESMTP id D253A489A8 for ; Wed, 22 Oct 2025 21:53:44 +0200 (CEST) Received: from mails.dpdk.org (localhost [127.0.0.1]) by mails.dpdk.org (Postfix) with ESMTP id CD8064025E; Wed, 22 Oct 2025 21:53:44 +0200 (CEST) Received: from mail-pg1-f225.google.com (mail-pg1-f225.google.com [209.85.215.225]) by mails.dpdk.org (Postfix) with ESMTP id 26A5E4025E for ; Wed, 22 Oct 2025 21:53:44 +0200 (CEST) Received: by mail-pg1-f225.google.com with SMTP id 41be03b00d2f7-b593def09e3so4851938a12.2 for ; Wed, 22 Oct 2025 12:53:44 -0700 (PDT) DKIM-Signature: v=1; a=rsa-sha256; c=relaxed/relaxed; d=iol.unh.edu; s=unh-iol; t=1761162823; x=1761767623; darn=dpdk.org; h=references:in-reply-to:cc:to:from:subject:message-id:date:from:to :cc:subject:date:message-id:reply-to; bh=qishFbStA+4gspHd3r3PhNk7OS9BbnpOaE1LcedmLsA=; b=GF9KOqKG+W6+GssdK0PAmPqgztLlXti7DbgCyIcnDGZ7lb/tEnH/4OiwAdcMaw+436 LZ16eEU8MjtZWvQRqar9snkrHD43COsfHdi83W1V2LBYvlaAF/wgdi7UhLvDTm93lTS8 Pj/ObMb22E7hktdicFFKpHQcFLp6YDKEsPc2E= X-Google-DKIM-Signature: v=1; a=rsa-sha256; c=relaxed/relaxed; d=1e100.net; s=20230601; t=1761162823; x=1761767623; h=references:in-reply-to:cc:to:from:subject:message-id:date :x-gm-message-state:from:to:cc:subject:date:message-id:reply-to; bh=qishFbStA+4gspHd3r3PhNk7OS9BbnpOaE1LcedmLsA=; b=eGqTXqX7ZmCRcHNkc7jP35f3A72xtVXPMJ/FePyVROte3bKwQhDXgF9w918QhtJS/y aEK2/K8htkqUyOxfB5wd5Fq4g8bIiDx65IbAZCn7yb1n8G93whxurKwsAplLNK/BBTYL Rv57MVWwtT2dtiw8YjMNhqHPYvQeSJJkESzM7vtleTkGUUVJEWC0BhKFLCcEaHFbzoXF zfdh99+z0ja8yWTwGAP/B7Sn1Ru4T7xE9lVEy58tUvscExDVm81yhy+5/+8jsHpNytBw FWjguxf6y7A7pfw2pW5EUdcuXwrYOwO5/PLgT3B+Mgt+Jz1Yw3sN/VlySY4sQfnmzVB+ 2v0A== X-Gm-Message-State: AOJu0YwTqNxwoJj5pLCU65NaOvX5niI68HFVLwCH5JOE+hwavc1Yauzd hJFk60TFxJYkvmo2SqsID700OnFnZddQs67uP3FQ9ttmlp9qHboynmSykeLaSvXON3D4J7ogVsI wi9BryPpc/d/kbovfCOiuI2ppgsz56w1nmtXLEh9483bz X-Gm-Gg: ASbGncuM3M6ZePdhbGoMmq4TLLyYutp7/8aAXAfA167pVuwy8Bj7VCFNEQ8uVROIP93 TuXwLm2LogYI1MEbzJlMc1F6hm9C5g/R57mO/qVGj/rFq3s5jhkU94s5ZcJbARpqlqMLGBSkhpn 87aMBnqg4IZqORgsY5DhYJm5wAL4X9hcL7FENU9fISKR5A2/5hxXlEVx3ZksOSm/sqTJZOuncRq uD4VK69TkC3D01cCNm7Vtk3D6PPuryuBASn93NGtREq4JNyohW/xnibV31cwmhRuueteWvmlQhU lg9IZ7o6j/SprV/t5q3Zo8CBqs8hDjKFm6l4MhmxDFJX28Pi0BXtrAZfx5FciYmvw9uKKaPHIBN 6oUALevbOaPa81fVnvbhkqxRqfEF//jo= X-Google-Smtp-Source: AGHT+IEAOQPsaMfEnTXxhLuo+LDvNiLENmFmRSPeQ6oqCpuDno/9wZwfCd/IslIp1NppBrrS7DrXtBqI4xoN X-Received: by 2002:a17:902:e806:b0:290:5601:9d56 with SMTP id d9443c01a7336-290cb27af33mr288406405ad.46.1761162823239; Wed, 22 Oct 2025 12:53:43 -0700 (PDT) Received: from postal.iol.unh.edu (postal.iol.unh.edu. [132.177.123.84]) by smtp-relay.gmail.com with ESMTPS id d9443c01a7336-292471c6202sm16773915ad.45.2025.10.22.12.53.43 (version=TLS1_2 cipher=ECDHE-ECDSA-AES128-GCM-SHA256 bits=128/128); Wed, 22 Oct 2025 12:53:43 -0700 (PDT) X-Relaying-Domain: iol.unh.edu Date: Wed, 22 Oct 2025 12:53:43 -0700 (PDT) Message-ID: <68f93647.170a0220.2889b3.e198SMTPIN_ADDED_MISSING@mx.google.com> Received: from [172.21.0.7] (unknown [172.18.0.240]) by postal.iol.unh.edu (Postfix) with ESMTP id 7EA326051830; Wed, 22 Oct 2025 15:53:42 -0400 (EDT) Subject: |WARNING| pw157990 [PATCH] [v2] net/vmxnet3: disable RSS for single From: dpdklab@iol.unh.edu To: Test Report Cc: dpdk-test-reports@iol.unh.edu, Stephen Hemminger In-Reply-To: <20251022155651.9818-1-amiyaranjan.mohakud@gmail.com> References: <20251022155651.9818-1-amiyaranjan.mohakud@gmail.com> Content-Type: text/plain X-BeenThere: test-report@dpdk.org X-Mailman-Version: 2.1.29 Precedence: list List-Id: automatic DPDK test reports List-Unsubscribe: , List-Archive: List-Post: List-Help: List-Subscribe: , Errors-To: test-report-bounces@dpdk.org Test-Label: iol-compile-amd64-testing Test-Status: WARNING http://dpdk.org/patch/157990 _Testing issues_ Submitter: Amiya Ranjan Mohakud Date: Wednesday, October 22 2025 15:56:51 DPDK git baseline: Repo:dpdk-next-net Branch: master CommitID:4c4055bdd19f919795f83a01faae9fc267570d7f 157990 --> testing issues Upstream job id: Generic-DPDK-Compile-Meson#436737 Test environment and result as below: +-------------------------------+--------------------+------------------+-------------------+-------------------+-------------------------+----------------------+ | Environment | dpdk_meson_compile | dpdk_compile_ovs | dpdk_compile_spdk | dpdk_msvc_compile | dpdk_llvm_clang_compile | dpdk_mingw64_compile | +===============================+====================+==================+===================+===================+=========================+======================+ | Fedora Linux 42 | PASS | PASS | WARN | SKIPPED | SKIPPED | SKIPPED | +-------------------------------+--------------------+------------------+-------------------+-------------------+-------------------------+----------------------+ | CentOS Stream 9 | PASS | SKIPPED | WARN | SKIPPED | SKIPPED | SKIPPED | +-------------------------------+--------------------+------------------+-------------------+-------------------+-------------------------+----------------------+ | Ubuntu 20.04 | PASS | SKIPPED | SKIPPED | SKIPPED | SKIPPED | SKIPPED | +-------------------------------+--------------------+------------------+-------------------+-------------------+-------------------------+----------------------+ | Debian GNU/Linux 12 | PASS | SKIPPED | WARN | SKIPPED | SKIPPED | SKIPPED | +-------------------------------+--------------------+------------------+-------------------+-------------------+-------------------------+----------------------+ | Red Hat Enterprise Linux 8.10 | PASS | SKIPPED | SKIPPED | SKIPPED | SKIPPED | SKIPPED | +-------------------------------+--------------------+------------------+-------------------+-------------------+-------------------------+----------------------+ | Red Hat Enterprise Linux 9.5 | PASS | SKIPPED | SKIPPED | SKIPPED | SKIPPED | SKIPPED | +-------------------------------+--------------------+------------------+-------------------+-------------------+-------------------------+----------------------+ | CentOS Stream 10 | PASS | SKIPPED | SKIPPED | SKIPPED | SKIPPED | SKIPPED | +-------------------------------+--------------------+------------------+-------------------+-------------------+-------------------------+----------------------+ | openSUSE Leap 15.6 | PASS | SKIPPED | SKIPPED | SKIPPED | SKIPPED | SKIPPED | +-------------------------------+--------------------+------------------+-------------------+-------------------+-------------------------+----------------------+ | Ubuntu 22.04 | PASS | SKIPPED | WARN | SKIPPED | SKIPPED | SKIPPED | +-------------------------------+--------------------+------------------+-------------------+-------------------+-------------------------+----------------------+ | Alpine Linux 3.22.0 | PASS | SKIPPED | SKIPPED | SKIPPED | SKIPPED | SKIPPED | +-------------------------------+--------------------+------------------+-------------------+-------------------+-------------------------+----------------------+ | Ubuntu 24.04 | PASS | PASS | WARN | SKIPPED | SKIPPED | SKIPPED | +-------------------------------+--------------------+------------------+-------------------+-------------------+-------------------------+----------------------+ | FreeBSD 14.2 | PASS | SKIPPED | SKIPPED | SKIPPED | SKIPPED | SKIPPED | +-------------------------------+--------------------+------------------+-------------------+-------------------+-------------------------+----------------------+ | Windows Server 2022 | SKIPPED | SKIPPED | SKIPPED | PASS | PASS | PASS | +-------------------------------+--------------------+------------------+-------------------+-------------------+-------------------------+----------------------+ ==== 20 line log output for Ubuntu 24.04 (dpdk_compile_spdk): ==== --- Failed to get log output --- ==== End log output ==== Fedora Linux 42 Kernel: 5.15 Compiler: gcc gcc (GCC) 15.2.1 20250808 (Red Hat 15.2.1-1) CentOS Stream 9 Kernel: 5.15 Compiler: gcc gcc (GCC) 11.5.0 20240719 (Red Hat 11.5.0-11) Ubuntu 20.04 Kernel: 5.15 Compiler: gcc gcc (Ubuntu 9.4.0-1ubuntu1~20.04.2) 9.4.0 Debian GNU/Linux 12 Kernel: 5.15 Compiler: gcc gcc (Debian 12.2.0-14+deb12u1) 12.2.0 Red Hat Enterprise Linux 8.10 Kernel: 5.15 Compiler: gcc gcc (GCC) 8.5.0 20210514 (Red Hat 8.5.0-22) Red Hat Enterprise Linux 9.5 Kernel: 5.15 Compiler: gcc gcc (GCC) 11.5.0 20240719 (Red Hat 11.5.0-2) CentOS Stream 10 Kernel: 5.15 Compiler: gcc gcc (GCC) 14.2.1 20250110 (Red Hat 14.2.1-8) openSUSE Leap 15.6 Kernel: 5.15 Compiler: gcc gcc (SUSE Linux) 7.5.0 Ubuntu 22.04 Kernel: 5.15 Compiler: gcc gcc (Ubuntu 11.4.0-1ubuntu1~22.04) 11.4.0 Alpine Linux 3.22.0 Kernel: 5.15 Compiler: gcc gcc (Alpine 14.2.0) 14.2.0 Ubuntu 24.04 Kernel: 5.15 Compiler: gcc gcc (Ubuntu 13.3.0-6ubuntu2~24.04) 13.3.0 FreeBSD 14.2 Kernel: 14.2-RELEASE Compiler: clang 18.1.6 Windows Server 2022 Kernel: 10.0.20348.2031 Compiler: clang 15.0.7, gcc 14.1.0 (MinGW), and MSVC VS 19.39.33521 To view detailed results, visit: https://lab.dpdk.org/results/dashboard/patchsets/34342/ UNH-IOL DPDK Community Lab To manage your email subscriptions, visit: https://lab.dpdk.org/results/dashboard/preferences/subscriptions/