From mboxrd@z Thu Jan 1 00:00:00 1970 Return-Path: Received: from mails.dpdk.org (mails.dpdk.org [217.70.189.124]) by inbox.dpdk.org (Postfix) with ESMTP id BBF11489A9 for ; Wed, 22 Oct 2025 22:23:17 +0200 (CEST) Received: from mails.dpdk.org (localhost [127.0.0.1]) by mails.dpdk.org (Postfix) with ESMTP id 9940C4025E; Wed, 22 Oct 2025 22:23:17 +0200 (CEST) Received: from mail-il1-f226.google.com (mail-il1-f226.google.com [209.85.166.226]) by mails.dpdk.org (Postfix) with ESMTP id 4FDA74025E for ; Wed, 22 Oct 2025 22:23:16 +0200 (CEST) Received: by mail-il1-f226.google.com with SMTP id e9e14a558f8ab-430c180d829so428665ab.3 for ; Wed, 22 Oct 2025 13:23:16 -0700 (PDT) DKIM-Signature: v=1; a=rsa-sha256; c=relaxed/relaxed; d=iol.unh.edu; s=unh-iol; t=1761164595; x=1761769395; darn=dpdk.org; h=references:in-reply-to:cc:to:from:subject:message-id:date:from:to :cc:subject:date:message-id:reply-to; bh=I3fH99SOYwm5CorlINpt9jiyAsz65lxvtSeFXOksJZw=; b=E7COehL2RNbk1Zzaw3hVQrgaAhpz49vY0c6kbyfk0v3AOxmf2rg2vMczTzxM/W2fdP eCX41NQ5ywdPka0MUvtbRi5ougLndGm88u5MgiLF1snTMMwoXoYB0o6eiY+LEFSBU2w3 +QbDcvtKZ0b1eDcawDlOLtk4NfSYDJXU5PMCo= X-Google-DKIM-Signature: v=1; a=rsa-sha256; c=relaxed/relaxed; d=1e100.net; s=20230601; t=1761164595; x=1761769395; h=references:in-reply-to:cc:to:from:subject:message-id:date :x-gm-message-state:from:to:cc:subject:date:message-id:reply-to; bh=I3fH99SOYwm5CorlINpt9jiyAsz65lxvtSeFXOksJZw=; b=qIwMLc37wffh3Vk4ZSXKNhZ5RH6x6jIVk+e4cVN+3o0oW5cSJ6yI0vzIetqqrT5VGD L1JmlFIZJg+ECuUz1XKs7wgA/qQlC9iK04i28avuMeZHSsOnDBz0V+8S8CQvpKDwW/9k 5d4FsWo+8X7AcGIuTeXAqLVsOYupHNgIZ1XCvM1m8j+gbLqzART1OPYI0L0CDrCoN67o G29ZaTw8UBIkvHpuYa40S1Z3f+MspDMW68kDTxgl+5hqqvlmQRvalbgn0npwOS1Ac1i7 eafcwLmxSBQOfeId5Dxv259qEkunEB371oyV1kfQfJ7grHdyjWrv6AuBNEo33uMLrpE7 7YXw== X-Gm-Message-State: AOJu0YwPj0Dww31t4I039NdHwAibVYtUv8sOWm9x6KhVcy3gArePaOwH Tam3NZlPub94G7qOpQDGZrm1IiHn2MDnfqz9w5mWCpCMj9PQGM1IfgkP/kpycNIPCIgdWakhMmb 8eObVd6fmvy+vzgZYWWOpzSVfRmBmFRVmYmh77eNM2zQnJIcED9T9pAbhuwSM X-Gm-Gg: ASbGncsnjFnV2fkQzDH1IaZP9sEmQTiqE4u061MC7+10+cEkouq3xL8YO2WV+XjShHa iMU9qxmN1ewCXjO3avWBxGFJ51hT31bGyk01gcZ23zIkB9F6ahbUakZ1uiQXjwYoBpdofHM3qEY EQITjkKS/pGXqAtLxIbFYWg2KhyhPe3GSeTPlMU7Q4gTOhA5DqABSiStKmMd9TxU59Ww0/RQPBn h/UCvq4cSCmnDWUWpS4x8MMHIW14uK4eEXsPPsyJN9TxAwMTIRM9z+m8GfKJs2LWBPyl8ewMkLC Gtgvmw0nkLpbKR9zIh9elTXUDHrasw9fEYQI+UlnYLWjd8XqdlDix/Be2th5Q3apUO8jQMDertR gUxyAlKpM X-Google-Smtp-Source: AGHT+IG03y00RJEf8TvyJwKgw5ITzFdw7jHjGYK3tko1fiWXrJrTci3ai+dTSJgyqQWpqpc3FtGVW0XzuZ2u X-Received: by 2002:a05:6e02:1aaa:b0:430:b178:428a with SMTP id e9e14a558f8ab-430c52d7705mr302584395ab.22.1761164595602; Wed, 22 Oct 2025 13:23:15 -0700 (PDT) Received: from postal.iol.unh.edu (postal.iol.unh.edu. [2606:4100:3880:1234::84]) by smtp-relay.gmail.com with ESMTPS id e9e14a558f8ab-431dbbf4061sm214385ab.7.2025.10.22.13.23.15 (version=TLS1_2 cipher=ECDHE-ECDSA-AES128-GCM-SHA256 bits=128/128); Wed, 22 Oct 2025 13:23:15 -0700 (PDT) X-Relaying-Domain: iol.unh.edu Date: Wed, 22 Oct 2025 13:23:15 -0700 (PDT) Message-ID: <68f93d33.920a0220.30bc84.11efSMTPIN_ADDED_MISSING@mx.google.com> Received: from [172.21.0.2] (unknown [172.18.0.240]) by postal.iol.unh.edu (Postfix) with ESMTP id EF96B6051830; Wed, 22 Oct 2025 16:23:14 -0400 (EDT) Subject: |WARNING| pw157989 [PATCH] [v4] mbuf: optimize segment prefree From: dpdklab@iol.unh.edu To: Test Report Cc: dpdk-test-reports@iol.unh.edu In-Reply-To: <20251022144708.150069-1-mb@smartsharesystems.com> References: <20251022144708.150069-1-mb@smartsharesystems.com> Content-Type: text/plain X-BeenThere: test-report@dpdk.org X-Mailman-Version: 2.1.29 Precedence: list List-Id: automatic DPDK test reports List-Unsubscribe: , List-Archive: List-Post: List-Help: List-Subscribe: , Errors-To: test-report-bounces@dpdk.org Test-Label: iol-compile-amd64-testing Test-Status: WARNING http://dpdk.org/patch/157989 _Testing issues_ Submitter: Morten Brorup Date: Wednesday, October 22 2025 14:47:08 DPDK git baseline: Repo:dpdk Branch: master CommitID:255cb9a98a23a65d23881187a72547d072068345 157989 --> testing issues Upstream job id: Generic-DPDK-Compile-Meson#436770 Test environment and result as below: +-------------------------------+--------------------+-------------------+------------------+-------------------+-------------------------+----------------------+ | Environment | dpdk_meson_compile | dpdk_compile_spdk | dpdk_compile_ovs | dpdk_msvc_compile | dpdk_llvm_clang_compile | dpdk_mingw64_compile | +===============================+====================+===================+==================+===================+=========================+======================+ | CentOS Stream 9 | PASS | WARN | SKIPPED | SKIPPED | SKIPPED | SKIPPED | +-------------------------------+--------------------+-------------------+------------------+-------------------+-------------------------+----------------------+ | openSUSE Leap 15.6 | PASS | SKIPPED | SKIPPED | SKIPPED | SKIPPED | SKIPPED | +-------------------------------+--------------------+-------------------+------------------+-------------------+-------------------------+----------------------+ | Debian GNU/Linux 12 | PASS | WARN | SKIPPED | SKIPPED | SKIPPED | SKIPPED | +-------------------------------+--------------------+-------------------+------------------+-------------------+-------------------------+----------------------+ | Ubuntu 20.04 | PASS | SKIPPED | SKIPPED | SKIPPED | SKIPPED | SKIPPED | +-------------------------------+--------------------+-------------------+------------------+-------------------+-------------------------+----------------------+ | FreeBSD 14.2 | PASS | SKIPPED | SKIPPED | SKIPPED | SKIPPED | SKIPPED | +-------------------------------+--------------------+-------------------+------------------+-------------------+-------------------------+----------------------+ | CentOS Stream 10 | PASS | SKIPPED | SKIPPED | SKIPPED | SKIPPED | SKIPPED | +-------------------------------+--------------------+-------------------+------------------+-------------------+-------------------------+----------------------+ | Fedora Linux 42 | PASS | WARN | PASS | SKIPPED | SKIPPED | SKIPPED | +-------------------------------+--------------------+-------------------+------------------+-------------------+-------------------------+----------------------+ | Red Hat Enterprise Linux 8.10 | PASS | SKIPPED | SKIPPED | SKIPPED | SKIPPED | SKIPPED | +-------------------------------+--------------------+-------------------+------------------+-------------------+-------------------------+----------------------+ | Ubuntu 24.04 | PASS | WARN | PASS | SKIPPED | SKIPPED | SKIPPED | +-------------------------------+--------------------+-------------------+------------------+-------------------+-------------------------+----------------------+ | Red Hat Enterprise Linux 9.5 | PASS | SKIPPED | SKIPPED | SKIPPED | SKIPPED | SKIPPED | +-------------------------------+--------------------+-------------------+------------------+-------------------+-------------------------+----------------------+ | Alpine Linux 3.22.0 | PASS | SKIPPED | SKIPPED | SKIPPED | SKIPPED | SKIPPED | +-------------------------------+--------------------+-------------------+------------------+-------------------+-------------------------+----------------------+ | Ubuntu 22.04 | PASS | WARN | SKIPPED | SKIPPED | SKIPPED | SKIPPED | +-------------------------------+--------------------+-------------------+------------------+-------------------+-------------------------+----------------------+ | Windows Server 2022 | SKIPPED | SKIPPED | SKIPPED | PASS | PASS | PASS | +-------------------------------+--------------------+-------------------+------------------+-------------------+-------------------------+----------------------+ ==== 20 line log output for Ubuntu 22.04 (dpdk_compile_spdk): ==== --- Failed to get log output --- ==== End log output ==== CentOS Stream 9 Kernel: 5.15 Compiler: gcc gcc (GCC) 11.5.0 20240719 (Red Hat 11.5.0-11) openSUSE Leap 15.6 Kernel: 5.15 Compiler: gcc gcc (SUSE Linux) 7.5.0 Debian GNU/Linux 12 Kernel: 5.15 Compiler: gcc gcc (Debian 12.2.0-14+deb12u1) 12.2.0 Ubuntu 20.04 Kernel: 4.19 Compiler: gcc gcc (Ubuntu 9.4.0-1ubuntu1~20.04.2) 9.4.0 FreeBSD 14.2 Kernel: 14.2-RELEASE Compiler: clang 18.1.6 CentOS Stream 10 Kernel: 5.15 Compiler: gcc gcc (GCC) 14.2.1 20250110 (Red Hat 14.2.1-8) Fedora Linux 42 Kernel: 5.15 Compiler: clang gcc (GCC) 15.2.1 20250808 (Red Hat 15.2.1-1) Red Hat Enterprise Linux 8.10 Kernel: 5.15 Compiler: gcc gcc (GCC) 8.5.0 20210514 (Red Hat 8.5.0-22) Ubuntu 24.04 Kernel: 5.15 Compiler: gcc gcc (Ubuntu 13.3.0-6ubuntu2~24.04) 13.3.0 Red Hat Enterprise Linux 9.5 Kernel: 5.15 Compiler: gcc gcc (GCC) 11.5.0 20240719 (Red Hat 11.5.0-2) Alpine Linux 3.22.0 Kernel: 5.15 Compiler: gcc gcc (Alpine 14.2.0) 14.2.0 Ubuntu 22.04 Kernel: 5.15 Compiler: gcc gcc (Ubuntu 11.4.0-1ubuntu1~22.04) 11.4.0 Windows Server 2022 Kernel: 10.0.20348.2031 Compiler: clang 15.0.7, gcc 14.1.0 (MinGW), and MSVC VS 19.39.33521 To view detailed results, visit: https://lab.dpdk.org/results/dashboard/patchsets/34343/ UNH-IOL DPDK Community Lab To manage your email subscriptions, visit: https://lab.dpdk.org/results/dashboard/preferences/subscriptions/