From mboxrd@z Thu Jan 1 00:00:00 1970 Return-Path: Received: from mails.dpdk.org (mails.dpdk.org [217.70.189.124]) by inbox.dpdk.org (Postfix) with ESMTP id 408A8489A9 for ; Wed, 22 Oct 2025 22:28:46 +0200 (CEST) Received: from mails.dpdk.org (localhost [127.0.0.1]) by mails.dpdk.org (Postfix) with ESMTP id 1C0244025E; Wed, 22 Oct 2025 22:28:46 +0200 (CEST) Received: from mail-oa1-f97.google.com (mail-oa1-f97.google.com [209.85.160.97]) by mails.dpdk.org (Postfix) with ESMTP id 67FC04025E for ; Wed, 22 Oct 2025 22:28:44 +0200 (CEST) Received: by mail-oa1-f97.google.com with SMTP id 586e51a60fabf-35c80c1dc3fso27337fac.3 for ; Wed, 22 Oct 2025 13:28:44 -0700 (PDT) DKIM-Signature: v=1; a=rsa-sha256; c=relaxed/relaxed; d=iol.unh.edu; s=unh-iol; t=1761164923; x=1761769723; darn=dpdk.org; h=references:in-reply-to:cc:to:from:subject:message-id:date:from:to :cc:subject:date:message-id:reply-to; bh=q4Z6KhcPzdz5DnsrHW6NURMvtrHuRitGn6AiWehVSFM=; b=P/JS4AOfsADHgL4rkFLrNjdhQlIXiYGW2GG3D8gxLFUjJK8WahoB9g4QR9s3qtevpz YkCCayPY7ncFThOPxBM5QvjP8tDO2Nv6Pla7r9Jkj8eXJyW6OKMIBY9RGB4xKUk+0zwC ZiIxJBFsEyJXuuvRD4RphuJsB35iLUlz7gqhI= X-Google-DKIM-Signature: v=1; a=rsa-sha256; c=relaxed/relaxed; d=1e100.net; s=20230601; t=1761164923; x=1761769723; h=references:in-reply-to:cc:to:from:subject:message-id:date :x-gm-message-state:from:to:cc:subject:date:message-id:reply-to; bh=q4Z6KhcPzdz5DnsrHW6NURMvtrHuRitGn6AiWehVSFM=; b=WBMltzX26tGehezol8NOR9zy6ohFIwbMTWdIxkbh30zyGL/t0/mmLcNGhfVdkUU42O QdFz9FRY9+62cVpbCkExaHv6I6siIOWQJGPb996g27HfQ+N2f6eSjD6mxBCKF7Awmf8n 7YIGDE5Gb1jeI0ZH8EjOdA+t+HAia9dWeSN7qa4x6ebATq/H3yDD0fL4YJ4kE6vWI3Tz xwagiaT7yrZduVOXc5fo709cMJgbFgrdYSyTDyR6DVwaYMc1oWI3244AegETMOV19JQO WYUjfcJB5pz7Ju/EuaFXn8SSkU2W7lCewLsgKI+bBGAzla4AFRV8bTmYONDsc7gyL6mB fmrg== X-Gm-Message-State: AOJu0YyCoD83qU5TB5dC54+6xiq835oRFkIvitC017Mcu3fgIFhj17CL EWmFMIPyZDudzutNb3r2N4bR3+KpeusFj06gAFrThmuy8KjcfjZCQZDUNBGhUg6u6Qo9UuASoq9 hpRm94VxTWTrvK7Taxcv1Pr9I9OPp1mURjzC3uEb2Ux36 X-Gm-Gg: ASbGncvlAyWf2MZwXTXmo99pdkwJYrO/zhXRR6qk0ovGYeciYJ0t/C5Yw/0nj0sbK7F UIxltFe8RRYAaJngtZ6CC9pRW5vugBE1USEECEP/O9mngWqq9ErKg/FcAdZvYK32pM+F70xhUV6 qeu2WwdmVTdKc2IUKPyapS2+Nro58Raby9WU7BSyRYUjzSCXq2H1E7NocCCiOdSonhPeR7PkpeW n0t2f1KwiZIhUihK2RlTasufnieQUv5PcDzRdRcNP6RD6grk8Zby49w8bF0fy/wcUd2zf4yDfn9 S1SF8t9dXKVgnHeLjeYkLzsVTYG3UCPMZxsvs+K8Q7CQfrxKZCbXO+T1arv8bd/2XBukGp52QYj 1IevkNZf3xxqHR61rpXZJ6tm02Uhx4+U= X-Google-Smtp-Source: AGHT+IHpUeBKeFbGl8xVzy62SWen0ZcHQ3F2PfhcJuXB4iZ59u5svLO1pr48yhrvi03AToBAKgS2UWpk81FK X-Received: by 2002:a05:6870:9f05:b0:344:34e3:5143 with SMTP id 586e51a60fabf-3c98d0db2f4mr9082451fac.28.1761164923323; Wed, 22 Oct 2025 13:28:43 -0700 (PDT) Received: from postal.iol.unh.edu (postal.iol.unh.edu. [132.177.123.84]) by smtp-relay.gmail.com with ESMTPS id 586e51a60fabf-3cdc4bb5b4csm19885fac.4.2025.10.22.13.28.43 (version=TLS1_2 cipher=ECDHE-ECDSA-AES128-GCM-SHA256 bits=128/128); Wed, 22 Oct 2025 13:28:43 -0700 (PDT) X-Relaying-Domain: iol.unh.edu Date: Wed, 22 Oct 2025 13:28:43 -0700 (PDT) Message-ID: <68f93e7b.050a0220.2b5bb2.1324SMTPIN_ADDED_MISSING@mx.google.com> Received: from [172.21.0.2] (unknown [172.18.0.240]) by postal.iol.unh.edu (Postfix) with ESMTP id 5267D60003F4; Wed, 22 Oct 2025 16:28:42 -0400 (EDT) Subject: |SUCCESS| pw157989 [PATCH] [v4] mbuf: optimize segment prefree From: dpdklab@iol.unh.edu To: Test Report Cc: dpdk-test-reports@iol.unh.edu In-Reply-To: <20251022144708.150069-1-mb@smartsharesystems.com> References: <20251022144708.150069-1-mb@smartsharesystems.com> Content-Type: text/plain X-BeenThere: test-report@dpdk.org X-Mailman-Version: 2.1.29 Precedence: list List-Id: automatic DPDK test reports List-Unsubscribe: , List-Archive: List-Post: List-Help: List-Subscribe: , Errors-To: test-report-bounces@dpdk.org Test-Label: iol-unit-amd64-testing Test-Status: SUCCESS http://dpdk.org/patch/157989 _Testing PASS_ Submitter: Morten Brorup Date: Wednesday, October 22 2025 14:47:08 DPDK git baseline: Repo:dpdk Branch: master CommitID:255cb9a98a23a65d23881187a72547d072068345 157989 --> testing pass Upstream job id: Generic-Unit-Test-DPDK#384173 Test environment and result as below: +-------------------------------+----------------+ | Environment | dpdk_unit_test | +===============================+================+ | CentOS Stream 9 | PASS | +-------------------------------+----------------+ | Fedora Linux 40 | PASS | +-------------------------------+----------------+ | Debian GNU/Linux 12 | PASS | +-------------------------------+----------------+ | Red Hat Enterprise Linux 8.10 | PASS | +-------------------------------+----------------+ | Fedora Linux 42 | PASS | +-------------------------------+----------------+ | CentOS Stream 10 | PASS | +-------------------------------+----------------+ | Fedora Linux 41 | PASS | +-------------------------------+----------------+ | Ubuntu 22.04 | PASS | +-------------------------------+----------------+ | Ubuntu 20.04 | PASS | +-------------------------------+----------------+ | Red Hat Enterprise Linux 9.5 | PASS | +-------------------------------+----------------+ | Ubuntu 24.04 | PASS | +-------------------------------+----------------+ | Windows Server 2022 | PASS | +-------------------------------+----------------+ CentOS Stream 9 Kernel: 5.15 Compiler: gcc gcc (GCC) 11.5.0 20240719 (Red Hat 11.5.0-11) Fedora Linux 40 Kernel: 5.15 Compiler: gcc gcc (GCC) 14.2.1 20240912 (Red Hat 14.2.1-3) Debian GNU/Linux 12 Kernel: 5.15 Compiler: gcc gcc (Debian 12.2.0-14+deb12u1) 12.2.0 Red Hat Enterprise Linux 8.10 Kernel: 5.15 Compiler: gcc gcc (GCC) 8.5.0 20210514 (Red Hat 8.5.0-22) Fedora Linux 42 Kernel: 5.15 Compiler: gcc gcc (GCC) 15.2.1 20250808 (Red Hat 15.2.1-1) CentOS Stream 10 Kernel: 5.15 Compiler: gcc gcc (GCC) 14.2.1 20250110 (Red Hat 14.2.1-8) Fedora Linux 41 Kernel: 5.15 Compiler: clang gcc (GCC) 14.3.1 20250523 (Red Hat 14.3.1-1) Ubuntu 22.04 Kernel: 5.15 Compiler: gcc gcc (Ubuntu 11.4.0-1ubuntu1~22.04) 11.4.0 Ubuntu 20.04 Kernel: 5.15 Compiler: gcc gcc (Ubuntu 9.4.0-1ubuntu1~20.04.2) 9.4.0 Red Hat Enterprise Linux 9.5 Kernel: 5.15 Compiler: gcc gcc (GCC) 11.5.0 20240719 (Red Hat 11.5.0-2) Ubuntu 24.04 Kernel: 5.15 Compiler: gcc gcc (Ubuntu 13.3.0-6ubuntu2~24.04) 13.3.0 Windows Server 2022 Kernel: 10.0.20348.2031 Compiler: clang 15.0.7, gcc 14.1.0 (MinGW), and MSVC VS 19.39.33521 To view detailed results, visit: https://lab.dpdk.org/results/dashboard/patchsets/34343/ UNH-IOL DPDK Community Lab To manage your email subscriptions, visit: https://lab.dpdk.org/results/dashboard/preferences/subscriptions/