From mboxrd@z Thu Jan 1 00:00:00 1970 Return-Path: Received: from mails.dpdk.org (mails.dpdk.org [217.70.189.124]) by inbox.dpdk.org (Postfix) with ESMTP id 8C920489A9 for ; Thu, 23 Oct 2025 00:03:15 +0200 (CEST) Received: from mails.dpdk.org (localhost [127.0.0.1]) by mails.dpdk.org (Postfix) with ESMTP id 64FDC4025E; Thu, 23 Oct 2025 00:03:15 +0200 (CEST) Received: from mail-pl1-f227.google.com (mail-pl1-f227.google.com [209.85.214.227]) by mails.dpdk.org (Postfix) with ESMTP id 388884025E for ; Thu, 23 Oct 2025 00:03:13 +0200 (CEST) Received: by mail-pl1-f227.google.com with SMTP id d9443c01a7336-290cd62acc3so905495ad.2 for ; Wed, 22 Oct 2025 15:03:13 -0700 (PDT) DKIM-Signature: v=1; a=rsa-sha256; c=relaxed/relaxed; d=iol.unh.edu; s=unh-iol; t=1761170592; x=1761775392; darn=dpdk.org; h=references:in-reply-to:cc:to:from:subject:message-id:date:from:to :cc:subject:date:message-id:reply-to; bh=9USSTFnaTGypePpNWx5kF+zcib0YFrZL4G4fcvLFrGw=; b=av4XcTGWtlYTGM1S/mVyo5CmuvxrG8y6AqOugPj4CqGLKNA68ZEYLkppg0rSIlrVdz QBTWBiAFntKnJ5nQgqWOvD0LLuCbAHpLlfLt9Fl62CTW6nCNmd78IqaSbxuQ+aUiURKV K9G9l6dATH4xAcMuS40Yt0OiTLAKrsHEtwbWU= X-Google-DKIM-Signature: v=1; a=rsa-sha256; c=relaxed/relaxed; d=1e100.net; s=20230601; t=1761170592; x=1761775392; h=references:in-reply-to:cc:to:from:subject:message-id:date :x-gm-message-state:from:to:cc:subject:date:message-id:reply-to; bh=9USSTFnaTGypePpNWx5kF+zcib0YFrZL4G4fcvLFrGw=; b=QC24JH71MdQzrYmxMkLayJnxP023EYTy2JLTybbyqhIpEatRPNALTy6j0Dc38kseVu mpCRKOVl7tLK8WVQSeuHpI2fzxJe72mbtaOwKJ8JvT8IIV+4f6VcpOtgQoI2t4doCDq1 szhXC2cETgtNsnt24dMnjvi/sSB0uEcPGgaMwuAG6hEJ69879yckfxv8+e+niPWJgC0T ezo6H4pRmi5CWDM2Z6J0NFSuPF21FB5Kj+TNPDWy3GRxNcQLBYKcAg5rbR6UDPMR9sbn oAjPXtBTAyB4+/N0DJX7D6vvBwXs4Ie5acWIEoPQDcxVBt2HVktk8ZNw9IPg7qZhNtja 8YLA== X-Gm-Message-State: AOJu0YybnkdiIGtF/xjW9JvPj38GvK/YBPeCSgBAbXLILvE71hyfVleI Qp+WUketcADKpWTjOOQsuVMSNQnBJGnZ2UOW9mSxViZD+9gWCxGOsWtts4VwjtXq0ERV3V1lz07 iXRBbDMpFM/wa7lXWXAZaoK/EVTvtUDLY4cNAqqDhKxW4 X-Gm-Gg: ASbGncsGAbBZRyu31BeEv0IJgo8ZobtPNy5pw8KPty6eWJqj1VEqJ7oT5vnldtYb8QW YB0Jr5ex4wJNmJr9Ro0AO69Lc+6KzUoJlgiCtKYeopqtO7O9fE1n4vo2ZnnX7NJzdEZ0p5E5pGe 2ZkolMDihwTOY6tTR/m5QBhfQ0UhyqPxDc7rqnpjlus1DgSMff+KuFIZGB/8H9rv/UzMz3SYLj/ jSaS8q7z5jm4Miex2nORWO/vbjHQ/ZF29GrxXu7PJTCvpdjuStmj6bdrALp1Jn/k1SU0uTNoSNI 665/ca21x0AtUnTV2WblWaBE7QLgVghy2GWvmg0JAVgToqFhW/OezZdIU9xPcGM1zzv1moNTE74 ps9MnEAFvsdMWhTnQf7yHdqU6lRaZv1Q= X-Google-Smtp-Source: AGHT+IGdrjco2OjVhpzIM1CeQ1YvY0rdthic+K31ZGur5EqCf+d/g2Aguf7YMsB7GNy+AYKdN4Z7JcGgFSE0 X-Received: by 2002:a17:903:19f0:b0:269:6052:3536 with SMTP id d9443c01a7336-290cbc3e8b8mr255044295ad.45.1761170592044; Wed, 22 Oct 2025 15:03:12 -0700 (PDT) Received: from postal.iol.unh.edu (postal.iol.unh.edu. [132.177.123.84]) by smtp-relay.gmail.com with ESMTPS id d9443c01a7336-2946de03d93sm222355ad.29.2025.10.22.15.03.11 (version=TLS1_2 cipher=ECDHE-ECDSA-AES128-GCM-SHA256 bits=128/128); Wed, 22 Oct 2025 15:03:12 -0700 (PDT) X-Relaying-Domain: iol.unh.edu Date: Wed, 22 Oct 2025 15:03:12 -0700 (PDT) Message-ID: <68f954a0.170a0220.3988f8.119eSMTPIN_ADDED_MISSING@mx.google.com> Received: from [172.21.0.2] (unknown [172.18.0.240]) by postal.iol.unh.edu (Postfix) with ESMTP id DA7C460003F4; Wed, 22 Oct 2025 18:03:10 -0400 (EDT) Subject: |SUCCESS| pw157990 [PATCH] [v2] net/vmxnet3: disable RSS for single From: dpdklab@iol.unh.edu To: Test Report Cc: dpdk-test-reports@iol.unh.edu, Stephen Hemminger In-Reply-To: <20251022155651.9818-1-amiyaranjan.mohakud@gmail.com> References: <20251022155651.9818-1-amiyaranjan.mohakud@gmail.com> Content-Type: text/plain X-BeenThere: test-report@dpdk.org X-Mailman-Version: 2.1.29 Precedence: list List-Id: automatic DPDK test reports List-Unsubscribe: , List-Archive: List-Post: List-Help: List-Subscribe: , Errors-To: test-report-bounces@dpdk.org Test-Label: iol-unit-arm64-testing Test-Status: SUCCESS http://dpdk.org/patch/157990 _Testing PASS_ Submitter: Amiya Ranjan Mohakud Date: Wednesday, October 22 2025 15:56:51 DPDK git baseline: Repo:dpdk-next-net Branch: master CommitID:4c4055bdd19f919795f83a01faae9fc267570d7f 157990 --> testing pass Upstream job id: Generic-Unit-Test-DPDK#384150 Test environment and result as below: +------------------------------+----------------+--------------+---------------------------+------------------------------+ | Environment | dpdk_unit_test | lpm_autotest | cryptodev_sw_zuc_autotest | cryptodev_sw_snow3g_autotest | +==============================+================+==============+===========================+==============================+ | CentOS Stream 9 | PASS | SKIPPED | SKIPPED | SKIPPED | +------------------------------+----------------+--------------+---------------------------+------------------------------+ | CentOS Stream 10 | PASS | SKIPPED | SKIPPED | SKIPPED | +------------------------------+----------------+--------------+---------------------------+------------------------------+ | Ubuntu 24.04 | PASS | SKIPPED | SKIPPED | SKIPPED | +------------------------------+----------------+--------------+---------------------------+------------------------------+ | Red Hat Enterprise Linux 9.5 | PASS | SKIPPED | SKIPPED | SKIPPED | +------------------------------+----------------+--------------+---------------------------+------------------------------+ | Debian GNU/Linux 12 | PASS | SKIPPED | SKIPPED | SKIPPED | +------------------------------+----------------+--------------+---------------------------+------------------------------+ | Fedora Linux 42 | PASS | SKIPPED | SKIPPED | SKIPPED | +------------------------------+----------------+--------------+---------------------------+------------------------------+ | Fedora Linux 41 | PASS | SKIPPED | SKIPPED | SKIPPED | +------------------------------+----------------+--------------+---------------------------+------------------------------+ | Fedora Linux 40 | PASS | SKIPPED | SKIPPED | SKIPPED | +------------------------------+----------------+--------------+---------------------------+------------------------------+ | Ubuntu 20.04 | PASS | PASS | SKIPPED | SKIPPED | +------------------------------+----------------+--------------+---------------------------+------------------------------+ | Ubuntu 22.04 | PASS | SKIPPED | SKIPPED | SKIPPED | +------------------------------+----------------+--------------+---------------------------+------------------------------+ | Debian 12 (arm) | SKIPPED | SKIPPED | PASS | PASS | +------------------------------+----------------+--------------+---------------------------+------------------------------+ CentOS Stream 9 Kernel: 5.4 Compiler: gcc gcc (GCC) 11.5.0 20240719 (Red Hat 11.5.0-11) CentOS Stream 10 Kernel: 5.4 Compiler: gcc gcc (GCC) 14.2.1 20250110 (Red Hat 14.2.1-8) Ubuntu 24.04 Kernel: 5.4 Compiler: gcc gcc (Ubuntu 13.3.0-6ubuntu2~24.04) 13.3.0 Red Hat Enterprise Linux 9.5 Kernel: 5.4 Compiler: gcc gcc (GCC) 11.5.0 20240719 (Red Hat 11.5.0-2) Debian GNU/Linux 12 Kernel: 5.4 Compiler: gcc gcc (Debian 12.2.0-14+deb12u1) 12.2.0 Fedora Linux 42 Kernel: 5.4 Compiler: clang gcc (GCC) 15.2.1 20250808 (Red Hat 15.2.1-1) Fedora Linux 41 Kernel: 5.4 Compiler: clang gcc (GCC) 14.3.1 20250523 (Red Hat 14.3.1-1) Fedora Linux 40 Kernel: 5.4 Compiler: gcc gcc (GCC) 14.2.1 20240912 (Red Hat 14.2.1-3) Ubuntu 20.04 Kernel: 5.4 Compiler: gcc gcc (Ubuntu 9.4.0-1ubuntu1~20.04.2) 9.4.0 Ubuntu 22.04 Kernel: 5.4 Compiler: gcc gcc (Ubuntu 11.4.0-1ubuntu1~22.04) 11.4.0 Debian 12 (arm) Kernel: Depends on container host Compiler: gcc (Debian 12.2.0-14) 12.2.0 To view detailed results, visit: https://lab.dpdk.org/results/dashboard/patchsets/34342/ UNH-IOL DPDK Community Lab To manage your email subscriptions, visit: https://lab.dpdk.org/results/dashboard/preferences/subscriptions/