From mboxrd@z Thu Jan 1 00:00:00 1970 Return-Path: Received: from mails.dpdk.org (mails.dpdk.org [217.70.189.124]) by inbox.dpdk.org (Postfix) with ESMTP id EF985489A9 for ; Thu, 23 Oct 2025 00:07:47 +0200 (CEST) Received: from mails.dpdk.org (localhost [127.0.0.1]) by mails.dpdk.org (Postfix) with ESMTP id CCB194025E; Thu, 23 Oct 2025 00:07:47 +0200 (CEST) Received: from mail-il1-f228.google.com (mail-il1-f228.google.com [209.85.166.228]) by mails.dpdk.org (Postfix) with ESMTP id 5B14A4025E for ; Thu, 23 Oct 2025 00:07:47 +0200 (CEST) Received: by mail-il1-f228.google.com with SMTP id e9e14a558f8ab-430ca4647c7so963965ab.3 for ; Wed, 22 Oct 2025 15:07:47 -0700 (PDT) DKIM-Signature: v=1; a=rsa-sha256; c=relaxed/relaxed; d=iol.unh.edu; s=unh-iol; t=1761170866; x=1761775666; darn=dpdk.org; h=references:in-reply-to:cc:to:from:subject:message-id:date:from:to :cc:subject:date:message-id:reply-to; bh=YvaQjosNBdrWG9LAtAUlwDXDqwDhYKpftIPY2+0N/yE=; b=PTpQoVlhyDFTv9OXqICigIK5ymPKPUyJglcOD7r/5CzNF12+yOIIg1/3OvwzNNou19 qvmUG8FVBzx4ugonlxt67h0Euxp9R8tbDTrHJn/lJsxzF3f2r2whkieqaEgi6ifdcrRv jrltLpexDBcHKMNYDTH1f9nx4Om59CX2eAlhA= X-Google-DKIM-Signature: v=1; a=rsa-sha256; c=relaxed/relaxed; d=1e100.net; s=20230601; t=1761170866; x=1761775666; h=references:in-reply-to:cc:to:from:subject:message-id:date :x-gm-message-state:from:to:cc:subject:date:message-id:reply-to; bh=YvaQjosNBdrWG9LAtAUlwDXDqwDhYKpftIPY2+0N/yE=; b=bQ70deKlkongSmKCP4IZkjTaswLQWiBr5+oglQ531TNPH6eZFVv1YmZToQabTyErkx bMJTstTyXGKmYV0s82HILWLaCEaV5TWqGrbNUHGIqRy7D+aesBPLYhCaXi+Vu7JD320L mjAg0uEKYTO6YZKTVgR/aXBq7m3gWLtOaLJKkOpAMj5luYuP9CFlPkH/xR4VMON8oHa3 BQQ+aWf91zeqFqqxZgKicq8LzPlaok18BiO4Rv/oWMVCt9cJnAnp7ffXOvKj9J27yXdC 5wzBRe9LaReUb7wSC+eDlSYE4QK2qxkJsnubMxthi9nKMR50f5N/Uw0DawVARvi6lOBJ DhFA== X-Gm-Message-State: AOJu0YwkbUnOfSq7v6wlxcH9aYLZdpdd5yvESdJoII5fVTrccnOdnqgG cp2/YVNxuEudM+Q0lz7Do8nJqtkR98uhUPUW+VNtobOQGYm56x2QCG4On51L2Q7EmXVcGtvZSMg SakoMixK8SLiW8X7uOn/bQnbAvb01LjwCzYuAWPP73u/A3qZWYY8HGMJRWMvq X-Gm-Gg: ASbGncskebAq9gPpScUw/H4lz1yVUlwKucgouAvPqdPxlEl7ToyQZ2KKZFJ+4CSPqTq QRmfb+yePpgkzZraxKjZC8uf0p3iGUb+EQqZrgpPN4aSnhVo3ogiKljPpdlAjLGNz7Ab+RDsXLI DlarHsD+RpDkDGL2T7sV+LCqz8pEhv8wswCbnsk9YrZAqa33VXMV4SRhSfpuRZshOJkNIEPWS9r zvgt37WLWes4MECPyn6TlzRDxXLMU1Q/GW6x3YeSwDnW47VQLY1yyVI+GtAhEfnY0W+n/jr+8Lt cySkVtFiNXCYor6UlJzQucDc+P8kWHDotIjTDcAicUI5EP894gdu2wqyAGfsVcgdbcJaXSpcF6T AAlMYC3jG X-Google-Smtp-Source: AGHT+IFKgoQVu6iAS3H9E+ZNISg5oW0TNNQo/D8LLsGtgImSR0cqBoDPzRTiQ0VHKR8XLe8YR3yMyjMTBfiX X-Received: by 2002:a05:6e02:190c:b0:42f:9eb7:759b with SMTP id e9e14a558f8ab-430c5306894mr299214865ab.28.1761170866450; Wed, 22 Oct 2025 15:07:46 -0700 (PDT) Received: from postal.iol.unh.edu (postal.iol.unh.edu. [2606:4100:3880:1234::84]) by smtp-relay.gmail.com with ESMTPS id 8926c6da1cb9f-5abb4a51575sm21037173.6.2025.10.22.15.07.46 (version=TLS1_2 cipher=ECDHE-ECDSA-AES128-GCM-SHA256 bits=128/128); Wed, 22 Oct 2025 15:07:46 -0700 (PDT) X-Relaying-Domain: iol.unh.edu Date: Wed, 22 Oct 2025 15:07:46 -0700 (PDT) Message-ID: <68f955b2.050a0220.18683.10e4SMTPIN_ADDED_MISSING@mx.google.com> Received: from [172.21.0.2] (unknown [172.18.0.240]) by postal.iol.unh.edu (Postfix) with ESMTP id 138256051830; Wed, 22 Oct 2025 18:07:46 -0400 (EDT) Subject: |SUCCESS| pw157990 [PATCH] [v2] net/vmxnet3: disable RSS for single From: dpdklab@iol.unh.edu To: Test Report Cc: dpdk-test-reports@iol.unh.edu, Stephen Hemminger In-Reply-To: <20251022155651.9818-1-amiyaranjan.mohakud@gmail.com> References: <20251022155651.9818-1-amiyaranjan.mohakud@gmail.com> Content-Type: text/plain X-BeenThere: test-report@dpdk.org X-Mailman-Version: 2.1.29 Precedence: list List-Id: automatic DPDK test reports List-Unsubscribe: , List-Archive: List-Post: List-Help: List-Subscribe: , Errors-To: test-report-bounces@dpdk.org Test-Label: iol-compile-arm64-testing Test-Status: SUCCESS http://dpdk.org/patch/157990 _Testing PASS_ Submitter: Amiya Ranjan Mohakud Date: Wednesday, October 22 2025 15:56:51 DPDK git baseline: Repo:dpdk-next-net Branch: master CommitID:4c4055bdd19f919795f83a01faae9fc267570d7f 157990 --> testing pass Upstream job id: Generic-DPDK-Compile-Meson#436751 Test environment and result as below: +------------------------------+--------------------+ | Environment | dpdk_meson_compile | +==============================+====================+ | Ubuntu 20.04 | PASS | +------------------------------+--------------------+ | Debian GNU/Linux 12 | PASS | +------------------------------+--------------------+ | Fedora Linux 42 | PASS | +------------------------------+--------------------+ | Red Hat Enterprise Linux 9.5 | PASS | +------------------------------+--------------------+ | CentOS Stream 10 | PASS | +------------------------------+--------------------+ | Ubuntu 22.04 | PASS | +------------------------------+--------------------+ | Ubuntu 24.04 | PASS | +------------------------------+--------------------+ | CentOS Stream 9 | PASS | +------------------------------+--------------------+ Ubuntu 20.04 Kernel: 5.4 Compiler: gcc gcc (Ubuntu 9.4.0-1ubuntu1~20.04.2) 9.4.0 Debian GNU/Linux 12 Kernel: 5.4 Compiler: gcc gcc (Debian 12.2.0-14+deb12u1) 12.2.0 Fedora Linux 42 Kernel: 5.4 Compiler: gcc gcc (GCC) 15.2.1 20250808 (Red Hat 15.2.1-1) Red Hat Enterprise Linux 9.5 Kernel: 5.4 Compiler: gcc gcc (GCC) 11.5.0 20240719 (Red Hat 11.5.0-2) CentOS Stream 10 Kernel: 5.4 Compiler: gcc gcc (GCC) 14.2.1 20250110 (Red Hat 14.2.1-8) Ubuntu 22.04 Kernel: 5.4 Compiler: gcc gcc (Ubuntu 11.4.0-1ubuntu1~22.04) 11.4.0 Ubuntu 24.04 Kernel: 5.4 Compiler: gcc gcc (Ubuntu 13.3.0-6ubuntu2~24.04) 13.3.0 CentOS Stream 9 Kernel: 5.4 Compiler: gcc gcc (GCC) 11.5.0 20240719 (Red Hat 11.5.0-11) To view detailed results, visit: https://lab.dpdk.org/results/dashboard/patchsets/34342/ UNH-IOL DPDK Community Lab To manage your email subscriptions, visit: https://lab.dpdk.org/results/dashboard/preferences/subscriptions/