From mboxrd@z Thu Jan 1 00:00:00 1970 Return-Path: Received: from mails.dpdk.org (mails.dpdk.org [217.70.189.124]) by inbox.dpdk.org (Postfix) with ESMTP id 00CA2489AA for ; Thu, 23 Oct 2025 03:36:29 +0200 (CEST) Received: from mails.dpdk.org (localhost [127.0.0.1]) by mails.dpdk.org (Postfix) with ESMTP id EFE43400D6; Thu, 23 Oct 2025 03:36:28 +0200 (CEST) Received: from mail-io1-f98.google.com (mail-io1-f98.google.com [209.85.166.98]) by mails.dpdk.org (Postfix) with ESMTP id 704AD400D6 for ; Thu, 23 Oct 2025 03:36:28 +0200 (CEST) Received: by mail-io1-f98.google.com with SMTP id ca18e2360f4ac-93e2d42d9b4so8537939f.2 for ; Wed, 22 Oct 2025 18:36:28 -0700 (PDT) DKIM-Signature: v=1; a=rsa-sha256; c=relaxed/relaxed; d=iol.unh.edu; s=unh-iol; t=1761183388; x=1761788188; darn=dpdk.org; h=cc:to:from:subject:message-id:date:from:to:cc:subject:date :message-id:reply-to; bh=r4asK4EN6wsvKwYunMjGMlfN4m0I8grvU0RA17Y0XdQ=; b=KEFC+ruMcDqZDGmbmS7w0PaV55YKtD4TvlB2YuyUqbAV2MUEqfoBMu3KDfBiayudJq 1oLeI7crBcBoRnOGq9d0hAtYp3zrM1AXViAq0Qtv9uXRVXARSkyFrCxClwAms1QiqHch IR6BaRuND+RsXuub0y0ZhmMM4VSVRj1c9N6dg= X-Google-DKIM-Signature: v=1; a=rsa-sha256; c=relaxed/relaxed; d=1e100.net; s=20230601; t=1761183388; x=1761788188; h=cc:to:from:subject:message-id:date:x-gm-message-state:from:to:cc :subject:date:message-id:reply-to; bh=r4asK4EN6wsvKwYunMjGMlfN4m0I8grvU0RA17Y0XdQ=; b=LGCXvknzK7COy9vigfz/B9DneZ8YpkIzcpXl6iRQasw51e5AVf/3Yg6CYjyuOYhvVh cgtf2cM8+xnuBC3Wa4mbmY0oLj+8/W46c/AizpfFsqDX5QZ3reWChRW9IhDXs1oiMMcU OkcutjMi4tYMmB+UHTGvoZ8I6wGtaBMl6Mf7T4XCUUeOQSnsH84cmr8ivFtfa30Hkgh0 mavPruGgjTDIIA06kfHJMW5rAy4amgoHLUgL680DW5AquPqT4o4NIlyr6E975Vb9E4xN rH3jepDlJeEuoghD93dIrUwuRRvPH8axJDfrIGHoplRlSAaPP9GinTmTkUHKRDHmnXal DozA== X-Gm-Message-State: AOJu0YzZRd5BaZYcP2LN7q/ZxtTkAVsVTU0lFN5yrwt6CcDtg5lvbRb5 6fkpnwErUSMLAhUESjAdA3qjjXORZXSj7dDd5RfJFWdZHnSYWYCooxjds9NdjZZmhfhC54v+pVy jzo301AFZFk3Z/4iusAaNEx4ltyTptFzRhC+5 X-Gm-Gg: ASbGnctI0PgrufPNZiMAUxn1xGrSZhdt9qhEX9SyWk3VVWCOLpHSou0J/M7Limw6vFn NqbXQeSZ37SPjgG/FPeG7C4edhFrK93n7n52wtSxRDNerpWYIFK3e0buIsX0mPVAH+ZT+RVjvKa CaqkJXTOQGSmd3eY4Xsw4P7nfX6dw+jsEbNIB5X2CoKImd3YVYxY8IcVYnS5D9Rck5CZl5BDFIk 6relv1YckMC3eDtHBwdRZ6tDv+GSs3OkoGxh8NWjqOTwinO4T1EotK9dglHdTeF9BokTWTFD2m9 y0TP26+3uADa0PRnyGK+fGJHNwVxf0kgpo0q4OzgHLt8w1H4Tt3B1e2or4RT3bigANC0pBb4qsQ cBTM4+nEd6PKapQp/HU2U0tP+zvqglaw= X-Google-Smtp-Source: AGHT+IGk1sSOmAKpm7JS4PvtA8yhx+rw+YPN1t1EkSGkwaHKjiqc0AOofZr+Urhjc8IhN015WQw1fdvlaBQE X-Received: by 2002:a05:6602:6c06:b0:887:732f:6a96 with SMTP id ca18e2360f4ac-93e7646c8d4mr3349203839f.17.1761183387650; Wed, 22 Oct 2025 18:36:27 -0700 (PDT) Received: from postal.iol.unh.edu (postal.iol.unh.edu. [132.177.123.84]) by smtp-relay.gmail.com with ESMTPS id 8926c6da1cb9f-5abb4a4ec6esm48095173.7.2025.10.22.18.36.27 (version=TLS1_2 cipher=ECDHE-ECDSA-AES128-GCM-SHA256 bits=128/128); Wed, 22 Oct 2025 18:36:27 -0700 (PDT) X-Relaying-Domain: iol.unh.edu Date: Wed, 22 Oct 2025 18:36:27 -0700 (PDT) Message-ID: <68f9869b.050a0220.954f7.2774SMTPIN_ADDED_MISSING@mx.google.com> Received: from [172.21.0.2] (unknown [172.18.0.240]) by postal.iol.unh.edu (Postfix) with ESMTP id 253266051830; Wed, 22 Oct 2025 21:36:27 -0400 (EDT) Subject: |SUCCESS| [GIT MASTER] 07310b65d3aadc34a04066579860880149e1d8f7 From: dpdklab@iol.unh.edu To: Test Report Cc: dpdk-test-reports@iol.unh.edu, Ajit Khaparde Content-Type: text/plain X-BeenThere: test-report@dpdk.org X-Mailman-Version: 2.1.29 Precedence: list List-Id: automatic DPDK test reports List-Unsubscribe: , List-Archive: List-Post: List-Help: List-Subscribe: , Errors-To: test-report-bounces@dpdk.org _Testing PASS_ Branch: next-net-brcm-for-next-net 07310b65d3aadc34a04066579860880149e1d8f7 --> testing pass Upstream job id: Generic-Unit-Test-DPDK#384189 Test environment and result as below: +-------------------------------+----------------+ | Environment | dpdk_unit_test | +===============================+================+ | Fedora Linux 41 | PASS | +-------------------------------+----------------+ | Red Hat Enterprise Linux 9.5 | PASS | +-------------------------------+----------------+ | Ubuntu 20.04 | PASS | +-------------------------------+----------------+ | Fedora Linux 40 | PASS | +-------------------------------+----------------+ | Red Hat Enterprise Linux 8.10 | PASS | +-------------------------------+----------------+ | Fedora Linux 42 | PASS | +-------------------------------+----------------+ | Debian GNU/Linux 12 | PASS | +-------------------------------+----------------+ | Ubuntu 22.04 | PASS | +-------------------------------+----------------+ | Ubuntu 24.04 | PASS | +-------------------------------+----------------+ | CentOS Stream 9 | PASS | +-------------------------------+----------------+ | CentOS Stream 10 | PASS | +-------------------------------+----------------+ | Windows Server 2022 | PASS | +-------------------------------+----------------+ Fedora Linux 41 Kernel: 5.15 Compiler: gcc gcc (GCC) 14.3.1 20250523 (Red Hat 14.3.1-1) Red Hat Enterprise Linux 9.5 Kernel: 5.15 Compiler: gcc gcc (GCC) 11.5.0 20240719 (Red Hat 11.5.0-2) Ubuntu 20.04 Kernel: 5.15 Compiler: gcc gcc (Ubuntu 9.4.0-1ubuntu1~20.04.2) 9.4.0 Fedora Linux 40 Kernel: 5.15 Compiler: gcc gcc (GCC) 14.2.1 20240912 (Red Hat 14.2.1-3) Red Hat Enterprise Linux 8.10 Kernel: 5.15 Compiler: gcc gcc (GCC) 8.5.0 20210514 (Red Hat 8.5.0-22) Fedora Linux 42 Kernel: 5.15 Compiler: clang gcc (GCC) 15.2.1 20250808 (Red Hat 15.2.1-1) Debian GNU/Linux 12 Kernel: 5.15 Compiler: gcc gcc (Debian 12.2.0-14+deb12u1) 12.2.0 Ubuntu 22.04 Kernel: 5.15 Compiler: gcc gcc (Ubuntu 11.4.0-1ubuntu1~22.04) 11.4.0 Ubuntu 24.04 Kernel: 5.15 Compiler: gcc gcc (Ubuntu 13.3.0-6ubuntu2~24.04) 13.3.0 CentOS Stream 9 Kernel: 5.15 Compiler: gcc gcc (GCC) 11.5.0 20240719 (Red Hat 11.5.0-11) CentOS Stream 10 Kernel: 5.15 Compiler: gcc gcc (GCC) 14.2.1 20250110 (Red Hat 14.2.1-8) Windows Server 2022 Kernel: 10.0.20348.2031 Compiler: clang 15.0.7, gcc 14.1.0 (MinGW), and MSVC VS 19.39.33521 To view detailed results, visit: https://lab.dpdk.org/results/dashboard/tarballs/35304/ UNH-IOL DPDK Community Lab To manage your email subscriptions, visit: https://lab.dpdk.org/results/dashboard/preferences/subscriptions/