From mboxrd@z Thu Jan 1 00:00:00 1970 Return-Path: Received: from mails.dpdk.org (mails.dpdk.org [217.70.189.124]) by inbox.dpdk.org (Postfix) with ESMTP id 0E373489AA for ; Thu, 23 Oct 2025 03:36:51 +0200 (CEST) Received: from mails.dpdk.org (localhost [127.0.0.1]) by mails.dpdk.org (Postfix) with ESMTP id 09B3D400D6; Thu, 23 Oct 2025 03:36:51 +0200 (CEST) Received: from mail-pl1-f228.google.com (mail-pl1-f228.google.com [209.85.214.228]) by mails.dpdk.org (Postfix) with ESMTP id 893AD400D6 for ; Thu, 23 Oct 2025 03:36:50 +0200 (CEST) Received: by mail-pl1-f228.google.com with SMTP id d9443c01a7336-290deb0e643so2221305ad.2 for ; Wed, 22 Oct 2025 18:36:50 -0700 (PDT) DKIM-Signature: v=1; a=rsa-sha256; c=relaxed/relaxed; d=iol.unh.edu; s=unh-iol; t=1761183410; x=1761788210; darn=dpdk.org; h=cc:to:from:subject:message-id:date:from:to:cc:subject:date :message-id:reply-to; bh=ZTsSqTBNLjXjoKzcJpY+lSnicPqQwA1tPKFJjRISZ9M=; b=fgbIpeMBZEpzk2OVApq/FOPY06McQQ8iZ+LJkFyb7cYCWePA8299RZ+qM9Q3Fq8E1c N4EzZYOdxA2awxMSagJDxpCv6FPzTDDHGmtL4WY/w+2QG2a7XjPz3IO9l1JAOuozhil9 5tZESS8kl0V3GGtD3oe2oUxex+rb7ZFFtorw4= X-Google-DKIM-Signature: v=1; a=rsa-sha256; c=relaxed/relaxed; d=1e100.net; s=20230601; t=1761183410; x=1761788210; h=cc:to:from:subject:message-id:date:x-gm-message-state:from:to:cc :subject:date:message-id:reply-to; bh=ZTsSqTBNLjXjoKzcJpY+lSnicPqQwA1tPKFJjRISZ9M=; b=KaUNie2M7NUFdUCsXbPRTDrm7fCTFv8suOJ29QOY+Lur5SOCbrzilDQOSXzYR94wU6 pNK0/a8jmUbsb+AptIpYlBUtqCP5n0kH15scg06VWM4rlfj+6TaFqP+Y80asHUxQo+8l Gc+pmT96lXwAG3iv4KNBVZ3vruhs7bovueJiJM4/bUWFK9g+42I2MzyFFDy6zmnN7QZm bXeOHaM7jvlquvkDHacXdASnO33oUL+IWG6WBqBz77e8mq7mfRV/eA7AnCTTnXWFemoO fbqp06w+VwmLZjG+1NyZV/xTG+R62J+pbd7ZB06AGB4C/NmhIxZfmDjzJFNejYXuP32F CbqA== X-Gm-Message-State: AOJu0YzxUPC0d/yzom2fofj/5vjBrfBwHgopMm3+Sz1VuS1tX0xTcy6c 9T02jk6GIqM2mvZvWR1ecrq2LZkwgYcbAai0VqrCuq+MZ6BFFVFpwXO8Wv5p03IQVVCl3iZT/fg T5XKLpl/rbGVZ9pQfvRZ56vgbOIRO6HgfKjy1 X-Gm-Gg: ASbGncs7oZcKbBOe/O000ZR631fpMB7+05XSLTvR1ZORR7WxerS6+bxhRfoDDFYPStv i3d1mYeavgZSmspwzPhklJK+wO1jwAGNWo0XQ+0K+c3Z9B4IWaCO0v06f+qZ3YKPiUPu8bJW6ZP V8G+SyXWXvlRnVra7nZTwMmGEhiwgEzEwRMFJHpwyLXQBT3WxQWVTXWbOI9B8RfT3763ZFAsbdE S0JCBFkeV0p0reCa5Cr8CC5M9VKkLY+etj9BLZb0uA/iiCU50UIbXR4saUDadcqIVapz5WVsepx VR1zR+sv1Szja/vOesOj4pgV+lQc7wsI8qbL8KiTzjCIPRiUa64fAr+5tnYkaFPL+NZdIgbijoh K7mQNZ18Ju8fWdx1RfU6o84nTO7Q16FE= X-Google-Smtp-Source: AGHT+IEgwiC4yIymL88H3zoX6wWGBjE61SMyLsIqWQZZmX68PA6VsHPFagnf4FmMzNdnr11OQb1ronlEJKJV X-Received: by 2002:a17:902:da8a:b0:24c:caab:dfd2 with SMTP id d9443c01a7336-2946e2a0ce0mr7813535ad.61.1761183409704; Wed, 22 Oct 2025 18:36:49 -0700 (PDT) Received: from postal.iol.unh.edu (postal.iol.unh.edu. [132.177.123.84]) by smtp-relay.gmail.com with ESMTPS id 98e67ed59e1d1-33fafba862asm71932a91.4.2025.10.22.18.36.49 (version=TLS1_2 cipher=ECDHE-ECDSA-AES128-GCM-SHA256 bits=128/128); Wed, 22 Oct 2025 18:36:49 -0700 (PDT) X-Relaying-Domain: iol.unh.edu Date: Wed, 22 Oct 2025 18:36:49 -0700 (PDT) Message-ID: <68f986b1.170a0220.1aa962.3b41SMTPIN_ADDED_MISSING@mx.google.com> Received: from [172.21.0.2] (unknown [172.18.0.240]) by postal.iol.unh.edu (Postfix) with ESMTP id 2402B6051830; Wed, 22 Oct 2025 21:36:49 -0400 (EDT) Subject: |WARNING| [GIT MASTER] 07310b65d3aadc34a04066579860880149e1d8f7 From: dpdklab@iol.unh.edu To: Test Report Cc: dpdk-test-reports@iol.unh.edu, Ajit Khaparde Content-Type: text/plain X-BeenThere: test-report@dpdk.org X-Mailman-Version: 2.1.29 Precedence: list List-Id: automatic DPDK test reports List-Unsubscribe: , List-Archive: List-Post: List-Help: List-Subscribe: , Errors-To: test-report-bounces@dpdk.org _Testing issues_ Branch: next-net-brcm-for-next-net 07310b65d3aadc34a04066579860880149e1d8f7 --> testing issues Upstream job id: Generic-DPDK-Compile-Meson#436813 Test environment and result as below: +-------------------------------+--------------------+-------------------+------------------+-------------------+-------------------------+----------------------+ | Environment | dpdk_meson_compile | dpdk_compile_spdk | dpdk_compile_ovs | dpdk_msvc_compile | dpdk_llvm_clang_compile | dpdk_mingw64_compile | +===============================+====================+===================+==================+===================+=========================+======================+ | Red Hat Enterprise Linux 8.10 | PASS | SKIPPED | SKIPPED | SKIPPED | SKIPPED | SKIPPED | +-------------------------------+--------------------+-------------------+------------------+-------------------+-------------------------+----------------------+ | Red Hat Enterprise Linux 9.5 | PASS | SKIPPED | SKIPPED | SKIPPED | SKIPPED | SKIPPED | +-------------------------------+--------------------+-------------------+------------------+-------------------+-------------------------+----------------------+ | FreeBSD 14.2 | PASS | SKIPPED | SKIPPED | SKIPPED | SKIPPED | SKIPPED | +-------------------------------+--------------------+-------------------+------------------+-------------------+-------------------------+----------------------+ | CentOS Stream 9 | PASS | WARN | SKIPPED | SKIPPED | SKIPPED | SKIPPED | +-------------------------------+--------------------+-------------------+------------------+-------------------+-------------------------+----------------------+ | Debian GNU/Linux 12 | PASS | WARN | SKIPPED | SKIPPED | SKIPPED | SKIPPED | +-------------------------------+--------------------+-------------------+------------------+-------------------+-------------------------+----------------------+ | CentOS Stream 10 | PASS | SKIPPED | SKIPPED | SKIPPED | SKIPPED | SKIPPED | +-------------------------------+--------------------+-------------------+------------------+-------------------+-------------------------+----------------------+ | Fedora Linux 42 | PASS | WARN | PASS | SKIPPED | SKIPPED | SKIPPED | +-------------------------------+--------------------+-------------------+------------------+-------------------+-------------------------+----------------------+ | openSUSE Leap 15.6 | PASS | SKIPPED | SKIPPED | SKIPPED | SKIPPED | SKIPPED | +-------------------------------+--------------------+-------------------+------------------+-------------------+-------------------------+----------------------+ | Ubuntu 22.04 | PASS | WARN | SKIPPED | SKIPPED | SKIPPED | SKIPPED | +-------------------------------+--------------------+-------------------+------------------+-------------------+-------------------------+----------------------+ | Ubuntu 20.04 | PASS | SKIPPED | SKIPPED | SKIPPED | SKIPPED | SKIPPED | +-------------------------------+--------------------+-------------------+------------------+-------------------+-------------------------+----------------------+ | Ubuntu 24.04 | PASS | WARN | PASS | SKIPPED | SKIPPED | SKIPPED | +-------------------------------+--------------------+-------------------+------------------+-------------------+-------------------------+----------------------+ | Alpine Linux 3.22.0 | PASS | SKIPPED | SKIPPED | SKIPPED | SKIPPED | SKIPPED | +-------------------------------+--------------------+-------------------+------------------+-------------------+-------------------------+----------------------+ | Windows Server 2022 | SKIPPED | SKIPPED | SKIPPED | PASS | PASS | PASS | +-------------------------------+--------------------+-------------------+------------------+-------------------+-------------------------+----------------------+ ==== 20 line log output for Ubuntu 24.04 (dpdk_compile_spdk): ==== --- Failed to get log output --- ==== End log output ==== Red Hat Enterprise Linux 8.10 Kernel: 5.15 Compiler: gcc gcc (GCC) 8.5.0 20210514 (Red Hat 8.5.0-22) Red Hat Enterprise Linux 9.5 Kernel: 5.15 Compiler: gcc gcc (GCC) 11.5.0 20240719 (Red Hat 11.5.0-2) FreeBSD 14.2 Kernel: 14.2-RELEASE Compiler: clang 18.1.6 CentOS Stream 9 Kernel: 5.15 Compiler: gcc gcc (GCC) 11.5.0 20240719 (Red Hat 11.5.0-11) Debian GNU/Linux 12 Kernel: 5.15 Compiler: gcc gcc (Debian 12.2.0-14+deb12u1) 12.2.0 CentOS Stream 10 Kernel: 5.15 Compiler: gcc gcc (GCC) 14.2.1 20250110 (Red Hat 14.2.1-8) Fedora Linux 42 Kernel: 5.15 Compiler: gcc gcc (GCC) 15.2.1 20250808 (Red Hat 15.2.1-1) openSUSE Leap 15.6 Kernel: 5.15 Compiler: gcc gcc (SUSE Linux) 7.5.0 Ubuntu 22.04 Kernel: 5.15 Compiler: gcc gcc (Ubuntu 11.4.0-1ubuntu1~22.04) 11.4.0 Ubuntu 20.04 Kernel: 4.19 Compiler: gcc gcc (Ubuntu 9.4.0-1ubuntu1~20.04.2) 9.4.0 Ubuntu 24.04 Kernel: 5.15 Compiler: gcc gcc (Ubuntu 13.3.0-6ubuntu2~24.04) 13.3.0 Alpine Linux 3.22.0 Kernel: 5.15 Compiler: gcc gcc (Alpine 14.2.0) 14.2.0 Windows Server 2022 Kernel: 10.0.20348.2031 Compiler: clang 15.0.7, gcc 14.1.0 (MinGW), and MSVC VS 19.39.33521 To view detailed results, visit: https://lab.dpdk.org/results/dashboard/tarballs/35304/ UNH-IOL DPDK Community Lab To manage your email subscriptions, visit: https://lab.dpdk.org/results/dashboard/preferences/subscriptions/