From mboxrd@z Thu Jan 1 00:00:00 1970 Return-Path: Received: from mails.dpdk.org (mails.dpdk.org [217.70.189.124]) by inbox.dpdk.org (Postfix) with ESMTP id D2775489AB for ; Thu, 23 Oct 2025 04:36:47 +0200 (CEST) Received: from mails.dpdk.org (localhost [127.0.0.1]) by mails.dpdk.org (Postfix) with ESMTP id A99EB400D6; Thu, 23 Oct 2025 04:36:47 +0200 (CEST) Received: from mail-pl1-f227.google.com (mail-pl1-f227.google.com [209.85.214.227]) by mails.dpdk.org (Postfix) with ESMTP id 62318400D6 for ; Thu, 23 Oct 2025 04:36:46 +0200 (CEST) Received: by mail-pl1-f227.google.com with SMTP id d9443c01a7336-292fd52d527so2689485ad.2 for ; Wed, 22 Oct 2025 19:36:46 -0700 (PDT) DKIM-Signature: v=1; a=rsa-sha256; c=relaxed/relaxed; d=iol.unh.edu; s=unh-iol; t=1761187005; x=1761791805; darn=dpdk.org; h=references:in-reply-to:cc:to:from:subject:message-id:date:from:to :cc:subject:date:message-id:reply-to; bh=QLfh2tmuTTzFbHNCyqekZYPhH9LhQ/p2li0Lfv7bioM=; b=g+011nA18wD/ppf1kpJtxulrEt/NQzvMrhLzejGGnOgEUWfPAgzl/FNsNrciziLfYL GprBLQfsnbl+/t8uF3tVDxGFnCEHoQmQ2rw3EqVCDDVL4fv0BFGEkGUKknPabMTEj2JJ 5QDvnNUcAFCpT93vVcb9u8TBXQnQ+P6SfrJb4= X-Google-DKIM-Signature: v=1; a=rsa-sha256; c=relaxed/relaxed; d=1e100.net; s=20230601; t=1761187005; x=1761791805; h=references:in-reply-to:cc:to:from:subject:message-id:date :x-gm-message-state:from:to:cc:subject:date:message-id:reply-to; bh=QLfh2tmuTTzFbHNCyqekZYPhH9LhQ/p2li0Lfv7bioM=; b=Hmu9m8gQZoZafPxqkdq+RMFufTWWVFUyfmloqw1HAz2HPIfc+fQ1e4tw+LuNA9tlzn ztOQuZDquxm3RYIQ79qbxOlGm3m0EojGNdIKQ8lPnwwRspp27/hiCdD9WIR3bs7I6J13 flbOl+FD5YHNgZN1wYEUuMqQajlLgwtH05zQo6Fqp2tJ2G/xvzM3HWVEPVxVlVsN5yP4 1spnsQ6hfLlA93d6GSqD0UyTE8q5+lg9p0dFnNPbYOSdFlPlrgSwh1KDHrIybEidqFTF +/7l1VjA2LizvjLbRWwA2YeMJKniKESDFvNSSihpB1OJhpq5ujxeL2IOmMzJKd5IyN0i JK/A== X-Gm-Message-State: AOJu0YyZl3gCrQ6ly/UlYlS8oaE2y5DvWDaBnE9h9hu7sm+LpG7tR77E RRmC3PyEulUX5hn4QFQa9m41uODwfpFy/3pgQsHOBphzd5w/DrpNmdmd88WCUwdBIRuxN2whazm GecCK3mkkH93GtqQKJwUNtaasviQNXFnojJn4qaqpozlX X-Gm-Gg: ASbGncuMIfDsGpaYJukpDGvYHkIfBhQl70a3doml6T3dNK85bBBkQ3cQwdEXa8pKPUK j8dPJNJHP7VEPnsLwJOYckHGV0HKhIGrCVRGyU/mmHmtpFL79KWWjWz/Lmt3Cnol5EMJMu1+LyM ITBQAxQ7gTSF4K9OhmHFLFMYiCFjgTIIGRNUDXf2HIzWnb8isnLXsE557pRXj9/n94IQbL4em5e Ry3tGMgMSm1BYR43cuqddKXh8NDevf++IafO045pkdfSIcFAwdwaijJrqnkhQ4OBJWfd7RHGsJm t0Azo+vIM0ZQDkVZkcyI0jgXyV/nOTBICJqVFd+45mZ07Y2ncPUMsCGpA0xdC8ZZbJMKwvAXxxI 52477yE1moTA5/84JLK/swSX335r1hVs= X-Google-Smtp-Source: AGHT+IE0GFv97LVQcc3ku7hhKtMnCe7tw8UilHFisDJBtufD5AoXdhMo2i4yYxtjG/oHKBQ/Dr4+kH1kE6rw X-Received: by 2002:a17:902:d584:b0:275:f156:965c with SMTP id d9443c01a7336-290cb65b61dmr266334495ad.52.1761187005348; Wed, 22 Oct 2025 19:36:45 -0700 (PDT) Received: from postal.iol.unh.edu (postal.iol.unh.edu. [132.177.123.84]) by smtp-relay.gmail.com with ESMTPS id d9443c01a7336-2946dee70c8sm772945ad.38.2025.10.22.19.36.45 (version=TLS1_2 cipher=ECDHE-ECDSA-AES128-GCM-SHA256 bits=128/128); Wed, 22 Oct 2025 19:36:45 -0700 (PDT) X-Relaying-Domain: iol.unh.edu Date: Wed, 22 Oct 2025 19:36:45 -0700 (PDT) Message-ID: <68f994bd.170a0220.35f45d.3de6SMTPIN_ADDED_MISSING@mx.google.com> Received: from [172.21.0.3] (unknown [172.18.0.240]) by postal.iol.unh.edu (Postfix) with ESMTP id C65C46051830; Wed, 22 Oct 2025 22:36:44 -0400 (EDT) Subject: |SUCCESS| pw157992-157994 [PATCH] [v5,3/3] dts: add performance test From: dpdklab@iol.unh.edu To: Test Report Cc: dpdk-test-reports@iol.unh.edu In-Reply-To: <20251023013049.1368129-4-probb@iol.unh.edu> References: <20251023013049.1368129-4-probb@iol.unh.edu> Content-Type: text/plain X-BeenThere: test-report@dpdk.org X-Mailman-Version: 2.1.29 Precedence: list List-Id: automatic DPDK test reports List-Unsubscribe: , List-Archive: List-Post: List-Help: List-Subscribe: , Errors-To: test-report-bounces@dpdk.org Test-Label: iol-unit-amd64-testing Test-Status: SUCCESS http://dpdk.org/patch/157994 _Testing PASS_ Submitter: Patrick Robb Date: Thursday, October 23 2025 01:30:49 DPDK git baseline: Repo:dpdk-next-dts Branch: master CommitID:c1abcee5a9656fb4890b733e6051aa604c60f146 157992-157994 --> testing pass Upstream job id: Generic-VM-Unit-Test-DPDK#31986 Test environment and result as below: +-------------------------------+----------------+ | Environment | dpdk_unit_test | +===============================+================+ | Fedora Linux 40 | PASS | +-------------------------------+----------------+ | Fedora Linux 42 | PASS | +-------------------------------+----------------+ | CentOS Stream 10 | PASS | +-------------------------------+----------------+ | Ubuntu 20.04 | PASS | +-------------------------------+----------------+ | Fedora Linux 41 | PASS | +-------------------------------+----------------+ | Ubuntu 24.04 | PASS | +-------------------------------+----------------+ | Windows Server 2022 | PASS | +-------------------------------+----------------+ | Ubuntu 22.04 | PASS | +-------------------------------+----------------+ | Red Hat Enterprise Linux 8.10 | PASS | +-------------------------------+----------------+ | Debian GNU/Linux 12 | PASS | +-------------------------------+----------------+ | CentOS Stream 9 | PASS | +-------------------------------+----------------+ | Red Hat Enterprise Linux 9.5 | PASS | +-------------------------------+----------------+ Fedora Linux 40 Kernel: 5.15 Compiler: clang gcc (GCC) 14.2.1 20240912 (Red Hat 14.2.1-3) Fedora Linux 42 Kernel: 5.15 Compiler: gcc gcc (GCC) 15.2.1 20250808 (Red Hat 15.2.1-1) CentOS Stream 10 Kernel: 5.15 Compiler: gcc gcc (GCC) 14.2.1 20250110 (Red Hat 14.2.1-8) Ubuntu 20.04 Kernel: 5.15 Compiler: gcc gcc (Ubuntu 9.4.0-1ubuntu1~20.04.2) 9.4.0 Fedora Linux 41 Kernel: 5.15 Compiler: gcc gcc (GCC) 14.3.1 20250523 (Red Hat 14.3.1-1) Ubuntu 24.04 Kernel: 5.15 Compiler: gcc gcc (Ubuntu 13.3.0-6ubuntu2~24.04) 13.3.0 Windows Server 2022 Kernel: 10.0.20348.2031 Compiler: clang 15.0.7, gcc 14.1.0 (MinGW), and MSVC VS 19.39.33521 Ubuntu 22.04 Kernel: 5.15 Compiler: gcc gcc (Ubuntu 11.4.0-1ubuntu1~22.04) 11.4.0 Red Hat Enterprise Linux 8.10 Kernel: 5.15 Compiler: gcc gcc (GCC) 8.5.0 20210514 (Red Hat 8.5.0-22) Debian GNU/Linux 12 Kernel: 5.15 Compiler: gcc gcc (Debian 12.2.0-14+deb12u1) 12.2.0 CentOS Stream 9 Kernel: 5.15 Compiler: gcc gcc (GCC) 11.5.0 20240719 (Red Hat 11.5.0-11) Red Hat Enterprise Linux 9.5 Kernel: 5.15 Compiler: gcc gcc (GCC) 11.5.0 20240719 (Red Hat 11.5.0-2) To view detailed results, visit: https://lab.dpdk.org/results/dashboard/patchsets/34349/ UNH-IOL DPDK Community Lab To manage your email subscriptions, visit: https://lab.dpdk.org/results/dashboard/preferences/subscriptions/