From mboxrd@z Thu Jan 1 00:00:00 1970 Return-Path: Received: from mails.dpdk.org (mails.dpdk.org [217.70.189.124]) by inbox.dpdk.org (Postfix) with ESMTP id 56067489AB for ; Thu, 23 Oct 2025 04:42:10 +0200 (CEST) Received: from mails.dpdk.org (localhost [127.0.0.1]) by mails.dpdk.org (Postfix) with ESMTP id 5096C400D6; Thu, 23 Oct 2025 04:42:10 +0200 (CEST) Received: from mail-pj1-f97.google.com (mail-pj1-f97.google.com [209.85.216.97]) by mails.dpdk.org (Postfix) with ESMTP id DF621400D6 for ; Thu, 23 Oct 2025 04:42:08 +0200 (CEST) Received: by mail-pj1-f97.google.com with SMTP id 98e67ed59e1d1-33db8fde85cso364830a91.0 for ; Wed, 22 Oct 2025 19:42:08 -0700 (PDT) DKIM-Signature: v=1; a=rsa-sha256; c=relaxed/relaxed; d=iol.unh.edu; s=unh-iol; t=1761187328; x=1761792128; darn=dpdk.org; h=references:in-reply-to:cc:to:from:subject:message-id:date:from:to :cc:subject:date:message-id:reply-to; bh=JXDZz0igmZkLgz6+B+oL6IdCJdD6G7PFoOUzHbK+jl4=; b=DB8l+0NVUWoFQsWqDoNFjb8x9MrojMhI7IgZ3n1cYS1ANjE7QHoYVJFV/K/7qsU5UJ evO2mozZuID6rdOMfEKUt/cFkioKQZJ/d5j5SFu1RHf3VBnd/6y4pIcxlMCVTpTPfkMc TLvdzbwGFiGsiZPZj0q4qrfHWLKqPzXNvbiEY= X-Google-DKIM-Signature: v=1; a=rsa-sha256; c=relaxed/relaxed; d=1e100.net; s=20230601; t=1761187328; x=1761792128; h=references:in-reply-to:cc:to:from:subject:message-id:date :x-gm-message-state:from:to:cc:subject:date:message-id:reply-to; bh=JXDZz0igmZkLgz6+B+oL6IdCJdD6G7PFoOUzHbK+jl4=; b=r3Yl2MO3VxA9voToqF7HepRxEEQUAnq1NyZwvMy1Y5sw07UdrPhONTjmD0PxH5aRjo aXpzcd2y2O+hafXHhVAqQ4qIDXDlGwqohecTkEiDZzfFIMNxzGa8gU5Ta8vuZd2nLZ5R lty5+phDuDoI8Gasi+gZpLWKyEDF6zrowFrLmS0S9PuH+IDvRhAYXMqYnEbJN5LdKgY0 F68mS6xS4BeGk4fCfC4rSI7ObJNYQ3kDvDnPupb/XsBMSIHO7NPQNP1Msg70hsS4Gc5V fImT+Ryll28rn6XIG/fNhOsou6RInOxbp36xpl6k9GtAEuTS3p5OD4t5phZu2GWmBNAz 8iBw== X-Gm-Message-State: AOJu0YwamCoWZuGjx7DWO215VRdfCucniMDSITsSW7A+8gRY7HTkwTVd GvXq51mwOYNJJ+9Mz0OWXbk57q0MAa9e2/n3PwxRUofTpG1ZuGnVwsDz8fSz9xNbq5mZmurbHEG RaEF90HZYG6PHoOi2uVPuAhc+BHrDs5N5FXOQ4z3r0VF8ZVRKiksW2d9BZytd X-Gm-Gg: ASbGncsJqO6IpkiZnKqpQsDUpPGJqLKvEBM60iYAdBs3djvIwZb0VnOLUNm3QULCn4p o46cVcn3lEr8Uyc1XFl5cFoUmlNCUxs+9ZP1HpHZwqoDBKH0yDGmNT1MY0rJDpB93KqI8ga0UWu YrVfWtY09AAfhQtjjPWpLvbikukInZFK/Av3h7jYPxrXcl/573MJDC+hAEcXMqmyZat03U+dI09 cFiFjzi3h1yPhxDLlLXyGR8IQMDHBfwvZf2W2GND9lSNs35vkuumLdtIJH3yx0GeDSXD6v142j3 2ZFPN0grafLALSl02/rwTE3m5xIOjndDd7UlfTTEyo7gD7jp0xTpI/y1GYGO3eBYuzWo8GXY1xw lpfQBGV1T X-Google-Smtp-Source: AGHT+IHftMvBidEt4mB8CJzHV4vEtab7qkMl0DrxxYytGxHO0iXo86v0XdwzVYD5mmwH+YAPm5vFIHCKoNfK X-Received: by 2002:a17:90a:d60f:b0:32e:d600:4fdb with SMTP id 98e67ed59e1d1-33bcf8e61b8mr26888925a91.18.1761187328071; Wed, 22 Oct 2025 19:42:08 -0700 (PDT) Received: from postal.iol.unh.edu (postal.iol.unh.edu. [2606:4100:3880:1234::84]) by smtp-relay.gmail.com with ESMTPS id 98e67ed59e1d1-33e2245b6b7sm387898a91.4.2025.10.22.19.42.07 (version=TLS1_2 cipher=ECDHE-ECDSA-AES128-GCM-SHA256 bits=128/128); Wed, 22 Oct 2025 19:42:08 -0700 (PDT) X-Relaying-Domain: iol.unh.edu Date: Wed, 22 Oct 2025 19:42:08 -0700 (PDT) Message-ID: <68f99600.170a0220.19eba1.303dSMTPIN_ADDED_MISSING@mx.google.com> Received: from [172.21.0.2] (unknown [172.18.0.240]) by postal.iol.unh.edu (Postfix) with ESMTP id 5CEC46051830; Wed, 22 Oct 2025 22:42:07 -0400 (EDT) Subject: |SUCCESS| pw157992-157994 [PATCH] [v5,3/3] dts: add performance test From: dpdklab@iol.unh.edu To: Test Report Cc: dpdk-test-reports@iol.unh.edu In-Reply-To: <20251023013049.1368129-4-probb@iol.unh.edu> References: <20251023013049.1368129-4-probb@iol.unh.edu> Content-Type: text/plain X-BeenThere: test-report@dpdk.org X-Mailman-Version: 2.1.29 Precedence: list List-Id: automatic DPDK test reports List-Unsubscribe: , List-Archive: List-Post: List-Help: List-Subscribe: , Errors-To: test-report-bounces@dpdk.org Test-Label: iol-unit-amd64-testing Test-Status: SUCCESS http://dpdk.org/patch/157994 _Testing PASS_ Submitter: Patrick Robb Date: Thursday, October 23 2025 01:30:49 DPDK git baseline: Repo:dpdk-next-dts Branch: master CommitID:c1abcee5a9656fb4890b733e6051aa604c60f146 157992-157994 --> testing pass Upstream job id: Generic-VM-Unit-Test-DPDK#31987 Test environment and result as below: +-------------------------------+----------------+ | Environment | dpdk_unit_test | +===============================+================+ | Fedora Linux 40 | PASS | +-------------------------------+----------------+ | Fedora Linux 42 | PASS | +-------------------------------+----------------+ | CentOS Stream 10 | PASS | +-------------------------------+----------------+ | Ubuntu 20.04 | PASS | +-------------------------------+----------------+ | Fedora Linux 41 | PASS | +-------------------------------+----------------+ | Ubuntu 24.04 | PASS | +-------------------------------+----------------+ | Windows Server 2022 | PASS | +-------------------------------+----------------+ | Ubuntu 22.04 | PASS | +-------------------------------+----------------+ | Red Hat Enterprise Linux 8.10 | PASS | +-------------------------------+----------------+ | Debian GNU/Linux 12 | PASS | +-------------------------------+----------------+ | CentOS Stream 9 | PASS | +-------------------------------+----------------+ | Red Hat Enterprise Linux 9.5 | PASS | +-------------------------------+----------------+ Fedora Linux 40 Kernel: 5.15 Compiler: clang gcc (GCC) 14.2.1 20240912 (Red Hat 14.2.1-3) Fedora Linux 42 Kernel: 5.15 Compiler: gcc gcc (GCC) 15.2.1 20250808 (Red Hat 15.2.1-1) CentOS Stream 10 Kernel: 5.15 Compiler: gcc gcc (GCC) 14.2.1 20250110 (Red Hat 14.2.1-8) Ubuntu 20.04 Kernel: 5.15 Compiler: gcc gcc (Ubuntu 9.4.0-1ubuntu1~20.04.2) 9.4.0 Fedora Linux 41 Kernel: 5.15 Compiler: gcc gcc (GCC) 14.3.1 20250523 (Red Hat 14.3.1-1) Ubuntu 24.04 Kernel: 5.15 Compiler: gcc gcc (Ubuntu 13.3.0-6ubuntu2~24.04) 13.3.0 Windows Server 2022 Kernel: 10.0.20348.2031 Compiler: clang 15.0.7, gcc 14.1.0 (MinGW), and MSVC VS 19.39.33521 Ubuntu 22.04 Kernel: 5.15 Compiler: gcc gcc (Ubuntu 11.4.0-1ubuntu1~22.04) 11.4.0 Red Hat Enterprise Linux 8.10 Kernel: 5.15 Compiler: gcc gcc (GCC) 8.5.0 20210514 (Red Hat 8.5.0-22) Debian GNU/Linux 12 Kernel: 5.15 Compiler: gcc gcc (Debian 12.2.0-14+deb12u1) 12.2.0 CentOS Stream 9 Kernel: 5.15 Compiler: gcc gcc (GCC) 11.5.0 20240719 (Red Hat 11.5.0-11) Red Hat Enterprise Linux 9.5 Kernel: 5.15 Compiler: gcc gcc (GCC) 11.5.0 20240719 (Red Hat 11.5.0-2) To view detailed results, visit: https://lab.dpdk.org/results/dashboard/patchsets/34349/ UNH-IOL DPDK Community Lab To manage your email subscriptions, visit: https://lab.dpdk.org/results/dashboard/preferences/subscriptions/