From mboxrd@z Thu Jan 1 00:00:00 1970 Return-Path: Received: from mails.dpdk.org (mails.dpdk.org [217.70.189.124]) by inbox.dpdk.org (Postfix) with ESMTP id 6B068489AB for ; Thu, 23 Oct 2025 04:42:26 +0200 (CEST) Received: from mails.dpdk.org (localhost [127.0.0.1]) by mails.dpdk.org (Postfix) with ESMTP id 62266400D6; Thu, 23 Oct 2025 04:42:26 +0200 (CEST) Received: from mail-pl1-f225.google.com (mail-pl1-f225.google.com [209.85.214.225]) by mails.dpdk.org (Postfix) with ESMTP id B6F77400D6 for ; Thu, 23 Oct 2025 04:42:24 +0200 (CEST) Received: by mail-pl1-f225.google.com with SMTP id d9443c01a7336-290ab379d48so2737135ad.2 for ; Wed, 22 Oct 2025 19:42:24 -0700 (PDT) DKIM-Signature: v=1; a=rsa-sha256; c=relaxed/relaxed; d=iol.unh.edu; s=unh-iol; t=1761187344; x=1761792144; darn=dpdk.org; h=references:in-reply-to:cc:to:from:subject:message-id:date:from:to :cc:subject:date:message-id:reply-to; bh=PXW4TjUq0LCCUDOV8aMbw1n1DUPML6eovjyyZC0gzX8=; b=NbBuIc+KklCnKb2ukqfg1aIWnmWIHB3eFWLzv0YZBpqTprN3rIvmvq1i1ujuqzpiX0 Ueg0H+fzLHm+kFZ0DlugqDTbCEw5KQWoFs7QqPN6txheQf1IexmFHTpCTcRyzo3PEOqG Cy7Je2PWemlvs7js/SnpbTNRplRhqWsJ8tqZw= X-Google-DKIM-Signature: v=1; a=rsa-sha256; c=relaxed/relaxed; d=1e100.net; s=20230601; t=1761187344; x=1761792144; h=references:in-reply-to:cc:to:from:subject:message-id:date :x-gm-message-state:from:to:cc:subject:date:message-id:reply-to; bh=PXW4TjUq0LCCUDOV8aMbw1n1DUPML6eovjyyZC0gzX8=; b=sd4VipkLrgY5VVx7qSYiAn5ZfHKuEJFeABrejQaFL7AdvCvtN6bPz6h3u2yPOcG7Pn MC967v4yj33DcQay1cWlW/86MnelHfSFo02nItHrhgPZJGlTfRrQ+LGWTjp+r0JjxObL WTH/BfzS2WhByzQO9/AFTWfit75HQ5fpF4FxHL6OpXJUe6H2tUENWeHkUvixw3KOjOHf D3YqOm4C40YOSnbH+DGajXZ5Fcg82dOvLH2LH0xBKcOPoWZIsRsjVUa1JFpGMqKKCmW4 Bo0DHTNbhlODXuADBs02VozFuD2W8I9TcgFTGYg0U49aphPoVI7h2Cjv3DgC7llhPLhI kMoQ== X-Gm-Message-State: AOJu0YxtIEa5fJQ1Ny1+qFNfvKCVsaAOhANjxhQJLnf+B02x6CnL34Oc qddrV4dYo6nqcsSPpagbMYISuPO3o9GlV8IOIifkiTZ5+uf2fGmJwAVsInh3WZr2F5CaGViGAGH R8v38fY1n9mtFNfLfXRmHcXz6R9aJnbFE0w9tBD7g4TakBAagx5IWzFaFosRj X-Gm-Gg: ASbGncvXahFhoaKs68U24jchWrKF7ElLCr69Us5Mzj28V9yclrnY+F7CH0NNqeEfi+k NHDvHfPYuR1Y9SUwaKhIpykWj/3hVC0mQr0fjQzzD/+DymiDZdfStBGYaL9LeEdjdPNB4hpkl8O BbpuhSRlnZGbvsysmxadZ4JbZ5ev+KC25vtr5rrtvpgJnCxw/0RpVUakCsctJQbuTwWYyFFrRo7 K13G7PMfJfjgs613trXvQPJZPk/jXifovrht7D7rJulnG2/kO282bF7y5THvE42RwdB0XX9lXAS 1TfEXDdmnDlf5w8flRdUl8yo9zWr2jazML+juh1rmr22M3LoVjMwFQsRvXdd/LIpQyHhlGZRicj cNdJiNpP1 X-Google-Smtp-Source: AGHT+IH2tNwQHMuuVIfCNCPSfy7S8m2HaYoN6XL1/w0ho1mI/6448e7Y5r4dAMstrHqkyuoeKWMUTihNc9IM X-Received: by 2002:a17:902:cf12:b0:28e:80d7:663e with SMTP id d9443c01a7336-290cb079e2dmr308517615ad.40.1761187343942; Wed, 22 Oct 2025 19:42:23 -0700 (PDT) Received: from postal.iol.unh.edu (postal.iol.unh.edu. [2606:4100:3880:1234::84]) by smtp-relay.gmail.com with ESMTPS id d9443c01a7336-2946fb05240sm613445ad.19.2025.10.22.19.42.23 (version=TLS1_2 cipher=ECDHE-ECDSA-AES128-GCM-SHA256 bits=128/128); Wed, 22 Oct 2025 19:42:23 -0700 (PDT) X-Relaying-Domain: iol.unh.edu Date: Wed, 22 Oct 2025 19:42:23 -0700 (PDT) Message-ID: <68f9960f.170a0220.3fe3a.31f9SMTPIN_ADDED_MISSING@mx.google.com> Received: from [172.21.0.2] (unknown [172.18.0.240]) by postal.iol.unh.edu (Postfix) with ESMTP id 5F32D6051830; Wed, 22 Oct 2025 22:42:23 -0400 (EDT) Subject: |WARNING| pw157992-157994 [PATCH] [v5,3/3] dts: add performance test From: dpdklab@iol.unh.edu To: Test Report Cc: dpdk-test-reports@iol.unh.edu In-Reply-To: <20251023013049.1368129-4-probb@iol.unh.edu> References: <20251023013049.1368129-4-probb@iol.unh.edu> Content-Type: text/plain X-BeenThere: test-report@dpdk.org X-Mailman-Version: 2.1.29 Precedence: list List-Id: automatic DPDK test reports List-Unsubscribe: , List-Archive: List-Post: List-Help: List-Subscribe: , Errors-To: test-report-bounces@dpdk.org Test-Label: iol-compile-amd64-testing Test-Status: WARNING http://dpdk.org/patch/157994 _Testing issues_ Submitter: Patrick Robb Date: Thursday, October 23 2025 01:30:49 DPDK git baseline: Repo:dpdk-next-dts Branch: master CommitID:c1abcee5a9656fb4890b733e6051aa604c60f146 157992-157994 --> testing issues Upstream job id: Generic-DPDK-Compile-Meson#436818 Test environment and result as below: +-------------------------------+--------------------+------------------+-------------------+-------------------------+-------------------+----------------------+ | Environment | dpdk_meson_compile | dpdk_compile_ovs | dpdk_compile_spdk | dpdk_llvm_clang_compile | dpdk_msvc_compile | dpdk_mingw64_compile | +===============================+====================+==================+===================+=========================+===================+======================+ | Fedora Linux 42 | PASS | PASS | WARN | SKIPPED | SKIPPED | SKIPPED | +-------------------------------+--------------------+------------------+-------------------+-------------------------+-------------------+----------------------+ | Debian GNU/Linux 12 | PASS | SKIPPED | WARN | SKIPPED | SKIPPED | SKIPPED | +-------------------------------+--------------------+------------------+-------------------+-------------------------+-------------------+----------------------+ | CentOS Stream 9 | PASS | SKIPPED | WARN | SKIPPED | SKIPPED | SKIPPED | +-------------------------------+--------------------+------------------+-------------------+-------------------------+-------------------+----------------------+ | CentOS Stream 10 | PASS | SKIPPED | SKIPPED | SKIPPED | SKIPPED | SKIPPED | +-------------------------------+--------------------+------------------+-------------------+-------------------------+-------------------+----------------------+ | Red Hat Enterprise Linux 9.5 | PASS | SKIPPED | SKIPPED | SKIPPED | SKIPPED | SKIPPED | +-------------------------------+--------------------+------------------+-------------------+-------------------------+-------------------+----------------------+ | openSUSE Leap 15.6 | PASS | SKIPPED | SKIPPED | SKIPPED | SKIPPED | SKIPPED | +-------------------------------+--------------------+------------------+-------------------+-------------------------+-------------------+----------------------+ | Red Hat Enterprise Linux 8.10 | PASS | SKIPPED | SKIPPED | SKIPPED | SKIPPED | SKIPPED | +-------------------------------+--------------------+------------------+-------------------+-------------------------+-------------------+----------------------+ | Ubuntu 24.04 | PASS | PASS | WARN | SKIPPED | SKIPPED | SKIPPED | +-------------------------------+--------------------+------------------+-------------------+-------------------------+-------------------+----------------------+ | Ubuntu 20.04 | PASS | SKIPPED | SKIPPED | SKIPPED | SKIPPED | SKIPPED | +-------------------------------+--------------------+------------------+-------------------+-------------------------+-------------------+----------------------+ | Ubuntu 22.04 | PASS | SKIPPED | WARN | SKIPPED | SKIPPED | SKIPPED | +-------------------------------+--------------------+------------------+-------------------+-------------------------+-------------------+----------------------+ | FreeBSD 14.2 | PASS | SKIPPED | SKIPPED | SKIPPED | SKIPPED | SKIPPED | +-------------------------------+--------------------+------------------+-------------------+-------------------------+-------------------+----------------------+ | Alpine Linux 3.22.0 | PASS | SKIPPED | SKIPPED | SKIPPED | SKIPPED | SKIPPED | +-------------------------------+--------------------+------------------+-------------------+-------------------------+-------------------+----------------------+ | Windows Server 2022 | SKIPPED | SKIPPED | SKIPPED | PASS | PASS | PASS | +-------------------------------+--------------------+------------------+-------------------+-------------------------+-------------------+----------------------+ ==== 20 line log output for Ubuntu 22.04 (dpdk_compile_spdk): ==== --- Failed to get log output --- ==== End log output ==== Fedora Linux 42 Kernel: 5.15 Compiler: gcc gcc (GCC) 15.2.1 20250808 (Red Hat 15.2.1-1) Debian GNU/Linux 12 Kernel: 5.15 Compiler: gcc gcc (Debian 12.2.0-14+deb12u1) 12.2.0 CentOS Stream 9 Kernel: 5.15 Compiler: gcc gcc (GCC) 11.5.0 20240719 (Red Hat 11.5.0-11) CentOS Stream 10 Kernel: 5.15 Compiler: gcc gcc (GCC) 14.2.1 20250110 (Red Hat 14.2.1-8) Red Hat Enterprise Linux 9.5 Kernel: 5.15 Compiler: gcc gcc (GCC) 11.5.0 20240719 (Red Hat 11.5.0-2) openSUSE Leap 15.6 Kernel: 5.15 Compiler: gcc gcc (SUSE Linux) 7.5.0 Red Hat Enterprise Linux 8.10 Kernel: 5.15 Compiler: gcc gcc (GCC) 8.5.0 20210514 (Red Hat 8.5.0-22) Ubuntu 24.04 Kernel: 5.15 Compiler: gcc gcc (Ubuntu 13.3.0-6ubuntu2~24.04) 13.3.0 Ubuntu 20.04 Kernel: 4.19 Compiler: gcc gcc (Ubuntu 9.4.0-1ubuntu1~20.04.2) 9.4.0 Ubuntu 22.04 Kernel: 5.15 Compiler: gcc gcc (Ubuntu 11.4.0-1ubuntu1~22.04) 11.4.0 FreeBSD 14.2 Kernel: 14.2-RELEASE Compiler: clang 18.1.6 Alpine Linux 3.22.0 Kernel: 5.15 Compiler: gcc gcc (Alpine 14.2.0) 14.2.0 Windows Server 2022 Kernel: 10.0.20348.2031 Compiler: clang 15.0.7, gcc 14.1.0 (MinGW), and MSVC VS 19.39.33521 To view detailed results, visit: https://lab.dpdk.org/results/dashboard/patchsets/34349/ UNH-IOL DPDK Community Lab To manage your email subscriptions, visit: https://lab.dpdk.org/results/dashboard/preferences/subscriptions/