From mboxrd@z Thu Jan 1 00:00:00 1970 Return-Path: Received: from mails.dpdk.org (mails.dpdk.org [217.70.189.124]) by inbox.dpdk.org (Postfix) with ESMTP id 06651489AB for ; Thu, 23 Oct 2025 05:24:23 +0200 (CEST) Received: from mails.dpdk.org (localhost [127.0.0.1]) by mails.dpdk.org (Postfix) with ESMTP id D531D400D6; Thu, 23 Oct 2025 05:24:22 +0200 (CEST) Received: from mail-io1-f97.google.com (mail-io1-f97.google.com [209.85.166.97]) by mails.dpdk.org (Postfix) with ESMTP id AACE1400D6 for ; Thu, 23 Oct 2025 05:24:21 +0200 (CEST) Received: by mail-io1-f97.google.com with SMTP id ca18e2360f4ac-92790f12293so12939039f.2 for ; Wed, 22 Oct 2025 20:24:21 -0700 (PDT) DKIM-Signature: v=1; a=rsa-sha256; c=relaxed/relaxed; d=iol.unh.edu; s=unh-iol; t=1761189861; x=1761794661; darn=dpdk.org; h=references:in-reply-to:cc:to:from:subject:message-id:date:from:to :cc:subject:date:message-id:reply-to; bh=1Ea197djVZu2y1wnscE91qgWPnqcJgEr386K46G3GoI=; b=YMoZCW9snjDZpma+nu64pe3zdNcb8exnCr4MaGLQqoFXTm0GNn5MEPHYF+9mmyjfOL BdjZzs99nQWXJ0Jp+8HJzlvOlLeu3iD25VelbgiQUtHtw9nR+A6MqFcTSlnoWGyy8Xpe mptsiMmANGlcI482UqPXuHpyfToN1eGb0nDrU= X-Google-DKIM-Signature: v=1; a=rsa-sha256; c=relaxed/relaxed; d=1e100.net; s=20230601; t=1761189861; x=1761794661; h=references:in-reply-to:cc:to:from:subject:message-id:date :x-gm-message-state:from:to:cc:subject:date:message-id:reply-to; bh=1Ea197djVZu2y1wnscE91qgWPnqcJgEr386K46G3GoI=; b=wd3Wpx7gFc4mC2jzedWx2wOqjOh2pPqc29Pcs/GKxIgPhZJO4s5NGN8lGlFHTLxzRa 0GP7/hopMk1FycuElEyNPnDqHSsayYKS+zosCxCN5pUkWkK2nOYMwhLZxTcw3MHPcv8y 3QHReNtkcDXuKJIboaDgYUQbDJxcVbVtyqZSgO+S7yqFD3MiqzHQc35V3wQcQ/Adc6jY 4JCGYxKkqE9Xbxk2gKWm08izjhkLuYxtNFKKOfXYjt0D0JRBpgLEiUpt7YqdObWk2pIF IQAvYnf59eOtbJ//fqrY64BUaVqxDfk75ujmv4E8wM71Az0nI0uFMbg5Gk1rPRNeq997 uPDQ== X-Gm-Message-State: AOJu0Yz5eLDk1E6J9iXaCGBJVAIzmBK2MFR2dzI74Caedx1qNN/cCavt rPKK/IDHh+QJul6ZKk3CU456iwH/Ixf3vR7OIPU3Ab1MIwhH3V6gPyl8uiDOWSTH28/UK8i577D ii7s64G09qPUoZj6YZljvovxJXS5VA/cbRdwvHefc7+L+ X-Gm-Gg: ASbGnct9BzCWaBMEE15G/Xl2+7nmdyrd2MiDxPFkVJBc/32mgteqIRCnoOw6sTDIK46 Fgsh2iKExBHbp7c4pnvhfsCGbFMV2afFY/LaVC9o8pcmgdKRylF8oZzSZ49I14n3fr2UYn7GDPc YxxLXf0AUVeOTVDTW4nElFH09DkbvPX2XWIM4W/TeUTWfSkPLnkGoudzU01U1LwT7orMIi0RX7e lRuFO2mdVMkvrUrbXs2TII9A7tpwImLFhaeiwIrghEQ+A6AH5yaHE+QaKyw0wFKgffDXa4ogIVV /pjMivc7vK4JId357xZB9RKFKkVt3yDZOiM9zblZ6BFEMqU/nJDpywJWTYm+vli65V/xn5p3dBB gfef3lJ5EyaMB+5+u2Hb/gBnoJh3urMI= X-Google-Smtp-Source: AGHT+IGcLJpLdsO8t1d8JimHNxpAoW2kP6Hv9UEGQzGFmsyG5JSJB5QQGzjf1+X31mYD6pJWFOJCREiUjjdz X-Received: by 2002:a05:6e02:3e03:b0:42d:84ec:b5da with SMTP id e9e14a558f8ab-430c5226e7fmr351208535ab.10.1761189860771; Wed, 22 Oct 2025 20:24:20 -0700 (PDT) Received: from postal.iol.unh.edu (postal.iol.unh.edu. [132.177.123.84]) by smtp-relay.gmail.com with ESMTPS id 8926c6da1cb9f-5abb7113b87sm64254173.22.2025.10.22.20.24.20 (version=TLS1_2 cipher=ECDHE-ECDSA-AES128-GCM-SHA256 bits=128/128); Wed, 22 Oct 2025 20:24:20 -0700 (PDT) X-Relaying-Domain: iol.unh.edu Date: Wed, 22 Oct 2025 20:24:20 -0700 (PDT) Message-ID: <68f99fe4.050a0220.f7867.3465SMTPIN_ADDED_MISSING@mx.google.com> Received: from [172.21.0.2] (unknown [172.18.0.240]) by postal.iol.unh.edu (Postfix) with ESMTP id 572FC60003F4; Wed, 22 Oct 2025 23:24:20 -0400 (EDT) Subject: |SUCCESS| pw157989 [PATCH] [v4] mbuf: optimize segment prefree From: dpdklab@iol.unh.edu To: Test Report Cc: dpdk-test-reports@iol.unh.edu In-Reply-To: <20251022144708.150069-1-mb@smartsharesystems.com> References: <20251022144708.150069-1-mb@smartsharesystems.com> Content-Type: text/plain X-BeenThere: test-report@dpdk.org X-Mailman-Version: 2.1.29 Precedence: list List-Id: automatic DPDK test reports List-Unsubscribe: , List-Archive: List-Post: List-Help: List-Subscribe: , Errors-To: test-report-bounces@dpdk.org Test-Label: iol-unit-arm64-testing Test-Status: SUCCESS http://dpdk.org/patch/157989 _Testing PASS_ Submitter: Morten Brorup Date: Wednesday, October 22 2025 14:47:08 DPDK git baseline: Repo:dpdk Branch: master CommitID:255cb9a98a23a65d23881187a72547d072068345 157989 --> testing pass Upstream job id: Generic-Unit-Test-DPDK#384178 Test environment and result as below: +------------------------------+---------------------------+--------------+------------------------------+----------------+ | Environment | cryptodev_sw_zuc_autotest | lpm_autotest | cryptodev_sw_snow3g_autotest | dpdk_unit_test | +==============================+===========================+==============+==============================+================+ | Debian 12 (arm) | PASS | SKIPPED | PASS | SKIPPED | +------------------------------+---------------------------+--------------+------------------------------+----------------+ | Ubuntu 20.04 | SKIPPED | PASS | SKIPPED | PASS | +------------------------------+---------------------------+--------------+------------------------------+----------------+ | Fedora Linux 40 | SKIPPED | SKIPPED | SKIPPED | PASS | +------------------------------+---------------------------+--------------+------------------------------+----------------+ | Fedora Linux 41 | SKIPPED | SKIPPED | SKIPPED | PASS | +------------------------------+---------------------------+--------------+------------------------------+----------------+ | CentOS Stream 10 | SKIPPED | SKIPPED | SKIPPED | PASS | +------------------------------+---------------------------+--------------+------------------------------+----------------+ | CentOS Stream 9 | SKIPPED | SKIPPED | SKIPPED | PASS | +------------------------------+---------------------------+--------------+------------------------------+----------------+ | Ubuntu 24.04 | SKIPPED | SKIPPED | SKIPPED | PASS | +------------------------------+---------------------------+--------------+------------------------------+----------------+ | Debian GNU/Linux 12 | SKIPPED | SKIPPED | SKIPPED | PASS | +------------------------------+---------------------------+--------------+------------------------------+----------------+ | Red Hat Enterprise Linux 9.5 | SKIPPED | SKIPPED | SKIPPED | PASS | +------------------------------+---------------------------+--------------+------------------------------+----------------+ | Fedora Linux 42 | SKIPPED | SKIPPED | SKIPPED | PASS | +------------------------------+---------------------------+--------------+------------------------------+----------------+ | Ubuntu 22.04 | SKIPPED | SKIPPED | SKIPPED | PASS | +------------------------------+---------------------------+--------------+------------------------------+----------------+ Debian 12 (arm) Kernel: Depends on container host Compiler: gcc (Debian 12.2.0-14) 12.2.0 Ubuntu 20.04 Kernel: 5.4 Compiler: gcc gcc (Ubuntu 9.4.0-1ubuntu1~20.04.2) 9.4.0 Fedora Linux 40 Kernel: 5.4 Compiler: gcc gcc (GCC) 14.2.1 20240912 (Red Hat 14.2.1-3) Fedora Linux 41 Kernel: 5.4 Compiler: gcc gcc (GCC) 14.3.1 20250523 (Red Hat 14.3.1-1) CentOS Stream 10 Kernel: 5.4 Compiler: gcc gcc (GCC) 14.2.1 20250110 (Red Hat 14.2.1-8) CentOS Stream 9 Kernel: 5.4 Compiler: gcc gcc (GCC) 11.5.0 20240719 (Red Hat 11.5.0-11) Ubuntu 24.04 Kernel: 5.4 Compiler: gcc gcc (Ubuntu 13.3.0-6ubuntu2~24.04) 13.3.0 Debian GNU/Linux 12 Kernel: 5.4 Compiler: gcc gcc (Debian 12.2.0-14+deb12u1) 12.2.0 Red Hat Enterprise Linux 9.5 Kernel: 5.4 Compiler: gcc gcc (GCC) 11.5.0 20240719 (Red Hat 11.5.0-2) Fedora Linux 42 Kernel: 5.4 Compiler: gcc gcc (GCC) 15.2.1 20250808 (Red Hat 15.2.1-1) Ubuntu 22.04 Kernel: 5.4 Compiler: gcc gcc (Ubuntu 11.4.0-1ubuntu1~22.04) 11.4.0 To view detailed results, visit: https://lab.dpdk.org/results/dashboard/patchsets/34343/ UNH-IOL DPDK Community Lab To manage your email subscriptions, visit: https://lab.dpdk.org/results/dashboard/preferences/subscriptions/