From mboxrd@z Thu Jan 1 00:00:00 1970 Return-Path: Received: from mails.dpdk.org (mails.dpdk.org [217.70.189.124]) by inbox.dpdk.org (Postfix) with ESMTP id 23E25489AB for ; Thu, 23 Oct 2025 05:38:28 +0200 (CEST) Received: from mails.dpdk.org (localhost [127.0.0.1]) by mails.dpdk.org (Postfix) with ESMTP id 1FB4D400D6; Thu, 23 Oct 2025 05:38:28 +0200 (CEST) Received: from mail-pj1-f98.google.com (mail-pj1-f98.google.com [209.85.216.98]) by mails.dpdk.org (Postfix) with ESMTP id 3BEB6400D6 for ; Thu, 23 Oct 2025 05:38:26 +0200 (CEST) Received: by mail-pj1-f98.google.com with SMTP id 98e67ed59e1d1-33ba2f134f1so338353a91.2 for ; Wed, 22 Oct 2025 20:38:26 -0700 (PDT) DKIM-Signature: v=1; a=rsa-sha256; c=relaxed/relaxed; d=iol.unh.edu; s=unh-iol; t=1761190705; x=1761795505; darn=dpdk.org; h=references:in-reply-to:cc:to:from:subject:message-id:date:from:to :cc:subject:date:message-id:reply-to; bh=zrvmRPplplt6PkOYlXTMdkOxfo74ydJyDQGmT3fKeu8=; b=VQxwlwZOcTsDEib1AHkwrT9QMxDox4w2j94H6KQJWAIHUgqjYLAWslZyYCgfuNXLUn /F2Koe5WgMJLjc/oXcNjwZOvoNmXFHfk9oDnniCFdJo48ShUNCxCOOhpQ3yFVot4AAMz l31MEbZY56+KaLRlzkV/CVO8BKcBynkUWs1jQ= X-Google-DKIM-Signature: v=1; a=rsa-sha256; c=relaxed/relaxed; d=1e100.net; s=20230601; t=1761190705; x=1761795505; h=references:in-reply-to:cc:to:from:subject:message-id:date :x-gm-message-state:from:to:cc:subject:date:message-id:reply-to; bh=zrvmRPplplt6PkOYlXTMdkOxfo74ydJyDQGmT3fKeu8=; b=K7qtpbXoPTgrdgFt2vYUQxdh8ltZvrWR/6ylJR936GxoaGVKf17bT6h96oNFEgfNV2 2XOg2N75m+9wHgZ6d4csaCy/FlSs5WNqC1kZBRdskJRNc4P0glK+bOuoZ6DkHwq8xvJ3 uDxVNfHla35uzZ3CXMVYXsiInXLk8spx1jTMyuCg2CixiIsKfxW6pxsKBpnxxyJQI675 UDrnBsvO78lvbCgCj7TTQvL4Uja4BL2T/sOyVbf67d68+uhhy+do25kJOrHc79KbgaNb bVlZdj6GeYqShtTKitqshI3M8riiHm7MhvagYjDfYmYrkcmNa3968jZe1bwBqEXWWYDi 5rVw== X-Gm-Message-State: AOJu0YxaJRHVYWwep9jwuo9EEsYkmZgXGyxPiOqOXMTQ5te2AjMN3sBt t3tLKkJ73SFYrSbjmuIwNTXBsEmPIpEMjBa8zGONcsyv3mev+RNMFwwj1jcktNXI/fFPg5HGilO rfSFxsVNZ9F2OHDB7mZdrDS1GR2fUBanLWygwTWDY0I/HLXmxYuhBEwJmmCYA X-Gm-Gg: ASbGncuGqY8fujN1EV/sY3s00l0aTTOoUPlQm2h/VyS2Pku1NNDo05r4nqHWEdQuPZI OOfFbgCjG9W6JghYz3D9xMpQ8+LZoMKQziOrtSTRt1SjSJFVxHNJaT1iThGsFltgW1rDuPuernX 1ZzVBzvsfAGWI4ts0VPpgDnk0YWja+iWPDmX8X5+0URbA3wKKOF4B/MOZLJe482Nor52YjgKVpC 940vvaWIHiOXyHF2ykpfZyidvQrkq08OlMaE5vMn3PUAyQE9WnH1SUIzICjzkNWQfeYFHtXZdV1 AXAEY4JYXlpDatdjZztR6l1sMSxEhJPYkw4j0aWfAWpTTzErN2vBRHPfNGZwQ0Z0EdFapsoaVtn c+oqrezF/ X-Google-Smtp-Source: AGHT+IGKJ17jXs9hrx1iv+Y2M6ogf3RJ9H+p5PB69i5o0Cte1BNI2uT9i39x9NRyIV5FPtyGFd9jtYSg5AlF X-Received: by 2002:a17:903:3c24:b0:269:8f2d:5221 with SMTP id d9443c01a7336-290c9c89cd4mr259061475ad.9.1761190705236; Wed, 22 Oct 2025 20:38:25 -0700 (PDT) Received: from postal.iol.unh.edu (postal.iol.unh.edu. [2606:4100:3880:1234::84]) by smtp-relay.gmail.com with ESMTPS id d9443c01a7336-2946df1b05csm965145ad.33.2025.10.22.20.38.25 (version=TLS1_2 cipher=ECDHE-ECDSA-AES128-GCM-SHA256 bits=128/128); Wed, 22 Oct 2025 20:38:25 -0700 (PDT) X-Relaying-Domain: iol.unh.edu Date: Wed, 22 Oct 2025 20:38:25 -0700 (PDT) Message-ID: <68f9a331.170a0220.2ab63.4f16SMTPIN_ADDED_MISSING@mx.google.com> Received: from [172.21.0.2] (unknown [172.18.0.240]) by postal.iol.unh.edu (Postfix) with ESMTP id 1BADE60003F4; Wed, 22 Oct 2025 23:38:24 -0400 (EDT) Subject: |SUCCESS| pw157989 [PATCH] [v4] mbuf: optimize segment prefree From: dpdklab@iol.unh.edu To: Test Report Cc: dpdk-test-reports@iol.unh.edu In-Reply-To: <20251022144708.150069-1-mb@smartsharesystems.com> References: <20251022144708.150069-1-mb@smartsharesystems.com> Content-Type: text/plain X-BeenThere: test-report@dpdk.org X-Mailman-Version: 2.1.29 Precedence: list List-Id: automatic DPDK test reports List-Unsubscribe: , List-Archive: List-Post: List-Help: List-Subscribe: , Errors-To: test-report-bounces@dpdk.org Test-Label: iol-compile-arm64-testing Test-Status: SUCCESS http://dpdk.org/patch/157989 _Testing PASS_ Submitter: Morten Brorup Date: Wednesday, October 22 2025 14:47:08 DPDK git baseline: Repo:dpdk Branch: master CommitID:255cb9a98a23a65d23881187a72547d072068345 157989 --> testing pass Upstream job id: Generic-DPDK-Compile-Meson#436785 Test environment and result as below: +------------------------------+--------------------+ | Environment | dpdk_meson_compile | +==============================+====================+ | Ubuntu 20.04 | PASS | +------------------------------+--------------------+ | Red Hat Enterprise Linux 9.5 | PASS | +------------------------------+--------------------+ | Debian GNU/Linux 12 | PASS | +------------------------------+--------------------+ | Fedora Linux 42 | PASS | +------------------------------+--------------------+ | Ubuntu 22.04 | PASS | +------------------------------+--------------------+ | CentOS Stream 10 | PASS | +------------------------------+--------------------+ | Ubuntu 24.04 | PASS | +------------------------------+--------------------+ | CentOS Stream 9 | PASS | +------------------------------+--------------------+ Ubuntu 20.04 Kernel: 5.15 Compiler: aarch64-linux-gnu-gcc gcc (Ubuntu 9.4.0-1ubuntu1~20.04.2) 9.4.0 Red Hat Enterprise Linux 9.5 Kernel: 5.4 Compiler: gcc gcc (GCC) 11.5.0 20240719 (Red Hat 11.5.0-2) Debian GNU/Linux 12 Kernel: 5.4 Compiler: gcc gcc (Debian 12.2.0-14+deb12u1) 12.2.0 Fedora Linux 42 Kernel: 5.4 Compiler: gcc gcc (GCC) 15.2.1 20250808 (Red Hat 15.2.1-1) Ubuntu 22.04 Kernel: 5.4 Compiler: gcc gcc (Ubuntu 11.4.0-1ubuntu1~22.04) 11.4.0 CentOS Stream 10 Kernel: 5.4 Compiler: gcc gcc (GCC) 14.2.1 20250110 (Red Hat 14.2.1-8) Ubuntu 24.04 Kernel: 5.4 Compiler: gcc gcc (Ubuntu 13.3.0-6ubuntu2~24.04) 13.3.0 CentOS Stream 9 Kernel: 5.4 Compiler: gcc gcc (GCC) 11.5.0 20240719 (Red Hat 11.5.0-11) To view detailed results, visit: https://lab.dpdk.org/results/dashboard/patchsets/34343/ UNH-IOL DPDK Community Lab To manage your email subscriptions, visit: https://lab.dpdk.org/results/dashboard/preferences/subscriptions/