From mboxrd@z Thu Jan 1 00:00:00 1970 Return-Path: Received: from mails.dpdk.org (mails.dpdk.org [217.70.189.124]) by inbox.dpdk.org (Postfix) with ESMTP id 31F80489AB for ; Thu, 23 Oct 2025 05:38:43 +0200 (CEST) Received: from mails.dpdk.org (localhost [127.0.0.1]) by mails.dpdk.org (Postfix) with ESMTP id 2E549400D6; Thu, 23 Oct 2025 05:38:43 +0200 (CEST) Received: from mail-ot1-f97.google.com (mail-ot1-f97.google.com [209.85.210.97]) by mails.dpdk.org (Postfix) with ESMTP id 863D5400D6 for ; Thu, 23 Oct 2025 05:38:41 +0200 (CEST) Received: by mail-ot1-f97.google.com with SMTP id 46e09a7af769-7c2766675adso241846a34.1 for ; Wed, 22 Oct 2025 20:38:41 -0700 (PDT) DKIM-Signature: v=1; a=rsa-sha256; c=relaxed/relaxed; d=iol.unh.edu; s=unh-iol; t=1761190720; x=1761795520; darn=dpdk.org; h=references:in-reply-to:cc:to:from:subject:message-id:date:from:to :cc:subject:date:message-id:reply-to; bh=BDPrgG7tQxIY+rTiKM3C5yW6hk9DhMAbF9FTjQVPQPY=; b=bB1dEJFuxNObeR41RuQfJXTMq/UNPisuojiFsMKRo1N1Cb96sxiVSjA7guvD0Cx3/s Q83HFpbfxnY0z0crhc2vc0/kuNJI2jCYQJdZ1kHAHeO+YENJY9J27l3a+HdtKzfAhVHv R4jrXfS84PbI6fjmdHWaL5uBonydQpOejUl8c= X-Google-DKIM-Signature: v=1; a=rsa-sha256; c=relaxed/relaxed; d=1e100.net; s=20230601; t=1761190720; x=1761795520; h=references:in-reply-to:cc:to:from:subject:message-id:date :x-gm-message-state:from:to:cc:subject:date:message-id:reply-to; bh=BDPrgG7tQxIY+rTiKM3C5yW6hk9DhMAbF9FTjQVPQPY=; b=d0pgtJvS+MwLuTct3PCCfvECy+ti9+migKvpXST8C6HkeqrVn1bMvcJ9ANsI2tVlCZ +hXB7HcIDmmm6t8tsTJDBtR+3gwveBRdZcTBHFoHGgUK3ZzF5HgJViF+IwruVmLsBs4S 4a/mp2cQlheKQnyOZ2dvVfyJexya+gjaP91+uCzgvahhCjFVqptvJLEc4DjmdWbCu3bn 0nC39IvXWmY0Z73iki2unDLQfbA1BTPDkuzlXI2dFpEQ0RjAgciZVuzyUSkfFsDjYF5j 199d5SC9OcWprF4EFnMSfcGVjBC/fDVD5W9eGuaYwdoKSKUTsAOoBm0LYa86qexvPJRu stVg== X-Gm-Message-State: AOJu0YyCdGx1J2aN9CnbkjcF6KcGK2ufY5yojbp0eyVVWHixMRP7hEin qyJx+xKiRIlFhkwEaZSQK4jl0UfzN47dOuIosE9yl6dk6TXWcsvTAuglwhStLQ9vXoONHLzYOCn Md3xfx8dRbh81MxSpc034GxGc9A9VHquAL9xvk+VMQmSf X-Gm-Gg: ASbGncuzQd/57ZlkFe4SRYFj7z2uT7ZFAB0KD+1kPZE6aPGx6+JWzWk+9FGMAtxWhEn JZ6tpNkze0broNwW8acTMY5gOOGoAsVskLbg6k1kadYxRphESaWt6SXZzej/7NUAm+seUAz67Sj JlpRU3SwH2BVk8MXgRYr8qxXmBhdpL/yY7oiFnp4DwJ0xCqnSIx4rH27nF+EFKCPjIiYr7x0xk8 I5QgMDo6ZCiHxew/HMuHoWJWn3JEZaLz6rUsPLXGGgfj3J7Z7RSHGcwZ2idTI7g8xYHMwoxf5Q5 NR/upERHno/mCAa/f1IzpLmfqIaSEtqeuZxRJ64xG/CdvTGfqswleWnpwkHnak+CubuPAB7tp5Y oUOOFaCOt+aYH2gYUGjebJErDDs+Oh2s= X-Google-Smtp-Source: AGHT+IEalcEmwJQt/5ouPiq3VsexoW0zMSK/iInMJOKo3EZId7KFTfP4A9ekszvie2+OPpkvcYGess9INsHf X-Received: by 2002:a05:6830:d06:b0:78d:a443:8c93 with SMTP id 46e09a7af769-7c27ca2b3fdmr12096676a34.6.1761190720614; Wed, 22 Oct 2025 20:38:40 -0700 (PDT) Received: from postal.iol.unh.edu (postal.iol.unh.edu. [132.177.123.84]) by smtp-relay.gmail.com with ESMTPS id 46e09a7af769-7c51b02db73sm79871a34.3.2025.10.22.20.38.40 (version=TLS1_2 cipher=ECDHE-ECDSA-AES128-GCM-SHA256 bits=128/128); Wed, 22 Oct 2025 20:38:40 -0700 (PDT) X-Relaying-Domain: iol.unh.edu Date: Wed, 22 Oct 2025 20:38:40 -0700 (PDT) Message-ID: <68f9a340.050a0220.26db92.435cSMTPIN_ADDED_MISSING@mx.google.com> Received: from [172.21.0.2] (unknown [172.18.0.240]) by postal.iol.unh.edu (Postfix) with ESMTP id D58D86051830; Wed, 22 Oct 2025 23:38:39 -0400 (EDT) Subject: |SUCCESS| pw157989 [PATCH] [v4] mbuf: optimize segment prefree From: dpdklab@iol.unh.edu To: Test Report Cc: dpdk-test-reports@iol.unh.edu In-Reply-To: <20251022144708.150069-1-mb@smartsharesystems.com> References: <20251022144708.150069-1-mb@smartsharesystems.com> Content-Type: text/plain X-BeenThere: test-report@dpdk.org X-Mailman-Version: 2.1.29 Precedence: list List-Id: automatic DPDK test reports List-Unsubscribe: , List-Archive: List-Post: List-Help: List-Subscribe: , Errors-To: test-report-bounces@dpdk.org Test-Label: iol-compile-arm64-testing Test-Status: SUCCESS http://dpdk.org/patch/157989 _Testing PASS_ Submitter: Morten Brorup Date: Wednesday, October 22 2025 14:47:08 DPDK git baseline: Repo:dpdk Branch: master CommitID:255cb9a98a23a65d23881187a72547d072068345 157989 --> testing pass Upstream job id: Generic-DPDK-Compile-Meson#436784 Test environment and result as below: +------------------------------+--------------------+ | Environment | dpdk_meson_compile | +==============================+====================+ | Ubuntu 20.04 | PASS | +------------------------------+--------------------+ | Red Hat Enterprise Linux 9.5 | PASS | +------------------------------+--------------------+ | Debian GNU/Linux 12 | PASS | +------------------------------+--------------------+ | Fedora Linux 42 | PASS | +------------------------------+--------------------+ | Ubuntu 22.04 | PASS | +------------------------------+--------------------+ | CentOS Stream 10 | PASS | +------------------------------+--------------------+ | Ubuntu 24.04 | PASS | +------------------------------+--------------------+ | CentOS Stream 9 | PASS | +------------------------------+--------------------+ Ubuntu 20.04 Kernel: 5.15 Compiler: aarch64-linux-gnu-gcc gcc (Ubuntu 9.4.0-1ubuntu1~20.04.2) 9.4.0 Red Hat Enterprise Linux 9.5 Kernel: 5.4 Compiler: gcc gcc (GCC) 11.5.0 20240719 (Red Hat 11.5.0-2) Debian GNU/Linux 12 Kernel: 5.4 Compiler: gcc gcc (Debian 12.2.0-14+deb12u1) 12.2.0 Fedora Linux 42 Kernel: 5.4 Compiler: gcc gcc (GCC) 15.2.1 20250808 (Red Hat 15.2.1-1) Ubuntu 22.04 Kernel: 5.4 Compiler: gcc gcc (Ubuntu 11.4.0-1ubuntu1~22.04) 11.4.0 CentOS Stream 10 Kernel: 5.4 Compiler: gcc gcc (GCC) 14.2.1 20250110 (Red Hat 14.2.1-8) Ubuntu 24.04 Kernel: 5.4 Compiler: gcc gcc (Ubuntu 13.3.0-6ubuntu2~24.04) 13.3.0 CentOS Stream 9 Kernel: 5.4 Compiler: gcc gcc (GCC) 11.5.0 20240719 (Red Hat 11.5.0-11) To view detailed results, visit: https://lab.dpdk.org/results/dashboard/patchsets/34343/ UNH-IOL DPDK Community Lab To manage your email subscriptions, visit: https://lab.dpdk.org/results/dashboard/preferences/subscriptions/