From mboxrd@z Thu Jan 1 00:00:00 1970 Return-Path: Received: from mails.dpdk.org (mails.dpdk.org [217.70.189.124]) by inbox.dpdk.org (Postfix) with ESMTP id AF2E2489AC for ; Thu, 23 Oct 2025 06:55:11 +0200 (CEST) Received: from mails.dpdk.org (localhost [127.0.0.1]) by mails.dpdk.org (Postfix) with ESMTP id A7A84400D6; Thu, 23 Oct 2025 06:55:11 +0200 (CEST) Received: from mail-oo1-f98.google.com (mail-oo1-f98.google.com [209.85.161.98]) by mails.dpdk.org (Postfix) with ESMTP id 1BFDA400D6 for ; Thu, 23 Oct 2025 06:55:10 +0200 (CEST) Received: by mail-oo1-f98.google.com with SMTP id 006d021491bc7-65363319bacso194170eaf.2 for ; Wed, 22 Oct 2025 21:55:10 -0700 (PDT) DKIM-Signature: v=1; a=rsa-sha256; c=relaxed/relaxed; d=iol.unh.edu; s=unh-iol; t=1761195309; x=1761800109; darn=dpdk.org; h=references:in-reply-to:cc:to:from:subject:message-id:date:from:to :cc:subject:date:message-id:reply-to; bh=dIKUry2PNuuRG1MfxlSHY2mE0c2g21lZC+DbFWqtcgI=; b=gd9iZVccs2mLJPBwZSqwVgzUTApZxVG5M2YuwBJ0z1hAU7QExfipjB6CBs86tHhgwA S3vZT4C+PzQzq1JUj5duf0OVswuglr6yfMpY1HdHzsCfrHqprQM+0UlHm0PgLO09qqDN hMdG1Kk6wr8VnWySgQFNG6+D07a07xuGkjeHo= X-Google-DKIM-Signature: v=1; a=rsa-sha256; c=relaxed/relaxed; d=1e100.net; s=20230601; t=1761195309; x=1761800109; h=references:in-reply-to:cc:to:from:subject:message-id:date :x-gm-message-state:from:to:cc:subject:date:message-id:reply-to; bh=dIKUry2PNuuRG1MfxlSHY2mE0c2g21lZC+DbFWqtcgI=; b=jp6f24vRH3zMBPlcs0XIhgNqP9aUm67kKmovLb8gh1aQHELi1IJR0P5YxCeadFCmvG /OBYm32H1g6pDjYVpqKMWUAoJWMop0z70Cu4KlQVg+5jc1IM4PmXFxQrOwIQTWKhcSbr goCEjMEH69Zt54u+myV4jZXvYwx7W0AroiZ48KSMqDOtwe7hBMC+2LLmt7iUvs3ywuL1 bbRabNrUIhRRMhq1Iu35ueZm7dP9+WQ0FGPM4fudD6qrDeNTtBWRNjkolXNXrqgqkclj ioumrHB9r/jUO6I/Pjn6NBBsy92VCY/qpWcrZgnCZ7QzlNmRatnlcN46cT9qrNpxj6Jg 0Dig== X-Gm-Message-State: AOJu0YwVLSX3ZUEmzmRXVS/108+bWnjJDHUeh02S+qFCduL/Wa7ItQyZ 0v+ci0mHEtiWa1whPbmzae7wd13Lu/vbNTzdWkTD8ig5/cq9bPuSV4uagZ8UJ+DGddrjQuto+mE NeOWqN6MtsDg8cYtJ1jwttxYlUyL3GE0IMBTdbz7eRfTAcgFWHmwrd/KEMju1 X-Gm-Gg: ASbGncvb2osPUpSh5yrOGZe9wd06/z1fFdeNRgZe2curzZslopi0+sTuAbzqY9iJSA0 O4+AM0AyisJiggWgH8je/kK4VtpadjarSKH+gip9JSuzSo9mNQkG7Tf4JrlX7LTsMqFdSc5bPJu IRRZeeiC3Dsgc/9ukZhTzcsXIhKcusX8Kapwix825uLx0ovcYzDCnBEczL5Ofb+QrWIh4UZF864 xzfmLY/hT3c09YEuEB4OSHvRp5j2vlT5GCMuduf1Unhd/lgOP2961Q0Q9Tcoj9FSQachyt1msGe vDaqRNmFv7NvGD+8AdxLpqcZSixBGb8Cc4yecvLgLX+dos2ZBWfDkX4lZmfB+h8E1Nvka8IcFdx tdXpMdNpu X-Google-Smtp-Source: AGHT+IHsG5YVvN0wem18LdW6lVXJth2foH1eaY8xifqmJnGAmQZGwZoW8HlqOg8Lbd2AhQMrl+JL+5AeSQ39 X-Received: by 2002:a05:6870:3041:b0:3c9:84fa:2664 with SMTP id 586e51a60fabf-3c98d0fb5famr10246669fac.40.1761195309175; Wed, 22 Oct 2025 21:55:09 -0700 (PDT) Received: from postal.iol.unh.edu (postal.iol.unh.edu. [2606:4100:3880:1234::84]) by smtp-relay.gmail.com with ESMTPS id 586e51a60fabf-3cdc4ea6f01sm89376fac.18.2025.10.22.21.55.09 (version=TLS1_2 cipher=ECDHE-ECDSA-AES128-GCM-SHA256 bits=128/128); Wed, 22 Oct 2025 21:55:09 -0700 (PDT) X-Relaying-Domain: iol.unh.edu Date: Wed, 22 Oct 2025 21:55:09 -0700 (PDT) Message-ID: <68f9b52d.050a0220.1440d2.4bb8SMTPIN_ADDED_MISSING@mx.google.com> Received: from [172.21.0.2] (unknown [172.18.0.240]) by postal.iol.unh.edu (Postfix) with ESMTP id AB95D6051830; Thu, 23 Oct 2025 00:55:08 -0400 (EDT) Subject: |SUCCESS| pw157995 [PATCH] net/ngbe: support to identify centec sk21 From: dpdklab@iol.unh.edu To: Test Report Cc: dpdk-test-reports@iol.unh.edu, Stephen Hemminger In-Reply-To: <4BC1A3490B167701+20251023033207.62299-1-jiawenwu@trustnetic.com> References: <4BC1A3490B167701+20251023033207.62299-1-jiawenwu@trustnetic.com> Content-Type: text/plain X-BeenThere: test-report@dpdk.org X-Mailman-Version: 2.1.29 Precedence: list List-Id: automatic DPDK test reports List-Unsubscribe: , List-Archive: List-Post: List-Help: List-Subscribe: , Errors-To: test-report-bounces@dpdk.org Test-Label: iol-unit-amd64-testing Test-Status: SUCCESS http://dpdk.org/patch/157995 _Testing PASS_ Submitter: Jiawen Wu Date: Thursday, October 23 2025 03:32:07 DPDK git baseline: Repo:dpdk-next-net Branch: master CommitID:4c4055bdd19f919795f83a01faae9fc267570d7f 157995 --> testing pass Upstream job id: Generic-Unit-Test-DPDK#384257 Test environment and result as below: +-------------------------------+----------------+ | Environment | dpdk_unit_test | +===============================+================+ | CentOS Stream 10 | PASS | +-------------------------------+----------------+ | Fedora Linux 42 | PASS | +-------------------------------+----------------+ | Debian GNU/Linux 12 | PASS | +-------------------------------+----------------+ | CentOS Stream 9 | PASS | +-------------------------------+----------------+ | Fedora Linux 41 | PASS | +-------------------------------+----------------+ | Fedora Linux 40 | PASS | +-------------------------------+----------------+ | Red Hat Enterprise Linux 9.5 | PASS | +-------------------------------+----------------+ | Ubuntu 20.04 | PASS | +-------------------------------+----------------+ | Ubuntu 24.04 | PASS | +-------------------------------+----------------+ | Red Hat Enterprise Linux 8.10 | PASS | +-------------------------------+----------------+ | Ubuntu 22.04 | PASS | +-------------------------------+----------------+ | Windows Server 2022 | PASS | +-------------------------------+----------------+ CentOS Stream 10 Kernel: 5.15 Compiler: gcc gcc (GCC) 14.2.1 20250110 (Red Hat 14.2.1-8) Fedora Linux 42 Kernel: 5.15 Compiler: gcc gcc (GCC) 15.2.1 20250808 (Red Hat 15.2.1-1) Debian GNU/Linux 12 Kernel: 5.15 Compiler: gcc gcc (Debian 12.2.0-14+deb12u1) 12.2.0 CentOS Stream 9 Kernel: 5.15 Compiler: gcc gcc (GCC) 11.5.0 20240719 (Red Hat 11.5.0-11) Fedora Linux 41 Kernel: 5.15 Compiler: clang gcc (GCC) 14.3.1 20250523 (Red Hat 14.3.1-1) Fedora Linux 40 Kernel: 5.15 Compiler: clang gcc (GCC) 14.2.1 20240912 (Red Hat 14.2.1-3) Red Hat Enterprise Linux 9.5 Kernel: 5.15 Compiler: gcc gcc (GCC) 11.5.0 20240719 (Red Hat 11.5.0-2) Ubuntu 20.04 Kernel: 5.15 Compiler: gcc gcc (Ubuntu 9.4.0-1ubuntu1~20.04.2) 9.4.0 Ubuntu 24.04 Kernel: 5.15 Compiler: gcc gcc (Ubuntu 13.3.0-6ubuntu2~24.04) 13.3.0 Red Hat Enterprise Linux 8.10 Kernel: 5.15 Compiler: gcc gcc (GCC) 8.5.0 20210514 (Red Hat 8.5.0-22) Ubuntu 22.04 Kernel: 5.15 Compiler: gcc gcc (Ubuntu 11.4.0-1ubuntu1~22.04) 11.4.0 Windows Server 2022 Kernel: 10.0.20348.2031 Compiler: clang 15.0.7, gcc 14.1.0 (MinGW), and MSVC VS 19.39.33521 To view detailed results, visit: https://lab.dpdk.org/results/dashboard/patchsets/34350/ UNH-IOL DPDK Community Lab To manage your email subscriptions, visit: https://lab.dpdk.org/results/dashboard/preferences/subscriptions/