From mboxrd@z Thu Jan 1 00:00:00 1970 Return-Path: Received: from mails.dpdk.org (mails.dpdk.org [217.70.189.124]) by inbox.dpdk.org (Postfix) with ESMTP id 4D973489AC for ; Thu, 23 Oct 2025 07:54:43 +0200 (CEST) Received: from mails.dpdk.org (localhost [127.0.0.1]) by mails.dpdk.org (Postfix) with ESMTP id 25D4840268; Thu, 23 Oct 2025 07:54:43 +0200 (CEST) Received: from mail-qk1-f226.google.com (mail-qk1-f226.google.com [209.85.222.226]) by mails.dpdk.org (Postfix) with ESMTP id 8B83B40268 for ; Thu, 23 Oct 2025 07:54:41 +0200 (CEST) Received: by mail-qk1-f226.google.com with SMTP id af79cd13be357-856701dc22aso45029185a.3 for ; Wed, 22 Oct 2025 22:54:41 -0700 (PDT) DKIM-Signature: v=1; a=rsa-sha256; c=relaxed/relaxed; d=iol.unh.edu; s=unh-iol; t=1761198881; x=1761803681; darn=dpdk.org; h=cc:to:from:subject:message-id:date:from:to:cc:subject:date :message-id:reply-to; bh=YsFnmiJrZGLe7/wZXA7TvVNCufsdFfaYI5XOdUJSgEY=; b=MiNcn3aDCOyComRjtSjfqiub4zAGkt9emhcvzwZKA1FYzjsfMAZnOwmz4oXlmm18v8 xefGfRhBjCWN38T8dm1RaguxELXowl20+8M1Yk7cniBqQIz2zlUxyuJHlpWkbSAHGeyO sYCUmgwsPrCcE1yVI9qM6Y2YP57aAlSSZaDkU= X-Google-DKIM-Signature: v=1; a=rsa-sha256; c=relaxed/relaxed; d=1e100.net; s=20230601; t=1761198881; x=1761803681; h=cc:to:from:subject:message-id:date:x-gm-message-state:from:to:cc :subject:date:message-id:reply-to; bh=YsFnmiJrZGLe7/wZXA7TvVNCufsdFfaYI5XOdUJSgEY=; b=CrtjiA81R7XNYjUrNLLxYbXzMhVaWYQKTl7OPWoufKtcucNq7Mc92ZVKfRr892fLwx k2m17czaiW/KDZR8dBMH18dkhsYwayZPyE3nHWNJFsJEOruzzZfcixu5La4x9qcS6yEJ LwLhr+Gyxi74dgvEHFUK0d7GMriY/7gVDQOLO6042vUT+NQNi9Ucy9Mec9mO5pWoXHL+ aTVi1BuVSIpopHLPVwVBm8YgMhj6Wt98rh6YmfgbKbdZbAFsKqJD+P5PCbAk9H/wGIHo 540H0QFgUMFKjkSrSHbj40mzERWVi2hciGNY35USOf6PUN+h/WNDc9EtaX0sPXSheCsG KUtQ== X-Gm-Message-State: AOJu0Yz5kzY6XOw7/9ECyUVBQe3smLuoXwzCK/ehS1Of8nk4JkXUqdXP J1n9+mTeIx+XOa42XvPrFWmWjUEsbGj4JDOYFyKtP2AfUcvOs0KBE+PYz0DGo9gEJApBIdSD/qg gF7iLTCSt+tsQzIt6CbApJdxm8qyVoruYHcKbk5lH2uc35GYvATnk X-Gm-Gg: ASbGncveuSIbeE9XfmY/9IEIx0P2zcmATDwVwVRXNfRkGZY9l1ZndBqqPnkB1sChfip RsJFE8jwnDDDbsXEXdDMjRx7f/bKfYFkx11rLDtnAZsj7qLq0tD9m1f4DlrE+4z2sVEldADr4vy gl3sesyj2LYu0LCgNImm+FPcmZaTvG6QtqvGGGUzeHQdpmtacu+oesVtfsfSdxTWMBoaNl6U8Ty Upu2zwAfeM2P81rKXYbZCsP1U5djsHuCCuJHs3nNkLeKAD/Mja271BV6NnnEyOeAuvYx11LzMED hRyo7GSx5giv2LN63NODsUy89faO21Mqo9Rt6fXrlDX5fKpNsR5HiMcdeuS9ljAJ/MZCle8ACvj SS2qr8MnP X-Google-Smtp-Source: AGHT+IHfGaiOpvRBKykVvD7kJIu3RZmLFJKKKK+12PTU63EalctuEiIRDZOHGTCWsw+kox7Kyk1+QQJ2zM9g X-Received: by 2002:a05:620a:1999:b0:893:2ba8:eeb8 with SMTP id af79cd13be357-8932ba8f09dmr1704911785a.56.1761198880829; Wed, 22 Oct 2025 22:54:40 -0700 (PDT) Received: from postal.iol.unh.edu (postal.iol.unh.edu. [2606:4100:3880:1234::84]) by smtp-relay.gmail.com with ESMTPS id af79cd13be357-89c11e62a36sm10749785a.7.2025.10.22.22.54.40 (version=TLS1_2 cipher=ECDHE-ECDSA-AES128-GCM-SHA256 bits=128/128); Wed, 22 Oct 2025 22:54:40 -0700 (PDT) X-Relaying-Domain: iol.unh.edu Date: Wed, 22 Oct 2025 22:54:40 -0700 (PDT) Message-ID: <68f9c320.050a0220.38777e.5701SMTPIN_ADDED_MISSING@mx.google.com> Received: from [172.21.0.3] (unknown [172.18.0.240]) by postal.iol.unh.edu (Postfix) with ESMTP id 63DF86051830; Thu, 23 Oct 2025 01:54:40 -0400 (EDT) Subject: |SUCCESS| [GIT MASTER] 07310b65d3aadc34a04066579860880149e1d8f7 From: dpdklab@iol.unh.edu To: Test Report Cc: dpdk-test-reports@iol.unh.edu, Ajit Khaparde Content-Type: text/plain X-BeenThere: test-report@dpdk.org X-Mailman-Version: 2.1.29 Precedence: list List-Id: automatic DPDK test reports List-Unsubscribe: , List-Archive: List-Post: List-Help: List-Subscribe: , Errors-To: test-report-bounces@dpdk.org _Testing PASS_ Branch: next-net-brcm-for-next-net 07310b65d3aadc34a04066579860880149e1d8f7 --> testing pass Upstream job id: Generic-Unit-Test-DPDK#384184 Test environment and result as below: +------------------------------+----------------+--------------+------------------------------+---------------------------+ | Environment | dpdk_unit_test | lpm_autotest | cryptodev_sw_snow3g_autotest | cryptodev_sw_zuc_autotest | +==============================+================+==============+==============================+===========================+ | CentOS Stream 9 | PASS | SKIPPED | SKIPPED | SKIPPED | +------------------------------+----------------+--------------+------------------------------+---------------------------+ | Debian GNU/Linux 12 | PASS | SKIPPED | SKIPPED | SKIPPED | +------------------------------+----------------+--------------+------------------------------+---------------------------+ | Fedora Linux 40 | PASS | SKIPPED | SKIPPED | SKIPPED | +------------------------------+----------------+--------------+------------------------------+---------------------------+ | Ubuntu 22.04 | PASS | SKIPPED | SKIPPED | SKIPPED | +------------------------------+----------------+--------------+------------------------------+---------------------------+ | Ubuntu 24.04 | PASS | SKIPPED | SKIPPED | SKIPPED | +------------------------------+----------------+--------------+------------------------------+---------------------------+ | Fedora Linux 42 | PASS | SKIPPED | SKIPPED | SKIPPED | +------------------------------+----------------+--------------+------------------------------+---------------------------+ | Fedora Linux 41 | PASS | SKIPPED | SKIPPED | SKIPPED | +------------------------------+----------------+--------------+------------------------------+---------------------------+ | Ubuntu 20.04 | PASS | PASS | SKIPPED | SKIPPED | +------------------------------+----------------+--------------+------------------------------+---------------------------+ | Red Hat Enterprise Linux 9.5 | PASS | SKIPPED | SKIPPED | SKIPPED | +------------------------------+----------------+--------------+------------------------------+---------------------------+ | CentOS Stream 10 | PASS | SKIPPED | SKIPPED | SKIPPED | +------------------------------+----------------+--------------+------------------------------+---------------------------+ | Debian 12 (arm) | SKIPPED | SKIPPED | PASS | PASS | +------------------------------+----------------+--------------+------------------------------+---------------------------+ CentOS Stream 9 Kernel: 5.4 Compiler: gcc gcc (GCC) 11.5.0 20240719 (Red Hat 11.5.0-11) Debian GNU/Linux 12 Kernel: 5.4 Compiler: gcc gcc (Debian 12.2.0-14+deb12u1) 12.2.0 Fedora Linux 40 Kernel: 5.4 Compiler: gcc gcc (GCC) 14.2.1 20240912 (Red Hat 14.2.1-3) Ubuntu 22.04 Kernel: 5.4 Compiler: gcc gcc (Ubuntu 11.4.0-1ubuntu1~22.04) 11.4.0 Ubuntu 24.04 Kernel: 5.4 Compiler: gcc gcc (Ubuntu 13.3.0-6ubuntu2~24.04) 13.3.0 Fedora Linux 42 Kernel: 5.4 Compiler: clang gcc (GCC) 15.2.1 20250808 (Red Hat 15.2.1-1) Fedora Linux 41 Kernel: 5.4 Compiler: gcc gcc (GCC) 14.3.1 20250523 (Red Hat 14.3.1-1) Ubuntu 20.04 Kernel: 5.4 Compiler: gcc gcc (Ubuntu 9.4.0-1ubuntu1~20.04.2) 9.4.0 Red Hat Enterprise Linux 9.5 Kernel: 5.4 Compiler: gcc gcc (GCC) 11.5.0 20240719 (Red Hat 11.5.0-2) CentOS Stream 10 Kernel: 5.4 Compiler: gcc gcc (GCC) 14.2.1 20250110 (Red Hat 14.2.1-8) Debian 12 (arm) Kernel: Depends on container host Compiler: gcc (Debian 12.2.0-14) 12.2.0 To view detailed results, visit: https://lab.dpdk.org/results/dashboard/tarballs/35304/ UNH-IOL DPDK Community Lab To manage your email subscriptions, visit: https://lab.dpdk.org/results/dashboard/preferences/subscriptions/