From mboxrd@z Thu Jan 1 00:00:00 1970 Return-Path: Received: from mails.dpdk.org (mails.dpdk.org [217.70.189.124]) by inbox.dpdk.org (Postfix) with ESMTP id 0CBB5489AF for ; Thu, 23 Oct 2025 08:11:32 +0200 (CEST) Received: from mails.dpdk.org (localhost [127.0.0.1]) by mails.dpdk.org (Postfix) with ESMTP id 06BC2400D6; Thu, 23 Oct 2025 08:11:32 +0200 (CEST) Received: from mail-qv1-f100.google.com (mail-qv1-f100.google.com [209.85.219.100]) by mails.dpdk.org (Postfix) with ESMTP id AE41C400D6 for ; Thu, 23 Oct 2025 08:11:30 +0200 (CEST) Received: by mail-qv1-f100.google.com with SMTP id 6a1803df08f44-81efcad9c90so5020056d6.0 for ; Wed, 22 Oct 2025 23:11:30 -0700 (PDT) DKIM-Signature: v=1; a=rsa-sha256; c=relaxed/relaxed; d=iol.unh.edu; s=unh-iol; t=1761199890; x=1761804690; darn=dpdk.org; h=cc:to:from:subject:message-id:date:from:to:cc:subject:date :message-id:reply-to; bh=F58JC4ajDimiidmtnA0TghFexKFcY/F4cRYxUHAb+nc=; b=V1RqXwRO46nJGkP/YVDvK9NkynwaJ7xjjvvQ0N9ZfgXMIabJeiP94A8z3yM93sRKsx 6W6Zq/jVQHgRa6z7hJ6pdUpS88Ps8q9Y/PAD2es+HFq9MLcM7S1P+PGWNwtr5E+DqIGr YbF06sVkvjcq5XBgarDxOc72Xr/H20IeYrL9w= X-Google-DKIM-Signature: v=1; a=rsa-sha256; c=relaxed/relaxed; d=1e100.net; s=20230601; t=1761199890; x=1761804690; h=cc:to:from:subject:message-id:date:x-gm-message-state:from:to:cc :subject:date:message-id:reply-to; bh=F58JC4ajDimiidmtnA0TghFexKFcY/F4cRYxUHAb+nc=; b=j6U+cV10eexVagnfjD28rEvXBzTPqub9Vk6kWjlKWNOmFwsIOsJGSpss2RDYzWTNPM WSSkUztj8T5RLViUiq7C77qGvTaPzyXOfrh3Jm9pvHr79EBemZHgZAM3EUXKMiRzvlIT dRKIiG+eQsy9drWknXKHmtKjUYmwh3XBtuPefVMe1bW/Ucgszt260PYlUchE1Uo2p4yX dPaENUUuQn0kXy6LID6szlVVsFqeok3DMZAwjCas36c6PvZvuWjARsq+tul/KUA+nq7O Y8Zrv63l/aWL38iGZCEGFlt4LfNhDbleagsXsA4QmuTI0Vlrr2yq+gs4dIkOnhe1fApa OH0w== X-Gm-Message-State: AOJu0YxKy52aic4wmpu0y8QXFlOIO1zy+idxBk9rboEq88GlOYTmU6Ot 8xuUy8arE8fkf6vAH4m0Tah84lJPoudCrL2yJtDBUnIPf5C44k3KHFPnQ1jxy7U7W/KKCEw0jNA 1I9+EDgfcZnE0HHlScqFB9ZRMIA4dG8NoCXLf2HxW/zItmREeMZ1T X-Gm-Gg: ASbGnctB3S1G/zUlA8GfO2AwwrxzLcizBctMZ1l43+9NoBoEjcpE4vfMg+kxXYCwBpz zrE8EqLeN8EUSR9LjrNqo77XHl7530VYEOfk3bkhTAI8+eRPWkqE5qQwrLUkavulCSxYEmI9aW9 8nklI2EKtp+Kz7ufnUOh4iExOXBixpeXfHfKEUlDwvHuPwcY37NdDIA3uDuEN0wRnD6H26EOWVc EomCF6EpB6H3nYFNClsjZfdHk+hnRCff3UxPpOFvK+dakbI2NRRkEpvVqpsuxwEZAhAjD3vzm5C KjPMyS4ca5oIjm/hM/6mvBYaJW3lMQt9kG6hgg0rwBJjGRxkaiMyRVLPQp6ekzs360X4H28YF3u 8YY2lPaqt X-Google-Smtp-Source: AGHT+IFymN30flHFarws/OKb0s6mW5cREI5C6hwL4wy5KYElg/q+LclOnujYvNjxyML0AB8Juz+GsMxMtk1q X-Received: by 2002:a05:6214:1d05:b0:87e:50fd:7701 with SMTP id 6a1803df08f44-87e50fd7839mr40992906d6.66.1761199890089; Wed, 22 Oct 2025 23:11:30 -0700 (PDT) Received: from postal.iol.unh.edu (postal.iol.unh.edu. [2606:4100:3880:1234::84]) by smtp-relay.gmail.com with ESMTPS id 6a1803df08f44-87f9e72d5edsm1102456d6.15.2025.10.22.23.11.30 (version=TLS1_2 cipher=ECDHE-ECDSA-AES128-GCM-SHA256 bits=128/128); Wed, 22 Oct 2025 23:11:30 -0700 (PDT) X-Relaying-Domain: iol.unh.edu Date: Wed, 22 Oct 2025 23:11:30 -0700 (PDT) Message-ID: <68f9c712.050a0220.2f7e87.5751SMTPIN_ADDED_MISSING@mx.google.com> Received: from [172.21.0.2] (unknown [172.18.0.240]) by postal.iol.unh.edu (Postfix) with ESMTP id CB8F26051830; Thu, 23 Oct 2025 02:11:29 -0400 (EDT) Subject: |SUCCESS| [GIT MASTER] 3b43ce3f4a54468e7ef65760c2fd7b4d6ee6d9fc From: dpdklab@iol.unh.edu To: Test Report Cc: dpdk-test-reports@iol.unh.edu, Xueming Li , Christian Ehrhardt , Kevin Traynor , Luca Boccassi Content-Type: text/plain X-BeenThere: test-report@dpdk.org X-Mailman-Version: 2.1.29 Precedence: list List-Id: automatic DPDK test reports List-Unsubscribe: , List-Archive: List-Post: List-Help: List-Subscribe: , Errors-To: test-report-bounces@dpdk.org _Testing PASS_ Branch: tags/v22.11 3b43ce3f4a54468e7ef65760c2fd7b4d6ee6d9fc --> testing pass Upstream job id: Generic-DPDK-Compile-Meson#436871 Test environment and result as below: +-------------------------------+--------------------+-------------------------+----------------------+ | Environment | dpdk_meson_compile | dpdk_llvm_clang_compile | dpdk_mingw64_compile | +===============================+====================+=========================+======================+ | Ubuntu 20.04 | PASS | SKIPPED | SKIPPED | +-------------------------------+--------------------+-------------------------+----------------------+ | FreeBSD 14.2 | PASS | SKIPPED | SKIPPED | +-------------------------------+--------------------+-------------------------+----------------------+ | CentOS Stream 10 | PASS | SKIPPED | SKIPPED | +-------------------------------+--------------------+-------------------------+----------------------+ | Fedora Linux 42 | PASS | SKIPPED | SKIPPED | +-------------------------------+--------------------+-------------------------+----------------------+ | openSUSE Leap 15.6 | PASS | SKIPPED | SKIPPED | +-------------------------------+--------------------+-------------------------+----------------------+ | Red Hat Enterprise Linux 8.10 | PASS | SKIPPED | SKIPPED | +-------------------------------+--------------------+-------------------------+----------------------+ | Red Hat Enterprise Linux 9.5 | PASS | SKIPPED | SKIPPED | +-------------------------------+--------------------+-------------------------+----------------------+ | Debian GNU/Linux 12 | PASS | SKIPPED | SKIPPED | +-------------------------------+--------------------+-------------------------+----------------------+ | CentOS Stream 9 | PASS | SKIPPED | SKIPPED | +-------------------------------+--------------------+-------------------------+----------------------+ | Ubuntu 22.04 | PASS | SKIPPED | SKIPPED | +-------------------------------+--------------------+-------------------------+----------------------+ | Ubuntu 24.04 | PASS | SKIPPED | SKIPPED | +-------------------------------+--------------------+-------------------------+----------------------+ | Windows Server 2022 | SKIPPED | PASS | PASS | +-------------------------------+--------------------+-------------------------+----------------------+ Ubuntu 20.04 Kernel: 4.19 Compiler: gcc gcc (Ubuntu 9.4.0-1ubuntu1~20.04.2) 9.4.0 FreeBSD 14.2 Kernel: 14.2-RELEASE Compiler: clang 18.1.6 CentOS Stream 10 Kernel: 5.15 Compiler: gcc gcc (GCC) 14.2.1 20250110 (Red Hat 14.2.1-8) Fedora Linux 42 Kernel: 5.15 Compiler: gcc gcc (GCC) 15.2.1 20250808 (Red Hat 15.2.1-1) openSUSE Leap 15.6 Kernel: 5.15 Compiler: gcc gcc (SUSE Linux) 7.5.0 Red Hat Enterprise Linux 8.10 Kernel: 5.15 Compiler: gcc gcc (GCC) 8.5.0 20210514 (Red Hat 8.5.0-22) Red Hat Enterprise Linux 9.5 Kernel: 5.15 Compiler: gcc gcc (GCC) 11.5.0 20240719 (Red Hat 11.5.0-2) Debian GNU/Linux 12 Kernel: 5.15 Compiler: gcc gcc (Debian 12.2.0-14+deb12u1) 12.2.0 CentOS Stream 9 Kernel: 5.15 Compiler: gcc gcc (GCC) 11.5.0 20240719 (Red Hat 11.5.0-11) Ubuntu 22.04 Kernel: 5.15 Compiler: gcc gcc (Ubuntu 11.4.0-1ubuntu1~22.04) 11.4.0 Ubuntu 24.04 Kernel: 5.15 Compiler: gcc gcc (Ubuntu 13.3.0-6ubuntu2~24.04) 13.3.0 Windows Server 2022 Kernel: 10.0.20348.2031 Compiler: clang 15.0.7, gcc 14.1.0 (MinGW), and MSVC VS 19.39.33521 To view detailed results, visit: https://lab.dpdk.org/results/dashboard/tarballs/35307/ UNH-IOL DPDK Community Lab To manage your email subscriptions, visit: https://lab.dpdk.org/results/dashboard/preferences/subscriptions/