From mboxrd@z Thu Jan 1 00:00:00 1970 Return-Path: Received: from mails.dpdk.org (mails.dpdk.org [217.70.189.124]) by inbox.dpdk.org (Postfix) with ESMTP id 35F39489AF for ; Thu, 23 Oct 2025 08:12:10 +0200 (CEST) Received: from mails.dpdk.org (localhost [127.0.0.1]) by mails.dpdk.org (Postfix) with ESMTP id 31130400D6; Thu, 23 Oct 2025 08:12:10 +0200 (CEST) Received: from mail-pf1-f226.google.com (mail-pf1-f226.google.com [209.85.210.226]) by mails.dpdk.org (Postfix) with ESMTP id 715AE402A1 for ; Thu, 23 Oct 2025 08:11:58 +0200 (CEST) Received: by mail-pf1-f226.google.com with SMTP id d2e1a72fcca58-7a26dab3a97so277078b3a.0 for ; Wed, 22 Oct 2025 23:11:58 -0700 (PDT) DKIM-Signature: v=1; a=rsa-sha256; c=relaxed/relaxed; d=iol.unh.edu; s=unh-iol; t=1761199917; x=1761804717; darn=dpdk.org; h=cc:to:from:subject:message-id:date:from:to:cc:subject:date :message-id:reply-to; bh=WBqhRoQ4ZG1IYh10c5wF1/mJkg9ryOoXltslGDdyXus=; b=OKVFIc5ba5YK1f2yJU6xhTJPTl4o38NR1CXPnftkRsb92ZbRUfnDyM8y+qxWqxBbd5 icPPb3muQLSuZIN9Jmo+2VZRCF6bxTnkMsUEsQHU/voAqtI/NSUcvW+vlwb0NKuEpi1I 6PAndLsHO7tJdOtqj5I2ugg/E02gijL6IPrdQ= X-Google-DKIM-Signature: v=1; a=rsa-sha256; c=relaxed/relaxed; d=1e100.net; s=20230601; t=1761199917; x=1761804717; h=cc:to:from:subject:message-id:date:x-gm-message-state:from:to:cc :subject:date:message-id:reply-to; bh=WBqhRoQ4ZG1IYh10c5wF1/mJkg9ryOoXltslGDdyXus=; b=fj8KoU7jHmm9W612LE6u9xP6qUg1kFUDtDhjdDqEDsZtJzan9Dw3GTjr8mi2GJs6aP 5cu7SRo148M0lZifv5tNwi3boGwoLT+hGRvYH5ADOgLHkCbiSrQGuFpYyitU3zIGO9z+ IasXJLlVYmvcKSq7kTwB4+PpjmYQca1XSyiWAx5ZMxVbPIhbjpxuDLS5sbNovPBGWVQ2 NNg6yNwq1wMptgH6mvZbtbpHzFyzcVLL2D2hnlf3hSEDS3eMOwug4+fkMH/rmL5huztO VeOQPVvpS3v8gJVTaBhceACs9f86IQ9K+3CXbDlOLjKt1hlGPxARAdiNKX4HyJ2qXTBs dyQQ== X-Gm-Message-State: AOJu0YyMuDXePwoX7lzj2Ow76xAEvLL3b9cXmBRcynVOJAwMHCY/TSky UPaHTQXGCNi+Uo0Bngqj1F951qLsCZmZ1ROuhWE2XyrGnizTjjd6C8t3i9jRsclUv9tEerajD61 E9/iuqMpAfRxbTjWPrZeaXkYYeAFpYiVADoVK X-Gm-Gg: ASbGncuBO0lIpT5VnrURRiWv2ObpIQnax9rjoReMYF+wOP/Vsmf2bUYzY8Ef/0ymGdn JU7EV6XI7m64nBgx7Mcc4o/F1zvDlqb6XA1S/dcF3eyqHD2TKK0En2UgrsUfAYreP+IjSQ0zbIm /AbsUBni5Z0VSflVAtg+b1U4MxVrHlHriKXJcRjH8tN+iEvdE9JHQIv2Q1GAav4H+Y0t6o8gTrM W4xMI31uC4olKxsrqoiJvEKANCY2tHktKSEs6pOT4mTi2JUvLvjbwi6yEUvvU4HaQEFmTJ3xSOf xg17TVAfK9iVmr40XNC2TRqR4XQkX2vr0KyzuVPSFn0BrcMnZmAb+Uh69TM4QjjgNSDYc6KpPzT iYn0sPnnHL4lHyM/pojAM4oe9DV4aYVo= X-Google-Smtp-Source: AGHT+IEdpG4iEAiIPI0VQAzGDW044EMioilwiF+h0Zar9ZltbF7u++7Mr3XN1psKXZ+JSOyqVkY7lbNEDXH9 X-Received: by 2002:a05:6a21:9988:b0:2e8:6bf6:7d66 with SMTP id adf61e73a8af0-334a8536f80mr31523924637.22.1761199917550; Wed, 22 Oct 2025 23:11:57 -0700 (PDT) Received: from postal.iol.unh.edu (postal.iol.unh.edu. [132.177.123.84]) by smtp-relay.gmail.com with ESMTPS id d2e1a72fcca58-7a274989b1asm98835b3a.0.2025.10.22.23.11.57 (version=TLS1_2 cipher=ECDHE-ECDSA-AES128-GCM-SHA256 bits=128/128); Wed, 22 Oct 2025 23:11:57 -0700 (PDT) X-Relaying-Domain: iol.unh.edu Date: Wed, 22 Oct 2025 23:11:57 -0700 (PDT) Message-ID: <68f9c72d.050a0220.12dea8.4daaSMTPIN_ADDED_MISSING@mx.google.com> Received: from [172.21.0.8] (unknown [172.18.0.240]) by postal.iol.unh.edu (Postfix) with ESMTP id AD5546051830; Thu, 23 Oct 2025 02:11:56 -0400 (EDT) Subject: |SUCCESS| [GIT MASTER] 3b43ce3f4a54468e7ef65760c2fd7b4d6ee6d9fc From: dpdklab@iol.unh.edu To: Test Report Cc: dpdk-test-reports@iol.unh.edu, Xueming Li , Christian Ehrhardt , Kevin Traynor , Luca Boccassi Content-Type: text/plain X-BeenThere: test-report@dpdk.org X-Mailman-Version: 2.1.29 Precedence: list List-Id: automatic DPDK test reports List-Unsubscribe: , List-Archive: List-Post: List-Help: List-Subscribe: , Errors-To: test-report-bounces@dpdk.org _Testing PASS_ Branch: tags/v22.11 3b43ce3f4a54468e7ef65760c2fd7b4d6ee6d9fc --> testing pass Upstream job id: Generic-DPDK-Compile-Meson#436873 Test environment and result as below: +-------------------------------+--------------------+-------------------------+----------------------+ | Environment | dpdk_meson_compile | dpdk_llvm_clang_compile | dpdk_mingw64_compile | +===============================+====================+=========================+======================+ | Ubuntu 20.04 | PASS | SKIPPED | SKIPPED | +-------------------------------+--------------------+-------------------------+----------------------+ | FreeBSD 14.2 | PASS | SKIPPED | SKIPPED | +-------------------------------+--------------------+-------------------------+----------------------+ | CentOS Stream 10 | PASS | SKIPPED | SKIPPED | +-------------------------------+--------------------+-------------------------+----------------------+ | Fedora Linux 42 | PASS | SKIPPED | SKIPPED | +-------------------------------+--------------------+-------------------------+----------------------+ | openSUSE Leap 15.6 | PASS | SKIPPED | SKIPPED | +-------------------------------+--------------------+-------------------------+----------------------+ | Red Hat Enterprise Linux 8.10 | PASS | SKIPPED | SKIPPED | +-------------------------------+--------------------+-------------------------+----------------------+ | Red Hat Enterprise Linux 9.5 | PASS | SKIPPED | SKIPPED | +-------------------------------+--------------------+-------------------------+----------------------+ | Debian GNU/Linux 12 | PASS | SKIPPED | SKIPPED | +-------------------------------+--------------------+-------------------------+----------------------+ | CentOS Stream 9 | PASS | SKIPPED | SKIPPED | +-------------------------------+--------------------+-------------------------+----------------------+ | Ubuntu 22.04 | PASS | SKIPPED | SKIPPED | +-------------------------------+--------------------+-------------------------+----------------------+ | Ubuntu 24.04 | PASS | SKIPPED | SKIPPED | +-------------------------------+--------------------+-------------------------+----------------------+ | Windows Server 2022 | SKIPPED | PASS | PASS | +-------------------------------+--------------------+-------------------------+----------------------+ Ubuntu 20.04 Kernel: 4.19 Compiler: gcc gcc (Ubuntu 9.4.0-1ubuntu1~20.04.2) 9.4.0 FreeBSD 14.2 Kernel: 14.2-RELEASE Compiler: clang 18.1.6 CentOS Stream 10 Kernel: 5.15 Compiler: gcc gcc (GCC) 14.2.1 20250110 (Red Hat 14.2.1-8) Fedora Linux 42 Kernel: 5.15 Compiler: gcc gcc (GCC) 15.2.1 20250808 (Red Hat 15.2.1-1) openSUSE Leap 15.6 Kernel: 5.15 Compiler: gcc gcc (SUSE Linux) 7.5.0 Red Hat Enterprise Linux 8.10 Kernel: 5.15 Compiler: gcc gcc (GCC) 8.5.0 20210514 (Red Hat 8.5.0-22) Red Hat Enterprise Linux 9.5 Kernel: 5.15 Compiler: gcc gcc (GCC) 11.5.0 20240719 (Red Hat 11.5.0-2) Debian GNU/Linux 12 Kernel: 5.15 Compiler: gcc gcc (Debian 12.2.0-14+deb12u1) 12.2.0 CentOS Stream 9 Kernel: 5.15 Compiler: gcc gcc (GCC) 11.5.0 20240719 (Red Hat 11.5.0-11) Ubuntu 22.04 Kernel: 5.15 Compiler: gcc gcc (Ubuntu 11.4.0-1ubuntu1~22.04) 11.4.0 Ubuntu 24.04 Kernel: 5.15 Compiler: gcc gcc (Ubuntu 13.3.0-6ubuntu2~24.04) 13.3.0 Windows Server 2022 Kernel: 10.0.20348.2031 Compiler: clang 15.0.7, gcc 14.1.0 (MinGW), and MSVC VS 19.39.33521 To view detailed results, visit: https://lab.dpdk.org/results/dashboard/tarballs/35307/ UNH-IOL DPDK Community Lab To manage your email subscriptions, visit: https://lab.dpdk.org/results/dashboard/preferences/subscriptions/