From mboxrd@z Thu Jan 1 00:00:00 1970 Return-Path: Received: from mails.dpdk.org (mails.dpdk.org [217.70.189.124]) by inbox.dpdk.org (Postfix) with ESMTP id 98329489AF for ; Thu, 23 Oct 2025 08:39:54 +0200 (CEST) Received: from mails.dpdk.org (localhost [127.0.0.1]) by mails.dpdk.org (Postfix) with ESMTP id 93BEF400D6; Thu, 23 Oct 2025 08:39:54 +0200 (CEST) Received: from mail-pg1-f226.google.com (mail-pg1-f226.google.com [209.85.215.226]) by mails.dpdk.org (Postfix) with ESMTP id 2AB0C400D6 for ; Thu, 23 Oct 2025 08:39:53 +0200 (CEST) Received: by mail-pg1-f226.google.com with SMTP id 41be03b00d2f7-b6cf25c9ad5so331418a12.0 for ; Wed, 22 Oct 2025 23:39:53 -0700 (PDT) DKIM-Signature: v=1; a=rsa-sha256; c=relaxed/relaxed; d=iol.unh.edu; s=unh-iol; t=1761201592; x=1761806392; darn=dpdk.org; h=cc:to:from:subject:message-id:date:from:to:cc:subject:date :message-id:reply-to; bh=fXGaIRyLo5MQM3uJ6t0SdCHeUFmAhfbpJxfezEnmD8A=; b=cdphoNcA7cXzhC23W5O9jlD7Vrx3Yg1TQcxnyfnMErL7+ycIRph7FRElrXX+xJGq3R ooYA4SEyE55H7lzHjD1+/UO+es77cO8Nbv7QDdLCApc79CM6yIX5+GdkSENjj8pbXoHZ yHo1l1pUW+hSFKKbrl7o90ZSsXVXVRewJmvlY= X-Google-DKIM-Signature: v=1; a=rsa-sha256; c=relaxed/relaxed; d=1e100.net; s=20230601; t=1761201592; x=1761806392; h=cc:to:from:subject:message-id:date:x-gm-message-state:from:to:cc :subject:date:message-id:reply-to; bh=fXGaIRyLo5MQM3uJ6t0SdCHeUFmAhfbpJxfezEnmD8A=; b=Tm2Uf7X45LTHfPWL2YBmDGR6nv7EnS/cNWufuYQ6vZhDw/NrnXJoEzL7wnDcx54MXO iII7YuCU35YMPajKe/nWjmSPK6Mdf5CqzFAR0A311+/pe5ZLt5HXw9nCtZnVk9JZDYY6 mvvsUKsVmAwHniKH7rqj99RVnTLJsa2+YayFhSgwjhuSVh5pYcRE2ZS2aRekQ0RioWHN swBzQvi+pGB5oi4HrPKyj8tj5wk2Hbhmn4V9ns9it31iw1cvae9yb4wrBt+FPptNd2EB a7QKLw84Pr6ug3MkGgeAD/IA9J0nDlIW9ZqNpv3aHH2v35jfmNj7Zy+T0w3PDpUP6csn DVfQ== X-Gm-Message-State: AOJu0Ywy8nky4cv24JwCijXSSDqvyisTZ6IVdrlyPg7XJGhs8t/ahVEq 5Edo1GZE8DRi63pxRgHvH/cj07iAUrk7wR6O6yp0LBI6Ba5ZJPTccBpdrnY5PSdXdjPNhDWGLc5 sxDESoD1yt85MlAyatREhYaZKu+gf0c+XZWSS X-Gm-Gg: ASbGncu/K4TAnxTR/caA6byvTni0XlChaVlDdIUktYbceoy20FtmkSDIB3IVIdLgO/E Eic8lNXpNbOzOXxiCcthTsJvRgZ4DjXFz3RywExFCclwWX98mBVQ2pPDYqoDF92b8v890Ls4YgR 9FCNH90tnlxEvF63Ymxko6dDflUl8MiMa/fF1Sr6BJzTCiEY3d7uia5OnWA2z3c1PUXyKOAOOYd G+wh4W9PehGSwmQluEih+mVlkSpQ9DetxoE5uPUO3tf03UpevF0e1IEQGesv9Y2Gy1E4uXG2Uaf 7Y1gP2QZCayRAfB8Jz6M+ltbZPVbt/byhrNX8ME7Ca2z0gkif0lJE4x1y3WcZgzdt2sjzxtpgyY qvdEXhc4HA+iO4hE1xa9aqwdqaIc0K4I= X-Google-Smtp-Source: AGHT+IGArgMDQKCwO5O0uK/Y8KaUi2RGY/qPldw9nc/3/DatSFSBWF21DSLaH379pVxSLOGv0S0LfznNy4mX X-Received: by 2002:a17:902:c951:b0:25c:b1d6:c41a with SMTP id d9443c01a7336-290c9cf3517mr307888145ad.11.1761201592045; Wed, 22 Oct 2025 23:39:52 -0700 (PDT) Received: from postal.iol.unh.edu (postal.iol.unh.edu. [132.177.123.84]) by smtp-relay.gmail.com with ESMTPS id d9443c01a7336-2946ddf7a4bsm1294195ad.25.2025.10.22.23.39.51 (version=TLS1_2 cipher=ECDHE-ECDSA-AES128-GCM-SHA256 bits=128/128); Wed, 22 Oct 2025 23:39:52 -0700 (PDT) X-Relaying-Domain: iol.unh.edu Date: Wed, 22 Oct 2025 23:39:52 -0700 (PDT) Message-ID: <68f9cdb8.170a0220.5b08e.649cSMTPIN_ADDED_MISSING@mx.google.com> Received: from [172.21.0.2] (unknown [172.18.0.240]) by postal.iol.unh.edu (Postfix) with ESMTP id E8B9F6051830; Thu, 23 Oct 2025 02:39:50 -0400 (EDT) Subject: |SUCCESS| [GIT MASTER] b287e404643aeab5bb5db084c142789df187844e From: dpdklab@iol.unh.edu To: Test Report Cc: dpdk-test-reports@iol.unh.edu, Xueming Li , Christian Ehrhardt , Kevin Traynor , Luca Boccassi Content-Type: text/plain X-BeenThere: test-report@dpdk.org X-Mailman-Version: 2.1.29 Precedence: list List-Id: automatic DPDK test reports List-Unsubscribe: , List-Archive: List-Post: List-Help: List-Subscribe: , Errors-To: test-report-bounces@dpdk.org _Testing PASS_ Branch: tags/v24.11 b287e404643aeab5bb5db084c142789df187844e --> testing pass Upstream job id: Generic-DPDK-Compile-Meson#436919 Test environment and result as below: +-------------------------------+--------------------+-------------------+------------------+-------------------+-------------------------+----------------------+ | Environment | dpdk_meson_compile | dpdk_compile_spdk | dpdk_compile_ovs | dpdk_msvc_compile | dpdk_llvm_clang_compile | dpdk_mingw64_compile | +===============================+====================+===================+==================+===================+=========================+======================+ | Debian GNU/Linux 12 | PASS | PASS | SKIPPED | SKIPPED | SKIPPED | SKIPPED | +-------------------------------+--------------------+-------------------+------------------+-------------------+-------------------------+----------------------+ | CentOS Stream 9 | PASS | PASS | SKIPPED | SKIPPED | SKIPPED | SKIPPED | +-------------------------------+--------------------+-------------------+------------------+-------------------+-------------------------+----------------------+ | CentOS Stream 10 | PASS | SKIPPED | SKIPPED | SKIPPED | SKIPPED | SKIPPED | +-------------------------------+--------------------+-------------------+------------------+-------------------+-------------------------+----------------------+ | Fedora Linux 42 | PASS | PASS | PASS | SKIPPED | SKIPPED | SKIPPED | +-------------------------------+--------------------+-------------------+------------------+-------------------+-------------------------+----------------------+ | openSUSE Leap 15.6 | PASS | SKIPPED | SKIPPED | SKIPPED | SKIPPED | SKIPPED | +-------------------------------+--------------------+-------------------+------------------+-------------------+-------------------------+----------------------+ | Red Hat Enterprise Linux 9.5 | PASS | SKIPPED | SKIPPED | SKIPPED | SKIPPED | SKIPPED | +-------------------------------+--------------------+-------------------+------------------+-------------------+-------------------------+----------------------+ | Red Hat Enterprise Linux 8.10 | PASS | SKIPPED | SKIPPED | SKIPPED | SKIPPED | SKIPPED | +-------------------------------+--------------------+-------------------+------------------+-------------------+-------------------------+----------------------+ | Ubuntu 20.04 | PASS | SKIPPED | SKIPPED | SKIPPED | SKIPPED | SKIPPED | +-------------------------------+--------------------+-------------------+------------------+-------------------+-------------------------+----------------------+ | Ubuntu 22.04 | PASS | PASS | SKIPPED | SKIPPED | SKIPPED | SKIPPED | +-------------------------------+--------------------+-------------------+------------------+-------------------+-------------------------+----------------------+ | Ubuntu 24.04 | PASS | PASS | PASS | SKIPPED | SKIPPED | SKIPPED | +-------------------------------+--------------------+-------------------+------------------+-------------------+-------------------------+----------------------+ | Alpine Linux 3.22.0 | PASS | SKIPPED | SKIPPED | SKIPPED | SKIPPED | SKIPPED | +-------------------------------+--------------------+-------------------+------------------+-------------------+-------------------------+----------------------+ | FreeBSD 14.2 | PASS | SKIPPED | SKIPPED | SKIPPED | SKIPPED | SKIPPED | +-------------------------------+--------------------+-------------------+------------------+-------------------+-------------------------+----------------------+ | Windows Server 2022 | SKIPPED | SKIPPED | SKIPPED | PASS | PASS | PASS | +-------------------------------+--------------------+-------------------+------------------+-------------------+-------------------------+----------------------+ Debian GNU/Linux 12 Kernel: 5.15 Compiler: gcc gcc (Debian 12.2.0-14+deb12u1) 12.2.0 CentOS Stream 9 Kernel: 5.15 Compiler: gcc gcc (GCC) 11.5.0 20240719 (Red Hat 11.5.0-11) CentOS Stream 10 Kernel: 5.15 Compiler: gcc gcc (GCC) 14.2.1 20250110 (Red Hat 14.2.1-8) Fedora Linux 42 Kernel: 5.15 Compiler: clang gcc (GCC) 15.2.1 20250808 (Red Hat 15.2.1-1) openSUSE Leap 15.6 Kernel: 5.15 Compiler: gcc gcc (SUSE Linux) 7.5.0 Red Hat Enterprise Linux 9.5 Kernel: 5.15 Compiler: gcc gcc (GCC) 11.5.0 20240719 (Red Hat 11.5.0-2) Red Hat Enterprise Linux 8.10 Kernel: 5.15 Compiler: gcc gcc (GCC) 8.5.0 20210514 (Red Hat 8.5.0-22) Ubuntu 20.04 Kernel: 5.15 Compiler: gcc gcc (Ubuntu 9.4.0-1ubuntu1~20.04.2) 9.4.0 Ubuntu 22.04 Kernel: 5.15 Compiler: gcc gcc (Ubuntu 11.4.0-1ubuntu1~22.04) 11.4.0 Ubuntu 24.04 Kernel: 5.15 Compiler: gcc gcc (Ubuntu 13.3.0-6ubuntu2~24.04) 13.3.0 Alpine Linux 3.22.0 Kernel: 5.15 Compiler: gcc gcc (Alpine 14.2.0) 14.2.0 FreeBSD 14.2 Kernel: 14.2-RELEASE Compiler: clang 18.1.6 Windows Server 2022 Kernel: 10.0.20348.2031 Compiler: clang 15.0.7, gcc 14.1.0 (MinGW), and MSVC VS 19.39.33521 To view detailed results, visit: https://lab.dpdk.org/results/dashboard/tarballs/35309/ UNH-IOL DPDK Community Lab To manage your email subscriptions, visit: https://lab.dpdk.org/results/dashboard/preferences/subscriptions/