From mboxrd@z Thu Jan 1 00:00:00 1970 Return-Path: Received: from mails.dpdk.org (mails.dpdk.org [217.70.189.124]) by inbox.dpdk.org (Postfix) with ESMTP id DE8E9489AF for ; Thu, 23 Oct 2025 09:01:37 +0200 (CEST) Received: from mails.dpdk.org (localhost [127.0.0.1]) by mails.dpdk.org (Postfix) with ESMTP id C954D400D6; Thu, 23 Oct 2025 09:01:37 +0200 (CEST) Received: from mail-io1-f100.google.com (mail-io1-f100.google.com [209.85.166.100]) by mails.dpdk.org (Postfix) with ESMTP id 8B173400D6 for ; Thu, 23 Oct 2025 09:01:36 +0200 (CEST) Received: by mail-io1-f100.google.com with SMTP id ca18e2360f4ac-93bccd4901aso41693039f.2 for ; Thu, 23 Oct 2025 00:01:36 -0700 (PDT) DKIM-Signature: v=1; a=rsa-sha256; c=relaxed/relaxed; d=iol.unh.edu; s=unh-iol; t=1761202896; x=1761807696; darn=dpdk.org; h=cc:to:from:subject:message-id:date:from:to:cc:subject:date :message-id:reply-to; bh=NabEWjiqxqISBhcKYLig7rwIQXHESlL4sV3sHCfiA4Y=; b=IwU7GDped3t5dWQxSzRW+TO2l1kIoOWmheV5mr7LnrPZs34H2erNcvGeXKCEGKDHt3 9wm+lno81vzYEQ4f4kZTczNi7XO6H0y6V02BFHKxUjDcI5WTh4w7/SK06L14zYxmvG5K ZqnJqDTbQi5RAm7ggr2va7G7TOpHFbLzUINuc= X-Google-DKIM-Signature: v=1; a=rsa-sha256; c=relaxed/relaxed; d=1e100.net; s=20230601; t=1761202896; x=1761807696; h=cc:to:from:subject:message-id:date:x-gm-message-state:from:to:cc :subject:date:message-id:reply-to; bh=NabEWjiqxqISBhcKYLig7rwIQXHESlL4sV3sHCfiA4Y=; b=EEnM2c0dRFiwiqRczCh2Zj6exZhxYkQHSDxilWTRauf7EzHkO2svn+KYKJt8ocF9AO YTNGTWbddf2aB5ur2aa1bvYGsV8jmCNR0Hv0L+B6MpGbrJRUfVQinPtoweNunJIFCqEv iJRwMCQBdVmGeYx+1HZwFoTgbuCeTLEyuVuPXWa3ZEnOcT8Y3Ui+9H2srokMao33qIiX 0tifmuIslHi1DoApFAapjsAdfo/cey5tHR0seW2B0AA0KdXKq9k/+p1kL6v2uVwv6J42 7T5FCgA06sOC7jpdMr8V6/Fdx59yRPI2WYB3Txis2HCpC1j2p1NTB+/ayoT9rwjwuUX4 Abgw== X-Gm-Message-State: AOJu0Yz45Qv2vwFeCIoX1UCEOHjGkUR2wMet/4rzx8+DT+TqtvbQjRHS Z5SmkSMYl8aKMNP18/BQWiwa31UL9QY/Goo/ChAkkl3qZwL0IhRgltyf+ZkWXfpCgwaSGqbLAAs MJfWLCbIZB2QigpYt06JyArckmUlsyYMrAZcE X-Gm-Gg: ASbGncuUyWIrpsq9KowtpK3+eYFSgztMK+UgPC27s0bYEwWPDPNR0vilQUA2LE15Tmq iJqOC+C5SBSDmKV4HfcrMv98Jmodc9UPAHupZUCVFU1jjO9sCPOFXL93KuEwgo/Z5cj+F7tWond Utvmrvc/ECBdPlMWdUguNZNWc136ysVac2KzcKjc2fHwZhtpbp8mvlmn4qN1r8eC+wVsREDtBDO iDOXdKQ9Yp/uK6YMdvXYuskRjE7PSK78shoUbcB+yRoct1vRxLDEfSdDNuFYeIj7nNtLSSncj18 W3K7qtCytlFYP9iGlk/N9KzrHgEeO8458aRL0KrCzEspLrYrl/Ag5S2O7+Cmwm6Q/Xx1Wz+6XYB H/PI3Dc6PahXdwpzhf3l867JiPhaum/g= X-Google-Smtp-Source: AGHT+IHiTy+ZIDAFEg0WHCDmVmZXIaX6I6Ao4YDvwuofrROFcNNt0CDi619Aa8OlMlcX/N2VP50D2EOhXvrQ X-Received: by 2002:a05:6e02:2149:b0:42f:8b46:bc5f with SMTP id e9e14a558f8ab-430c5295058mr340634995ab.17.1761202895786; Thu, 23 Oct 2025 00:01:35 -0700 (PDT) Received: from postal.iol.unh.edu (postal.iol.unh.edu. [132.177.123.84]) by smtp-relay.gmail.com with ESMTPS id e9e14a558f8ab-431dbc19ba1sm1143465ab.14.2025.10.23.00.01.35 (version=TLS1_2 cipher=ECDHE-ECDSA-AES128-GCM-SHA256 bits=128/128); Thu, 23 Oct 2025 00:01:35 -0700 (PDT) X-Relaying-Domain: iol.unh.edu Date: Thu, 23 Oct 2025 00:01:35 -0700 (PDT) Message-ID: <68f9d2cf.050a0220.126873.5b22SMTPIN_ADDED_MISSING@mx.google.com> Received: from [172.21.0.2] (unknown [172.18.0.240]) by postal.iol.unh.edu (Postfix) with ESMTP id 409186051830; Thu, 23 Oct 2025 03:01:35 -0400 (EDT) Subject: |SUCCESS| [GIT MASTER] b287e404643aeab5bb5db084c142789df187844e From: dpdklab@iol.unh.edu To: Test Report Cc: dpdk-test-reports@iol.unh.edu, Xueming Li , Christian Ehrhardt , Kevin Traynor , Luca Boccassi Content-Type: text/plain X-BeenThere: test-report@dpdk.org X-Mailman-Version: 2.1.29 Precedence: list List-Id: automatic DPDK test reports List-Unsubscribe: , List-Archive: List-Post: List-Help: List-Subscribe: , Errors-To: test-report-bounces@dpdk.org _Testing PASS_ Branch: tags/v24.11 b287e404643aeab5bb5db084c142789df187844e --> testing pass Upstream job id: Generic-Unit-Test-DPDK#384329 Test environment and result as below: +-------------------------------+----------------+ | Environment | dpdk_unit_test | +===============================+================+ | CentOS Stream 9 | PASS | +-------------------------------+----------------+ | Debian GNU/Linux 12 | PASS | +-------------------------------+----------------+ | CentOS Stream 10 | PASS | +-------------------------------+----------------+ | Fedora Linux 41 | PASS | +-------------------------------+----------------+ | Fedora Linux 42 | PASS | +-------------------------------+----------------+ | Fedora Linux 40 | PASS | +-------------------------------+----------------+ | Ubuntu 20.04 | PASS | +-------------------------------+----------------+ | Red Hat Enterprise Linux 9.5 | PASS | +-------------------------------+----------------+ | Ubuntu 24.04 | PASS | +-------------------------------+----------------+ | Red Hat Enterprise Linux 8.10 | PASS | +-------------------------------+----------------+ | Ubuntu 22.04 | PASS | +-------------------------------+----------------+ | Windows Server 2022 | PASS | +-------------------------------+----------------+ CentOS Stream 9 Kernel: 5.15 Compiler: gcc gcc (GCC) 11.5.0 20240719 (Red Hat 11.5.0-11) Debian GNU/Linux 12 Kernel: 5.15 Compiler: gcc gcc (Debian 12.2.0-14+deb12u1) 12.2.0 CentOS Stream 10 Kernel: 5.15 Compiler: gcc gcc (GCC) 14.2.1 20250110 (Red Hat 14.2.1-8) Fedora Linux 41 Kernel: 5.15 Compiler: gcc gcc (GCC) 14.3.1 20250523 (Red Hat 14.3.1-1) Fedora Linux 42 Kernel: 5.15 Compiler: clang gcc (GCC) 15.2.1 20250808 (Red Hat 15.2.1-1) Fedora Linux 40 Kernel: 5.15 Compiler: gcc gcc (GCC) 14.2.1 20240912 (Red Hat 14.2.1-3) Ubuntu 20.04 Kernel: 5.15 Compiler: gcc gcc (Ubuntu 9.4.0-1ubuntu1~20.04.2) 9.4.0 Red Hat Enterprise Linux 9.5 Kernel: 5.15 Compiler: gcc gcc (GCC) 11.5.0 20240719 (Red Hat 11.5.0-2) Ubuntu 24.04 Kernel: 5.15 Compiler: gcc gcc (Ubuntu 13.3.0-6ubuntu2~24.04) 13.3.0 Red Hat Enterprise Linux 8.10 Kernel: 5.15 Compiler: gcc gcc (GCC) 8.5.0 20210514 (Red Hat 8.5.0-22) Ubuntu 22.04 Kernel: 5.15 Compiler: gcc gcc (Ubuntu 11.4.0-1ubuntu1~22.04) 11.4.0 Windows Server 2022 Kernel: 10.0.20348.2031 Compiler: clang 15.0.7, gcc 14.1.0 (MinGW), and MSVC VS 19.39.33521 To view detailed results, visit: https://lab.dpdk.org/results/dashboard/tarballs/35309/ UNH-IOL DPDK Community Lab To manage your email subscriptions, visit: https://lab.dpdk.org/results/dashboard/preferences/subscriptions/