From mboxrd@z Thu Jan 1 00:00:00 1970 Return-Path: Received: from mails.dpdk.org (mails.dpdk.org [217.70.189.124]) by inbox.dpdk.org (Postfix) with ESMTP id 77EFD489AF for ; Thu, 23 Oct 2025 09:17:20 +0200 (CEST) Received: from mails.dpdk.org (localhost [127.0.0.1]) by mails.dpdk.org (Postfix) with ESMTP id 5BDE2400D6; Thu, 23 Oct 2025 09:17:20 +0200 (CEST) Received: from mail-ua1-f97.google.com (mail-ua1-f97.google.com [209.85.222.97]) by mails.dpdk.org (Postfix) with ESMTP id 66D86400D6 for ; Thu, 23 Oct 2025 09:17:19 +0200 (CEST) Received: by mail-ua1-f97.google.com with SMTP id a1e0cc1a2514c-932e6d498b2so383501241.1 for ; Thu, 23 Oct 2025 00:17:19 -0700 (PDT) DKIM-Signature: v=1; a=rsa-sha256; c=relaxed/relaxed; d=iol.unh.edu; s=unh-iol; t=1761203838; x=1761808638; darn=dpdk.org; h=references:in-reply-to:cc:to:from:subject:message-id:date:from:to :cc:subject:date:message-id:reply-to; bh=WAaxBkVLnh8Qc2dNAyhzhxNezKU11A1U9xG8BkHL7X8=; b=EG754oR6AlWMUxUR6aSeXPrgD+UYD/2d1UuA93/4aP0BAV/GoQsshg4OHrl9PIUMSm Wl2huzY+BXGRuNyIz+DMyNNP3NUhMQJE0bFWZoA9zSG4C4JyvfYCqVGgxt0X0dWlqpO6 WHM3L/CMm4EejV7W1244E9ZYnPzpuSbwaLGeQ= X-Google-DKIM-Signature: v=1; a=rsa-sha256; c=relaxed/relaxed; d=1e100.net; s=20230601; t=1761203838; x=1761808638; h=references:in-reply-to:cc:to:from:subject:message-id:date :x-gm-message-state:from:to:cc:subject:date:message-id:reply-to; bh=WAaxBkVLnh8Qc2dNAyhzhxNezKU11A1U9xG8BkHL7X8=; b=IyPXPEDMWuWyz1oruOKGTXraEomUv2b9F4CYbszq+GETtlVNji4U/6cSjbQPG+S6ZV ISmJYN7dBs46AOflAelqsE/gIAujJe4EZ97kPhSKvKYdHW8Nr/9dk6MHR2HVqdOICRH6 neHZDdKwfjD4RQE5bOYHTdJ7Kb/GkUGXJGBn81voX+555fxA5jCoejMaaHZvsbvv5XHT Y6d7MxKC34RHV4IzLuuLfzo/WvTV9f49mQDPgIR1V8gzfBwpvurp/1oDKriqYs+fCLlv hy0bdm0hrgO11wInWfahA5F9wzkdIV4oa3nUF+RFlmNYnBSPCFGtmtMsiXGS3ZUaWZWP jNwg== X-Gm-Message-State: AOJu0YzFA2LSaygMXwY7GYnTrHa/mv4cDx/OPtGtf4lram4BWLLqAjAi nEPcjJK2qTRNNMn6zJ2bOYXHl83F+aPQDhEIly0z6H8ffkwOUPFjr000yOpVqEJ4PRxAxuZGNkh GbEj5JdfUdUMJ6SO6uLoEooNc1oU+nyp2jjYclDTdDOneBzy6Uf0IJI+GZO+2 X-Gm-Gg: ASbGncul47GaKonTtM5KQBx/nzrrnwKziCEZCnA7/tNlVVS2upsHNkGV48N8Rfstw+i bfBGFBr8E2/hkPstmctqscRptybR0OUL1pMEAjBWuNsu62SwITE4KQ6UMBo/1GnY0yqLGiBbdzQ oM5Dy8rJ/7lhWyNgyaTEE56O8HSa3WdLgbAqe+0Q2QtNXJr6eOUDW7jLrOFg5Fd+BKDvXdeeeO8 o3N+URIneaiNE/25sShyuLUVRTaaQBfyFOPNxE60bzE3gQaOYo0M+5c5RbL5WJ1ww6lWT3m746d v4CQ+0WAK5T8xC6wAi5KzGxn5Kse8IF/ILeaofYa31rWfjGNYmuaJT1fGb70HbGvfMXQkX5YjQO /SuE56GRe X-Google-Smtp-Source: AGHT+IFCfWA0jR45VCFIbITSveoIcH7+OswDrjSzVr5utn0T2b3ze04q5BQrMg06q7+oY6qoUl5VkTFv0Vss X-Received: by 2002:a05:6102:e11:b0:59e:2c90:fae2 with SMTP id ada2fe7eead31-5d7dd6a1252mr8134644137.30.1761203838664; Thu, 23 Oct 2025 00:17:18 -0700 (PDT) Received: from postal.iol.unh.edu (postal.iol.unh.edu. [2606:4100:3880:1234::84]) by smtp-relay.gmail.com with ESMTPS id ada2fe7eead31-5db2ca7d3ddsm143223137.4.2025.10.23.00.17.18 (version=TLS1_2 cipher=ECDHE-ECDSA-AES128-GCM-SHA256 bits=128/128); Thu, 23 Oct 2025 00:17:18 -0700 (PDT) X-Relaying-Domain: iol.unh.edu Date: Thu, 23 Oct 2025 00:17:18 -0700 (PDT) Message-ID: <68f9d67e.050a0220.11c84f.709bSMTPIN_ADDED_MISSING@mx.google.com> Received: from [172.21.0.2] (unknown [172.18.0.240]) by postal.iol.unh.edu (Postfix) with ESMTP id 544056051830; Thu, 23 Oct 2025 03:17:18 -0400 (EDT) Subject: |SUCCESS| pw157992-157994 [PATCH] [v5,3/3] dts: add performance test From: dpdklab@iol.unh.edu To: Test Report Cc: dpdk-test-reports@iol.unh.edu In-Reply-To: <20251023013049.1368129-4-probb@iol.unh.edu> References: <20251023013049.1368129-4-probb@iol.unh.edu> Content-Type: text/plain X-BeenThere: test-report@dpdk.org X-Mailman-Version: 2.1.29 Precedence: list List-Id: automatic DPDK test reports List-Unsubscribe: , List-Archive: List-Post: List-Help: List-Subscribe: , Errors-To: test-report-bounces@dpdk.org Test-Label: iol-unit-arm64-testing Test-Status: SUCCESS http://dpdk.org/patch/157994 _Testing PASS_ Submitter: Patrick Robb Date: Thursday, October 23 2025 01:30:49 DPDK git baseline: Repo:dpdk-next-dts Branch: master CommitID:c1abcee5a9656fb4890b733e6051aa604c60f146 157992-157994 --> testing pass Upstream job id: Generic-Unit-Test-DPDK#384223 Test environment and result as below: +------------------------------+---------------------------+------------------------------+--------------+----------------+ | Environment | cryptodev_sw_zuc_autotest | cryptodev_sw_snow3g_autotest | lpm_autotest | dpdk_unit_test | +==============================+===========================+==============================+==============+================+ | Debian 12 (arm) | PASS | PASS | SKIPPED | SKIPPED | +------------------------------+---------------------------+------------------------------+--------------+----------------+ | Ubuntu 20.04 | SKIPPED | SKIPPED | PASS | PASS | +------------------------------+---------------------------+------------------------------+--------------+----------------+ | Fedora Linux 41 | SKIPPED | SKIPPED | SKIPPED | PASS | +------------------------------+---------------------------+------------------------------+--------------+----------------+ | Debian GNU/Linux 12 | SKIPPED | SKIPPED | SKIPPED | PASS | +------------------------------+---------------------------+------------------------------+--------------+----------------+ | Fedora Linux 42 | SKIPPED | SKIPPED | SKIPPED | PASS | +------------------------------+---------------------------+------------------------------+--------------+----------------+ | Ubuntu 22.04 | SKIPPED | SKIPPED | SKIPPED | PASS | +------------------------------+---------------------------+------------------------------+--------------+----------------+ | CentOS Stream 10 | SKIPPED | SKIPPED | SKIPPED | PASS | +------------------------------+---------------------------+------------------------------+--------------+----------------+ | CentOS Stream 9 | SKIPPED | SKIPPED | SKIPPED | PASS | +------------------------------+---------------------------+------------------------------+--------------+----------------+ | Fedora Linux 40 | SKIPPED | SKIPPED | SKIPPED | PASS | +------------------------------+---------------------------+------------------------------+--------------+----------------+ | Ubuntu 24.04 | SKIPPED | SKIPPED | SKIPPED | PASS | +------------------------------+---------------------------+------------------------------+--------------+----------------+ | Red Hat Enterprise Linux 9.5 | SKIPPED | SKIPPED | SKIPPED | PASS | +------------------------------+---------------------------+------------------------------+--------------+----------------+ Debian 12 (arm) Kernel: Depends on container host Compiler: gcc (Debian 12.2.0-14) 12.2.0 Ubuntu 20.04 Kernel: 5.4 Compiler: gcc gcc (Ubuntu 9.4.0-1ubuntu1~20.04.2) 9.4.0 Fedora Linux 41 Kernel: 5.4 Compiler: clang gcc (GCC) 14.3.1 20250523 (Red Hat 14.3.1-1) Debian GNU/Linux 12 Kernel: 5.4 Compiler: gcc gcc (Debian 12.2.0-14+deb12u1) 12.2.0 Fedora Linux 42 Kernel: 5.4 Compiler: clang gcc (GCC) 15.2.1 20250808 (Red Hat 15.2.1-1) Ubuntu 22.04 Kernel: 5.15 Compiler: gcc gcc (Ubuntu 11.4.0-1ubuntu1~22.04.2) 11.4.0 CentOS Stream 10 Kernel: 5.4 Compiler: gcc gcc (GCC) 14.2.1 20250110 (Red Hat 14.2.1-8) CentOS Stream 9 Kernel: 5.4 Compiler: gcc gcc (GCC) 11.5.0 20240719 (Red Hat 11.5.0-11) Fedora Linux 40 Kernel: 5.4 Compiler: gcc gcc (GCC) 14.2.1 20240912 (Red Hat 14.2.1-3) Ubuntu 24.04 Kernel: 5.4 Compiler: gcc gcc (Ubuntu 13.3.0-6ubuntu2~24.04) 13.3.0 Red Hat Enterprise Linux 9.5 Kernel: 5.4 Compiler: gcc gcc (GCC) 11.5.0 20240719 (Red Hat 11.5.0-2) To view detailed results, visit: https://lab.dpdk.org/results/dashboard/patchsets/34349/ UNH-IOL DPDK Community Lab To manage your email subscriptions, visit: https://lab.dpdk.org/results/dashboard/preferences/subscriptions/