From mboxrd@z Thu Jan 1 00:00:00 1970 Return-Path: Received: from mails.dpdk.org (mails.dpdk.org [217.70.189.124]) by inbox.dpdk.org (Postfix) with ESMTP id 4D1B1489B1 for ; Thu, 23 Oct 2025 10:15:26 +0200 (CEST) Received: from mails.dpdk.org (localhost [127.0.0.1]) by mails.dpdk.org (Postfix) with ESMTP id 490DC400D6; Thu, 23 Oct 2025 10:15:26 +0200 (CEST) Received: from mail-il1-f228.google.com (mail-il1-f228.google.com [209.85.166.228]) by mails.dpdk.org (Postfix) with ESMTP id 5D6D4400D6 for ; Thu, 23 Oct 2025 10:15:25 +0200 (CEST) Received: by mail-il1-f228.google.com with SMTP id e9e14a558f8ab-430c773eec6so5700475ab.0 for ; Thu, 23 Oct 2025 01:15:25 -0700 (PDT) DKIM-Signature: v=1; a=rsa-sha256; c=relaxed/relaxed; d=iol.unh.edu; s=unh-iol; t=1761207324; x=1761812124; darn=dpdk.org; h=references:in-reply-to:cc:to:from:subject:message-id:date:from:to :cc:subject:date:message-id:reply-to; bh=JuLISwkogUBNR6nKF1TDMMGWVCUfiymk18RGGBikDHI=; b=IruSt9V07v7dxau8YOa350aCRxvETcpH6W3699Gxo617f8tsPmXZkyTkcVGSyyePNe kOj8GoYppidCMWMYdiWFc6FAx/aerUL5gZ1oHTybLC3simQQO5zysst4x+2vMk07gAIe U9pmhb/nk85X8xfVfmvqW6V5B8Rd7R5VD1nM4= X-Google-DKIM-Signature: v=1; a=rsa-sha256; c=relaxed/relaxed; d=1e100.net; s=20230601; t=1761207324; x=1761812124; h=references:in-reply-to:cc:to:from:subject:message-id:date :x-gm-message-state:from:to:cc:subject:date:message-id:reply-to; bh=JuLISwkogUBNR6nKF1TDMMGWVCUfiymk18RGGBikDHI=; b=mjdKUkq3EagytggXaQbPrz2swi2TfMqXF4s56BB72kzCmA+f2TcWIs95s4s7mr0fAA gpnloLNbMXryTgc01Q2aOOVzz7UT+4+B3K3GJrxISNuLiYXoddlbVWPOsvPIJyZF4fYP t6loh5MCxUCKzAyHc616Luf8HakyY2o/irCX/tNi4jWXcalwZhN2Vi2SeuRcIrs7rBKI SQC+l7GuDkv4n+DTVPnr4IpRKAsl8nEAeJUikIOb/m9TBfH6zk16DJ/JgLV2aaHatXNo g3oDmACapaqr1wZXIpEk7TIEdRl5amkJIYTcRYrqIkyOk0/44rzZBtfwbY0BzX1eQix4 PecA== X-Gm-Message-State: AOJu0Yz9V92gUxT507VD4J2WbPDSkQuIl7sO9Ue5HPxF5yNiJy3LaJjf bA4HmVIE+EL85GmKZ1XByGj5aL43te37nxUFls5m/B5i0zABRgIrWw2mw2PHNVUk+5D43PDDtMJ 2xpf9YYJy7iD1D9hI74+0YZdTOzaIkkMbMehrKXd+v3sG X-Gm-Gg: ASbGncuduoREW2UuDHMbvH0UArhGS2zfIfA+l/OeTtLGOMv6lv3XtY3FrMsXAJTa8rg /BJS5MH8PEbVI3IlfFiBQkdpG3bYGJgcj7jpF0GE2Y1zxIhBjEjk/y97l5oyj8AgqC+RiFkYmEI bqF5p530YtkQ00MbDxmKkdQdFhbo2dYKmd/TXc4ZnVmkmfertgp9kOnn0I49KzN7Vv8fSFm941t GkWI7S4IIJRq5ah1/mRBpGPK+SWYu5ri5G1UgggPOy2t4GKQ8UiZDKGxGmHqYU5T39xBxzraoZw BzsNTZt1DqYwZCSaDdmJyng9tlofB8sjkcWDWsd+DMkkQWxDrP0ZOI8ZfgityOot59J5azb73mk QEC2r4XKbsmNnQz6dlRDXktRMuXtuX8E= X-Google-Smtp-Source: AGHT+IFOezF2syMe1HDEXbDFaJIhztCTRC4TNufml8mppX54I9WPMu98+ckpUbZpzqYuYy8+JCVOTQaWhhrl X-Received: by 2002:a05:6e02:1a2b:b0:42f:95af:9594 with SMTP id e9e14a558f8ab-430c527e5bbmr342877715ab.23.1761207324568; Thu, 23 Oct 2025 01:15:24 -0700 (PDT) Received: from postal.iol.unh.edu (postal.iol.unh.edu. [132.177.123.84]) by smtp-relay.gmail.com with ESMTPS id e9e14a558f8ab-431dbc03752sm1339285ab.10.2025.10.23.01.15.24 (version=TLS1_2 cipher=ECDHE-ECDSA-AES128-GCM-SHA256 bits=128/128); Thu, 23 Oct 2025 01:15:24 -0700 (PDT) X-Relaying-Domain: iol.unh.edu Date: Thu, 23 Oct 2025 01:15:24 -0700 (PDT) Message-ID: <68f9e41c.050a0220.34d300.6b55SMTPIN_ADDED_MISSING@mx.google.com> Received: from [172.21.0.3] (unknown [172.18.0.240]) by postal.iol.unh.edu (Postfix) with ESMTP id 3984D6051830; Thu, 23 Oct 2025 04:15:24 -0400 (EDT) Subject: |SUCCESS| pw158002 [PATCH] [v3] net/vmxnet3: disable RSS for single From: dpdklab@iol.unh.edu To: Test Report Cc: dpdk-test-reports@iol.unh.edu, Stephen Hemminger In-Reply-To: <20251023072238.17584-1-amiyaranjan.mohakud@gmail.com> References: <20251023072238.17584-1-amiyaranjan.mohakud@gmail.com> Content-Type: text/plain X-BeenThere: test-report@dpdk.org X-Mailman-Version: 2.1.29 Precedence: list List-Id: automatic DPDK test reports List-Unsubscribe: , List-Archive: List-Post: List-Help: List-Subscribe: , Errors-To: test-report-bounces@dpdk.org Test-Label: iol-compile-amd64-testing Test-Status: SUCCESS http://dpdk.org/patch/158002 _Testing PASS_ Submitter: Amiya Ranjan Mohakud Date: Thursday, October 23 2025 07:22:38 DPDK git baseline: Repo:dpdk-next-net Branch: master CommitID:4c4055bdd19f919795f83a01faae9fc267570d7f 158002 --> testing pass Upstream job id: Windows-Compile-DPDK-Native#31828 Test environment and result as below: +---------------------+--------------------+-------------------------+-------------------+----------------------+ | Environment | dpdk_meson_compile | dpdk_llvm_clang_compile | dpdk_msvc_compile | dpdk_mingw64_compile | +=====================+====================+=========================+===================+======================+ | Ubuntu 20.04 | PASS | SKIPPED | SKIPPED | SKIPPED | +---------------------+--------------------+-------------------------+-------------------+----------------------+ | FreeBSD 14.2 | PASS | SKIPPED | SKIPPED | SKIPPED | +---------------------+--------------------+-------------------------+-------------------+----------------------+ | Windows Server 2022 | SKIPPED | PASS | PASS | PASS | +---------------------+--------------------+-------------------------+-------------------+----------------------+ Ubuntu 20.04 Kernel: 4.19 Compiler: gcc gcc (Ubuntu 9.4.0-1ubuntu1~20.04.2) 9.4.0 FreeBSD 14.2 Kernel: 14.2-RELEASE Compiler: clang 18.1.6 Windows Server 2022 Kernel: 10.0.20348.2031 Compiler: clang 15.0.7, gcc 14.1.0 (MinGW), and MSVC VS 19.39.33521 To view detailed results, visit: https://lab.dpdk.org/results/dashboard/patchsets/34352/ UNH-IOL DPDK Community Lab To manage your email subscriptions, visit: https://lab.dpdk.org/results/dashboard/preferences/subscriptions/