From mboxrd@z Thu Jan 1 00:00:00 1970 Return-Path: Received: from mails.dpdk.org (mails.dpdk.org [217.70.189.124]) by inbox.dpdk.org (Postfix) with ESMTP id A7867489B1 for ; Thu, 23 Oct 2025 10:26:08 +0200 (CEST) Received: from mails.dpdk.org (localhost [127.0.0.1]) by mails.dpdk.org (Postfix) with ESMTP id A2974400D6; Thu, 23 Oct 2025 10:26:08 +0200 (CEST) Received: from mail-il1-f226.google.com (mail-il1-f226.google.com [209.85.166.226]) by mails.dpdk.org (Postfix) with ESMTP id E8A2F400D6 for ; Thu, 23 Oct 2025 10:26:06 +0200 (CEST) Received: by mail-il1-f226.google.com with SMTP id e9e14a558f8ab-430c97cbe0eso5910705ab.2 for ; Thu, 23 Oct 2025 01:26:06 -0700 (PDT) DKIM-Signature: v=1; a=rsa-sha256; c=relaxed/relaxed; d=iol.unh.edu; s=unh-iol; t=1761207966; x=1761812766; darn=dpdk.org; h=references:in-reply-to:cc:to:from:subject:message-id:date:from:to :cc:subject:date:message-id:reply-to; bh=guU0V70tJrYHRhN2Gte+X8IgKNwt2GT2yoAKaiMj0H4=; b=Ojido9Q+y6QiueOWAHCg+hyvRxU4NB6jDb84GQKACopZjqqbkcQ/FPgkM19mVc2Bnc 1MfXWmy/t+ya8bENqNEE4NddW+iubDDlhEsvpaj1jpYNlk8nmnagmaoFUMHCcE3zpSg4 Yb/mlLPlEB3OmwkLbjZtMw9KJF7ie8rjUmHWs= X-Google-DKIM-Signature: v=1; a=rsa-sha256; c=relaxed/relaxed; d=1e100.net; s=20230601; t=1761207966; x=1761812766; h=references:in-reply-to:cc:to:from:subject:message-id:date :x-gm-message-state:from:to:cc:subject:date:message-id:reply-to; bh=guU0V70tJrYHRhN2Gte+X8IgKNwt2GT2yoAKaiMj0H4=; b=GTzJpP0ON2mlRG+sOBB77tOoTTofdVW+bBYEKYxZ7Qg9mqBnhSARSpfqd3g40GEqbY hhJ0B5sDU+RHs4fKtyeh4M8yv1lqPTEFSJQ7FoXf1FnQqXA/BuhxXwteTOPCoqjnkTHa azDTFT9kr1hiqfBRwau8vMAevG6J8UNSQ8rZ64jkEOj0vDwsa1ihA6gsxufpEx9B6qMB ZXsMrw30NlVPHpbAZCA9x2vCvOPQm6fRP3A7ont5/atah1VoY5As6iK17ZRfAX0TJPMf KK5dyjAkYbzHVitc1ip05Z2zi5wts8dV0LOHsfOAh5Hz8t9J6gNcbe6GURA1SlOAPVy/ 6nfg== X-Gm-Message-State: AOJu0YzyxZq1YlIP5dmhzhnC9atzrQP2kZ1N7nooKmxQezj0DaSXcaOB C+Dh+Xk7YYI2RHQK2P4GZQwX+PjkXKDfZDFyvcS0EbMhTgw73rkRQyT/iLYEbRr4mpbRaIbGqJJ rFcSv7BARCUFGhH5kc1CKCK9eim4/AW1pTtja2WvozcSMdFs4S/SBdZO7DV9O X-Gm-Gg: ASbGncuXigRS1Gp0BGXqZxXUGYJhiEH1YvObsRJlhskymVtl0pa2+qUq4w4/bI/T3Bf ToteU01FuOjLdFsiRuHliPNaZlsYzVu2MYeVqYzQiI1ZpTlaLf7owDHyG/NU7GR7R0ocDlqsWtB oxH88u5Lw7iSPsLasMkFqYScPI1RdBcQbvFtFhVdRFW+AZjbiH4i2Xo7UEMvsnF2MD2Bw3UNZc+ 9ib9qsglWBZqwki7JhGX1o1jrwonIsQjqSFSHMKFam+tAtwX4wPEvqJDrtAtq+Ox0Bpr/h8XP2P SJOfAJqMzNfHgb6BnpsujfUeLcD3entkCO9gJfLqp4HbqRQhHeGv1s3JHEWngrmnTLw0C/WDSGT eolE9xWLI X-Google-Smtp-Source: AGHT+IGvrh49XZ7rPS9umkGCeYRlpIhFj+K2TC13VWWqHkzst7hxtgTfF9VCeom3Z5EBP33zBtsRTFTvF4Vh X-Received: by 2002:a05:6e02:9:b0:431:d3b1:648d with SMTP id e9e14a558f8ab-431dc13c1e5mr21079175ab.2.1761207966272; Thu, 23 Oct 2025 01:26:06 -0700 (PDT) Received: from postal.iol.unh.edu (postal.iol.unh.edu. [2606:4100:3880:1234::84]) by smtp-relay.gmail.com with ESMTPS id 8926c6da1cb9f-5abb7113b87sm106966173.22.2025.10.23.01.26.06 (version=TLS1_2 cipher=ECDHE-ECDSA-AES128-GCM-SHA256 bits=128/128); Thu, 23 Oct 2025 01:26:06 -0700 (PDT) X-Relaying-Domain: iol.unh.edu Date: Thu, 23 Oct 2025 01:26:06 -0700 (PDT) Message-ID: <68f9e69e.050a0220.f7867.542aSMTPIN_ADDED_MISSING@mx.google.com> Received: from [172.21.0.4] (unknown [172.18.0.240]) by postal.iol.unh.edu (Postfix) with ESMTP id 85C016051830; Thu, 23 Oct 2025 04:26:05 -0400 (EDT) Subject: |SUCCESS| pw158002 [PATCH] [v3] net/vmxnet3: disable RSS for single From: dpdklab@iol.unh.edu To: Test Report Cc: dpdk-test-reports@iol.unh.edu, Stephen Hemminger In-Reply-To: <20251023072238.17584-1-amiyaranjan.mohakud@gmail.com> References: <20251023072238.17584-1-amiyaranjan.mohakud@gmail.com> Content-Type: text/plain X-BeenThere: test-report@dpdk.org X-Mailman-Version: 2.1.29 Precedence: list List-Id: automatic DPDK test reports List-Unsubscribe: , List-Archive: List-Post: List-Help: List-Subscribe: , Errors-To: test-report-bounces@dpdk.org Test-Label: iol-unit-amd64-testing Test-Status: SUCCESS http://dpdk.org/patch/158002 _Testing PASS_ Submitter: Amiya Ranjan Mohakud Date: Thursday, October 23 2025 07:22:38 DPDK git baseline: Repo:dpdk-next-net Branch: master CommitID:4c4055bdd19f919795f83a01faae9fc267570d7f 158002 --> testing pass Upstream job id: Generic-VM-Unit-Test-DPDK#31997 Test environment and result as below: +-------------------------------+----------------+ | Environment | dpdk_unit_test | +===============================+================+ | Fedora Linux 40 | PASS | +-------------------------------+----------------+ | Red Hat Enterprise Linux 8.10 | PASS | +-------------------------------+----------------+ | Ubuntu 20.04 | PASS | +-------------------------------+----------------+ | Debian GNU/Linux 12 | PASS | +-------------------------------+----------------+ | Red Hat Enterprise Linux 9.5 | PASS | +-------------------------------+----------------+ | Fedora Linux 42 | PASS | +-------------------------------+----------------+ | Fedora Linux 41 | PASS | +-------------------------------+----------------+ | CentOS Stream 10 | PASS | +-------------------------------+----------------+ | Ubuntu 24.04 | PASS | +-------------------------------+----------------+ | CentOS Stream 9 | PASS | +-------------------------------+----------------+ | Ubuntu 22.04 | PASS | +-------------------------------+----------------+ | Windows Server 2022 | PASS | +-------------------------------+----------------+ Fedora Linux 40 Kernel: 5.15 Compiler: clang gcc (GCC) 14.2.1 20240912 (Red Hat 14.2.1-3) Red Hat Enterprise Linux 8.10 Kernel: 5.15 Compiler: gcc gcc (GCC) 8.5.0 20210514 (Red Hat 8.5.0-22) Ubuntu 20.04 Kernel: 5.15 Compiler: gcc gcc (Ubuntu 9.4.0-1ubuntu1~20.04.2) 9.4.0 Debian GNU/Linux 12 Kernel: 5.15 Compiler: gcc gcc (Debian 12.2.0-14+deb12u1) 12.2.0 Red Hat Enterprise Linux 9.5 Kernel: 5.15 Compiler: gcc gcc (GCC) 11.5.0 20240719 (Red Hat 11.5.0-2) Fedora Linux 42 Kernel: 5.15 Compiler: gcc gcc (GCC) 15.2.1 20250808 (Red Hat 15.2.1-1) Fedora Linux 41 Kernel: 5.15 Compiler: clang gcc (GCC) 14.3.1 20250523 (Red Hat 14.3.1-1) CentOS Stream 10 Kernel: 5.15 Compiler: gcc gcc (GCC) 14.2.1 20250110 (Red Hat 14.2.1-8) Ubuntu 24.04 Kernel: 5.15 Compiler: gcc gcc (Ubuntu 13.3.0-6ubuntu2~24.04) 13.3.0 CentOS Stream 9 Kernel: 5.15 Compiler: gcc gcc (GCC) 11.5.0 20240719 (Red Hat 11.5.0-11) Ubuntu 22.04 Kernel: 5.15 Compiler: gcc gcc (Ubuntu 11.4.0-1ubuntu1~22.04) 11.4.0 Windows Server 2022 Kernel: 10.0.20348.2031 Compiler: clang 15.0.7, gcc 14.1.0 (MinGW), and MSVC VS 19.39.33521 To view detailed results, visit: https://lab.dpdk.org/results/dashboard/patchsets/34352/ UNH-IOL DPDK Community Lab To manage your email subscriptions, visit: https://lab.dpdk.org/results/dashboard/preferences/subscriptions/