From mboxrd@z Thu Jan 1 00:00:00 1970 Return-Path: Received: from mails.dpdk.org (mails.dpdk.org [217.70.189.124]) by inbox.dpdk.org (Postfix) with ESMTP id 4835B489B1 for ; Thu, 23 Oct 2025 10:45:01 +0200 (CEST) Received: from mails.dpdk.org (localhost [127.0.0.1]) by mails.dpdk.org (Postfix) with ESMTP id 4443E400D6; Thu, 23 Oct 2025 10:45:01 +0200 (CEST) Received: from mail-vk1-f225.google.com (mail-vk1-f225.google.com [209.85.221.225]) by mails.dpdk.org (Postfix) with ESMTP id ED284400D6 for ; Thu, 23 Oct 2025 10:44:59 +0200 (CEST) Received: by mail-vk1-f225.google.com with SMTP id 71dfb90a1353d-557c3b5b93aso197640e0c.2 for ; Thu, 23 Oct 2025 01:44:59 -0700 (PDT) DKIM-Signature: v=1; a=rsa-sha256; c=relaxed/relaxed; d=iol.unh.edu; s=unh-iol; t=1761209099; x=1761813899; darn=dpdk.org; h=references:in-reply-to:cc:to:from:subject:message-id:date:from:to :cc:subject:date:message-id:reply-to; bh=zFP0IqBd+tlA3XA4zZ7WejnVxQl5zqhWmSQB/ZLS6QA=; b=GnpEIcagY7vCseJ+P7Cd4uJJkz4FEHKPi8c0pPONUdYVyrGpZc9RxChlfR6zncRTFx rg+ofIzjW0261bmiWw6DVWGiN1Fr7tnLVIN+EaUA4bxGkFkGZqbzp69gI6onH1riWAAt lkRme/jmpkYxPQhfm+SstwpjQ4pbs8LzzuwkM= X-Google-DKIM-Signature: v=1; a=rsa-sha256; c=relaxed/relaxed; d=1e100.net; s=20230601; t=1761209099; x=1761813899; h=references:in-reply-to:cc:to:from:subject:message-id:date :x-gm-message-state:from:to:cc:subject:date:message-id:reply-to; bh=zFP0IqBd+tlA3XA4zZ7WejnVxQl5zqhWmSQB/ZLS6QA=; b=tr1Kd5YtgusjliScVZX8Ztwn1yG5R20JnVc/SIq3V6B4Rpv+lf7Mb6Wdi4ggUxT7wG HJdSZxFluy9PIRhsgOC47ERCvxG0sl5K+1XQ4PfjOHEsedOzhg9zifVG/FR6/yBCeqth Tetyl54+qASpnWcqganlApupA0G+6t/f0PI9pfsADa7DHwK3ZaakmbSQdkaS1FfNZ8Qe Yc+1clD1G/97vKDdTuZl7ylmliHHuimj2Yuz9JoVHW9Jlay3Fw7f8xrVxiLbvJ8/e1tB c8x/sG0KzX6iUtrXgBBTCj5KvkV9hN8U7q6O9q0NbrKa9fsSEVYsmfhdk7hedsHYJIOD 8IrQ== X-Gm-Message-State: AOJu0YyJj3k0RDt1ckl7/1zmleWyGW8mULTMI4b8sy43FMVqRg7LG01f t8DMDvKf9/KcbR+pSNczz5ykxfWuRJHlscnX/1cPxVHxsUe8scHC3yURXsWpbRFur04URZvb/OI RsTXa7ch+hseL+GGS9DOUQw5NVcYwJi4uxWoaBELWm6+IHpKsGAd+OLwvxHV6 X-Gm-Gg: ASbGncuXcc499YAW7VuGyygqqEPmY4mcGl2hDCrYp+N3cGsDdX4Zt2DNFBZpmdcFZal jjCrx9+v7flbqOSZAm4ZslJ6oERYl9uXvgVK5QwipaRg1HkO7c5yi2Z4CpH1jEUMww/sgHsdvJE /iMq1mKZoPQh+sBpT7nobznxJAJOucxvJs5y444QstObZBNgJS6QfebhnMf+4FJ01BPJUwQE2L9 FK32h3pLSOV1xkgJzMZWwwurIUcfxWxIJQakQCzTe2bNCS70q0GM03caj9dzsDE7FMmnvk5ASc+ ScRl8QCRs6pTHBHzbqaVbUdgUB3hvPlXx4AgAIT2kzH9Mu0miLP6QQ9/6aUYERceiWWg6npeU9f 2uuyCzp1Q X-Google-Smtp-Source: AGHT+IGsXalQ9ZEMd0D9zW05bpImvxR1gMJyKPne+xWbTRnHCaytP4BrOcYREJ8YsQ2Z+gc7OGvMaAb4fmEJ X-Received: by 2002:a05:6122:80a7:b0:556:e951:b554 with SMTP id 71dfb90a1353d-556e951bb17mr1224320e0c.10.1761209099342; Thu, 23 Oct 2025 01:44:59 -0700 (PDT) Received: from postal.iol.unh.edu (postal.iol.unh.edu. [2606:4100:3880:1234::84]) by smtp-relay.gmail.com with ESMTPS id 71dfb90a1353d-557bdb56a68sm131834e0c.5.2025.10.23.01.44.59 (version=TLS1_2 cipher=ECDHE-ECDSA-AES128-GCM-SHA256 bits=128/128); Thu, 23 Oct 2025 01:44:59 -0700 (PDT) X-Relaying-Domain: iol.unh.edu Date: Thu, 23 Oct 2025 01:44:59 -0700 (PDT) Message-ID: <68f9eb0b.050a0220.13c44e.670dSMTPIN_ADDED_MISSING@mx.google.com> Received: from [172.21.0.4] (unknown [172.18.0.240]) by postal.iol.unh.edu (Postfix) with ESMTP id 03CD86051830; Thu, 23 Oct 2025 04:44:59 -0400 (EDT) Subject: |SUCCESS| pw158003-158008 [PATCH] [v5,6/6] net/cnxk: report link mod From: dpdklab@iol.unh.edu To: Test Report Cc: dpdk-test-reports@iol.unh.edu In-Reply-To: <20251023075450.4145667-6-skori@marvell.com> References: <20251023075450.4145667-6-skori@marvell.com> Content-Type: text/plain X-BeenThere: test-report@dpdk.org X-Mailman-Version: 2.1.29 Precedence: list List-Id: automatic DPDK test reports List-Unsubscribe: , List-Archive: List-Post: List-Help: List-Subscribe: , Errors-To: test-report-bounces@dpdk.org Test-Label: iol-compile-amd64-testing Test-Status: SUCCESS http://dpdk.org/patch/158008 _Testing PASS_ Submitter: Sunil Kumar Kori Date: Thursday, October 23 2025 07:53:30 DPDK git baseline: Repo:dpdk Branch: master CommitID:2863cbd9ee6dabee2b183382d298f4054ba3e8a2 158003-158008 --> testing pass Upstream job id: Windows-Compile-DPDK-Native#31829 Test environment and result as below: +---------------------+-------------------+--------------------+-------------------------+ | Environment | dpdk_msvc_compile | dpdk_meson_compile | dpdk_llvm_clang_compile | +=====================+===================+====================+=========================+ | Windows Server 2022 | PASS | SKIPPED | PASS | +---------------------+-------------------+--------------------+-------------------------+ | FreeBSD 14.2 | SKIPPED | PASS | SKIPPED | +---------------------+-------------------+--------------------+-------------------------+ | Ubuntu 20.04 | SKIPPED | PASS | SKIPPED | +---------------------+-------------------+--------------------+-------------------------+ Windows Server 2022 Kernel: 10.0.20348.2031 Compiler: clang 15.0.7, gcc 14.1.0 (MinGW), and MSVC VS 19.39.33521 FreeBSD 14.2 Kernel: 14.2-RELEASE Compiler: clang 18.1.6 Ubuntu 20.04 Kernel: 4.19 Compiler: gcc gcc (Ubuntu 9.4.0-1ubuntu1~20.04.2) 9.4.0 To view detailed results, visit: https://lab.dpdk.org/results/dashboard/patchsets/34353/ UNH-IOL DPDK Community Lab To manage your email subscriptions, visit: https://lab.dpdk.org/results/dashboard/preferences/subscriptions/