From mboxrd@z Thu Jan 1 00:00:00 1970 Return-Path: Received: from mails.dpdk.org (mails.dpdk.org [217.70.189.124]) by inbox.dpdk.org (Postfix) with ESMTP id 6998C489B1 for ; Thu, 23 Oct 2025 10:52:40 +0200 (CEST) Received: from mails.dpdk.org (localhost [127.0.0.1]) by mails.dpdk.org (Postfix) with ESMTP id 62749400D6; Thu, 23 Oct 2025 10:52:40 +0200 (CEST) Received: from mail-il1-f226.google.com (mail-il1-f226.google.com [209.85.166.226]) by mails.dpdk.org (Postfix) with ESMTP id 8FCAD400D6 for ; Thu, 23 Oct 2025 10:52:38 +0200 (CEST) Received: by mail-il1-f226.google.com with SMTP id e9e14a558f8ab-430b45ba0e4so3290915ab.1 for ; Thu, 23 Oct 2025 01:52:38 -0700 (PDT) DKIM-Signature: v=1; a=rsa-sha256; c=relaxed/relaxed; d=iol.unh.edu; s=unh-iol; t=1761209558; x=1761814358; darn=dpdk.org; h=cc:to:from:subject:message-id:date:from:to:cc:subject:date :message-id:reply-to; bh=1oUXz64hIGvHXCPdBWM+g/ltQaiFqrFb5ELpwxsNHz0=; b=U0xif07OVxTTSH3A1wHWWk0OSQsU27IT0PYNQTBKP0DOVIzroaRREhJTGlZlDA2OOA aG35swI1pJ3Bwwmf3fGnn1/pJCqS997RHtgHcK6ksiDIcs4fvTs/LZR2vdqTDZubauX3 8jPQBpC1A2CTRd8sgoedzOlf74UI5EVYiaZOY= X-Google-DKIM-Signature: v=1; a=rsa-sha256; c=relaxed/relaxed; d=1e100.net; s=20230601; t=1761209558; x=1761814358; h=cc:to:from:subject:message-id:date:x-gm-message-state:from:to:cc :subject:date:message-id:reply-to; bh=1oUXz64hIGvHXCPdBWM+g/ltQaiFqrFb5ELpwxsNHz0=; b=Rzk3JftpKURxNTHNqdxmkwbYGVWy6p+/QsaYH6YqcJig/4FAMNxgp5uHJFqVKSWrin RZr9dk58aMEFKrsxEzQzyhjAF2mkgc8VhnR/ZDlRVeTaDWchtRAQMiPoJzkEDrU5AAJt Jtycue7zFrfFToex5Y6hG9zsBZLev2LMfCt+uuMCm3d5NfrmveszrhRBVZmMOPEu1VDc xsBc/IW/ojj2TVM0FADU3Kjq176CD9wgyPBaegds8Y1SJ4qMTB4YnaaqTLdm1GZBV4mI HCyDo5h3LB9MtO+uvwO5uT7j4cgCEd/uV5gffe0/EhPWSffde+tMbs/tj/W0hMh8npme X3CA== X-Gm-Message-State: AOJu0YzhLWT4Aa0VTIMgVOk5BTsXG+gLyofOEhRU2QDRp3UukPLdGc/X YTmmuGRxIUbcm41NKM2aAQFZbaK4nfgmiNc4PTh4slYZhxhWz4vRwdnGtOFpVzjY9EWZ0voRmu9 IARBi1y83KIlsgO4tA5xb9gs/z6uO0WdR9pIIJvXLrHJbHX7SbZUa X-Gm-Gg: ASbGncu1PANXCCeeQWbDmMODPt8FsULWjf+IsH1adLY22TFe1qQo+aypXb3o4TdESjD 2Fy7Ei2YECIFkI4EwkFfExm0N/IqVtHYKzzLL1OJ3ktVyGn/WrajT58EL9aNlSBNO0kssMhwRpF OTeEdDug22VNFDxo3SRqaHLBooIxJDtXoVv2PLhh+PgzQnygLp6nuydZh7i3gbh7kp6wGsNhWzr Tn3zJCnlKxd8ppO0buBkq9UNjW5E1uLpC96Yixy9ViGg+bF5LPgEdvOXJwfAexDjcdTd99Redeo k0c7rLW23310VIXrjyjSbq/+X6pCMyf6/ewUgXrBT4xwUMB95iFAksK2+49RR81+JwqRu93SSnt PB/EL10Ix X-Google-Smtp-Source: AGHT+IFMqxg/zk0/gzfPsYxC/1wMsxKbcZWw+TziRRIOJM8+8imy3gvNTRKMFClPRUk7yrGaKaXkPmxGKbMP X-Received: by 2002:a05:6e02:1a22:b0:431:d7da:ee5d with SMTP id e9e14a558f8ab-431d7daf05fmr54969265ab.9.1761209557922; Thu, 23 Oct 2025 01:52:37 -0700 (PDT) Received: from postal.iol.unh.edu (postal.iol.unh.edu. [2606:4100:3880:1234::84]) by smtp-relay.gmail.com with ESMTPS id 8926c6da1cb9f-5abb4a4ec9csm109492173.4.2025.10.23.01.52.37 (version=TLS1_2 cipher=ECDHE-ECDSA-AES128-GCM-SHA256 bits=128/128); Thu, 23 Oct 2025 01:52:37 -0700 (PDT) X-Relaying-Domain: iol.unh.edu Date: Thu, 23 Oct 2025 01:52:37 -0700 (PDT) Message-ID: <68f9ecd5.050a0220.3ce997.58ebSMTPIN_ADDED_MISSING@mx.google.com> Received: from [172.21.0.2] (unknown [172.18.0.240]) by postal.iol.unh.edu (Postfix) with ESMTP id 7A8D16051830; Thu, 23 Oct 2025 04:52:37 -0400 (EDT) Subject: |SUCCESS| [GIT MASTER] 07310b65d3aadc34a04066579860880149e1d8f7 From: dpdklab@iol.unh.edu To: Test Report Cc: dpdk-test-reports@iol.unh.edu, Ajit Khaparde Content-Type: text/plain X-BeenThere: test-report@dpdk.org X-Mailman-Version: 2.1.29 Precedence: list List-Id: automatic DPDK test reports List-Unsubscribe: , List-Archive: List-Post: List-Help: List-Subscribe: , Errors-To: test-report-bounces@dpdk.org _Testing PASS_ Branch: next-net-brcm-for-next-net 07310b65d3aadc34a04066579860880149e1d8f7 --> testing pass Upstream job id: Generic-DPDK-Compile-Meson#436796 Test environment and result as below: +------------------------------+--------------------+ | Environment | dpdk_meson_compile | +==============================+====================+ | Ubuntu 20.04 | PASS | +------------------------------+--------------------+ | Red Hat Enterprise Linux 9.5 | PASS | +------------------------------+--------------------+ | Debian GNU/Linux 12 | PASS | +------------------------------+--------------------+ | Fedora Linux 42 | PASS | +------------------------------+--------------------+ | Ubuntu 22.04 | PASS | +------------------------------+--------------------+ | Ubuntu 24.04 | PASS | +------------------------------+--------------------+ | CentOS Stream 10 | PASS | +------------------------------+--------------------+ | CentOS Stream 9 | PASS | +------------------------------+--------------------+ Ubuntu 20.04 Kernel: 5.15 Compiler: aarch64-linux-gnu-gcc gcc (Ubuntu 9.4.0-1ubuntu1~20.04.2) 9.4.0 Red Hat Enterprise Linux 9.5 Kernel: 5.4 Compiler: gcc gcc (GCC) 11.5.0 20240719 (Red Hat 11.5.0-2) Debian GNU/Linux 12 Kernel: 5.4 Compiler: gcc gcc (Debian 12.2.0-14+deb12u1) 12.2.0 Fedora Linux 42 Kernel: 5.4 Compiler: gcc gcc (GCC) 15.2.1 20250808 (Red Hat 15.2.1-1) Ubuntu 22.04 Kernel: 5.4 Compiler: gcc gcc (Ubuntu 11.4.0-1ubuntu1~22.04) 11.4.0 Ubuntu 24.04 Kernel: 5.4 Compiler: gcc gcc (Ubuntu 13.3.0-6ubuntu2~24.04) 13.3.0 CentOS Stream 10 Kernel: 5.4 Compiler: gcc gcc (GCC) 14.2.1 20250110 (Red Hat 14.2.1-8) CentOS Stream 9 Kernel: 5.4 Compiler: gcc gcc (GCC) 11.5.0 20240719 (Red Hat 11.5.0-11) To view detailed results, visit: https://lab.dpdk.org/results/dashboard/tarballs/35304/ UNH-IOL DPDK Community Lab To manage your email subscriptions, visit: https://lab.dpdk.org/results/dashboard/preferences/subscriptions/