From mboxrd@z Thu Jan 1 00:00:00 1970 Return-Path: Received: from mails.dpdk.org (mails.dpdk.org [217.70.189.124]) by inbox.dpdk.org (Postfix) with ESMTP id F1A4D489B1 for ; Thu, 23 Oct 2025 10:56:36 +0200 (CEST) Received: from mails.dpdk.org (localhost [127.0.0.1]) by mails.dpdk.org (Postfix) with ESMTP id EC905402C3; Thu, 23 Oct 2025 10:56:36 +0200 (CEST) Received: from mail-qv1-f99.google.com (mail-qv1-f99.google.com [209.85.219.99]) by mails.dpdk.org (Postfix) with ESMTP id 8FEC5400D6 for ; Thu, 23 Oct 2025 10:56:36 +0200 (CEST) Received: by mail-qv1-f99.google.com with SMTP id 6a1803df08f44-87c1f61ba98so8810026d6.0 for ; Thu, 23 Oct 2025 01:56:36 -0700 (PDT) DKIM-Signature: v=1; a=rsa-sha256; c=relaxed/relaxed; d=iol.unh.edu; s=unh-iol; t=1761209796; x=1761814596; darn=dpdk.org; h=references:in-reply-to:cc:to:from:subject:message-id:date:from:to :cc:subject:date:message-id:reply-to; bh=2PbtLtJOopRsmVsDH0hwP1t46uWiQaC5XQuMeGiE6yk=; b=W1I0K3rqQY47dQZiya16+OUZsHD6gPJugBL7OqeTYqlKXXNFBw9ofzEl3I8yrzFIak 2UGpZ6C7oAYCONAgxL5t5KLZDv+VHyVQCHM2kjGHjQzufDbylVePRcf5LAYgOHni7oTq LRN4NduStBiKdO8gQbYG0aDmuVH1WlxSPHX9Y= X-Google-DKIM-Signature: v=1; a=rsa-sha256; c=relaxed/relaxed; d=1e100.net; s=20230601; t=1761209796; x=1761814596; h=references:in-reply-to:cc:to:from:subject:message-id:date :x-gm-message-state:from:to:cc:subject:date:message-id:reply-to; bh=2PbtLtJOopRsmVsDH0hwP1t46uWiQaC5XQuMeGiE6yk=; b=omTDcKjBnSLk1E1dub+OBbl7RI5FD2a2V4ERT7+paEhuJS4vc3rXE6nu/FL+YNZv4t hUfJolN1tqQcf63XnDDVntoVDHll0EN+Cs5bstSO6Sqsa3puGrmLS/EB2LTabiIMujVZ 5aDa6d/TKbOsgJiviWrSJp4rywIsD0Nsfa5zfNxV7n7jTnA8BWPs+LcyyLDUMmfdr+Pl shIxeV7IAuMqG9pkY/rLcn0WSOdFmtrPqHGin5Ebg46fMnd7mpAmcooBGwv8Ec9WIjlQ RElelfZqfhdbB4Hf76Dku5L4UcHN/sU5aKbz6Nl2uiFpf8g+PeLyA0vBQ3Y7tNzVgLzy k2Zw== X-Gm-Message-State: AOJu0Yzb2WYbxAC5JonAGCmdUXuBKQh5wliAdRRn9C2LAhIjp/ngpzWv xeQQpc1N4NMa+pPbb0mSpnVY1npFqy5mEQaNMkcZUaE/QBAsVsFXnvDEa5S2qwF0SS3tEy08bF9 /TixuYH3sFoUA54bgtufCUz7oUUGqkZ11sKEdoxyZCRxI X-Gm-Gg: ASbGnctURfON3yg38tuuWEmySf5mqje8DrFqNLytwtq7mj4rJTDLgAtQ+Q9SBH3ujRR 2X9bqSnKD04r8t40W11eYyzMWKSarInxmLKtXVpHisbq6BHyrpcX9W0A90kJwOLM/ACDPIsZ7wg nZcEvArQp+xMs+JuJSArX2eiEXdw3NROCw1ZNfqs5501//61QaDauS33OpEQxmHKqniNY4UF+Yg IpT7Jdl692phqejSbGmxASJf87xLyGQW3DqNkFrrQB8Llc3mzMsloIUQ7NurMpzi6gNEybA2Nkb uu29UBGIBX5KSBiQle0uKiOdSc7mjYM+MBSu62ErHs+5BelIjUwa2C7oBfWU0zwbPo463tFUqpj pG3vb2rXrppMqkAKR8T53bYQSCNeYR5c= X-Google-Smtp-Source: AGHT+IGbMWYEDRrlxa0oc+bebtN9kE9JLVhsKty0llQ4faGN/Rlfb+Nm9yR8Pq2Aw0kQ8oG0PQkMQ/uFtCz7 X-Received: by 2002:a05:6214:19c3:b0:87c:3b2b:c12 with SMTP id 6a1803df08f44-87c3b2b100bmr208110106d6.60.1761209795981; Thu, 23 Oct 2025 01:56:35 -0700 (PDT) Received: from postal.iol.unh.edu (postal.iol.unh.edu. [132.177.123.84]) by smtp-relay.gmail.com with ESMTPS id 6a1803df08f44-87f9a43cb58sm1219196d6.2.2025.10.23.01.56.35 (version=TLS1_2 cipher=ECDHE-ECDSA-AES128-GCM-SHA256 bits=128/128); Thu, 23 Oct 2025 01:56:35 -0700 (PDT) X-Relaying-Domain: iol.unh.edu Date: Thu, 23 Oct 2025 01:56:35 -0700 (PDT) Message-ID: <68f9edc3.d40a0220.299bec.5f6eSMTPIN_ADDED_MISSING@mx.google.com> Received: from [172.21.0.3] (unknown [172.18.0.240]) by postal.iol.unh.edu (Postfix) with ESMTP id B1B226051830; Thu, 23 Oct 2025 04:56:35 -0400 (EDT) Subject: |SUCCESS| pw157992-157994 [PATCH] [v5,3/3] dts: add performance test From: dpdklab@iol.unh.edu To: Test Report Cc: dpdk-test-reports@iol.unh.edu In-Reply-To: <20251023013049.1368129-4-probb@iol.unh.edu> References: <20251023013049.1368129-4-probb@iol.unh.edu> Content-Type: text/plain X-BeenThere: test-report@dpdk.org X-Mailman-Version: 2.1.29 Precedence: list List-Id: automatic DPDK test reports List-Unsubscribe: , List-Archive: List-Post: List-Help: List-Subscribe: , Errors-To: test-report-bounces@dpdk.org Test-Label: iol-compile-arm64-testing Test-Status: SUCCESS http://dpdk.org/patch/157994 _Testing PASS_ Submitter: Patrick Robb Date: Thursday, October 23 2025 01:30:49 DPDK git baseline: Repo:dpdk-next-dts Branch: master CommitID:c1abcee5a9656fb4890b733e6051aa604c60f146 157992-157994 --> testing pass Upstream job id: Generic-DPDK-Compile-Meson#436833 Test environment and result as below: +------------------------------+--------------------+ | Environment | dpdk_meson_compile | +==============================+====================+ | Red Hat Enterprise Linux 9.5 | PASS | +------------------------------+--------------------+ | Ubuntu 20.04 | PASS | +------------------------------+--------------------+ | Ubuntu 24.04 | PASS | +------------------------------+--------------------+ | CentOS Stream 9 | PASS | +------------------------------+--------------------+ | Debian GNU/Linux 12 | PASS | +------------------------------+--------------------+ | Fedora Linux 42 | PASS | +------------------------------+--------------------+ | CentOS Stream 10 | PASS | +------------------------------+--------------------+ | Ubuntu 22.04 | PASS | +------------------------------+--------------------+ Red Hat Enterprise Linux 9.5 Kernel: 5.4 Compiler: gcc gcc (GCC) 11.5.0 20240719 (Red Hat 11.5.0-2) Ubuntu 20.04 Kernel: 5.15 Compiler: aarch64-linux-gnu-gcc gcc (Ubuntu 9.4.0-1ubuntu1~20.04.2) 9.4.0 Ubuntu 24.04 Kernel: 5.4 Compiler: gcc gcc (Ubuntu 13.3.0-6ubuntu2~24.04) 13.3.0 CentOS Stream 9 Kernel: 5.4 Compiler: gcc gcc (GCC) 11.5.0 20240719 (Red Hat 11.5.0-11) Debian GNU/Linux 12 Kernel: 5.4 Compiler: gcc gcc (Debian 12.2.0-14+deb12u1) 12.2.0 Fedora Linux 42 Kernel: 5.4 Compiler: clang gcc (GCC) 15.2.1 20250808 (Red Hat 15.2.1-1) CentOS Stream 10 Kernel: 5.4 Compiler: gcc gcc (GCC) 14.2.1 20250110 (Red Hat 14.2.1-8) Ubuntu 22.04 Kernel: 5.4 Compiler: gcc gcc (Ubuntu 11.4.0-1ubuntu1~22.04) 11.4.0 To view detailed results, visit: https://lab.dpdk.org/results/dashboard/patchsets/34349/ UNH-IOL DPDK Community Lab To manage your email subscriptions, visit: https://lab.dpdk.org/results/dashboard/preferences/subscriptions/