From mboxrd@z Thu Jan 1 00:00:00 1970 Return-Path: Received: from mails.dpdk.org (mails.dpdk.org [217.70.189.124]) by inbox.dpdk.org (Postfix) with ESMTP id 36B57489B1 for ; Thu, 23 Oct 2025 10:58:33 +0200 (CEST) Received: from mails.dpdk.org (localhost [127.0.0.1]) by mails.dpdk.org (Postfix) with ESMTP id 31B29400D6; Thu, 23 Oct 2025 10:58:33 +0200 (CEST) Received: from mail-pg1-f226.google.com (mail-pg1-f226.google.com [209.85.215.226]) by mails.dpdk.org (Postfix) with ESMTP id 2B608400D6 for ; Thu, 23 Oct 2025 10:58:32 +0200 (CEST) Received: by mail-pg1-f226.google.com with SMTP id 41be03b00d2f7-b679450ecb6so439482a12.2 for ; Thu, 23 Oct 2025 01:58:32 -0700 (PDT) DKIM-Signature: v=1; a=rsa-sha256; c=relaxed/relaxed; d=iol.unh.edu; s=unh-iol; t=1761209911; x=1761814711; darn=dpdk.org; h=references:in-reply-to:cc:to:from:subject:message-id:date:from:to :cc:subject:date:message-id:reply-to; bh=wY5sN6+4Gx+qEjhIrW9VSSDf7NLDD/E28D4lxBovt0c=; b=aU3xLGzpFxhKonCdySfNAoODMCfkq8AIPWFjtNLZ/6ktbtscrI3N9zA+uXoAcdg26b Cs6uIFUSNYY8mHrMYPZr3/vW8H/taw8VIDQIPgDVWOKA1U60cQeUiX4DOFP5RURG7J2A JRcILVTluX27rHlTm4iJHdPfEBBqkgwWAruUs= X-Google-DKIM-Signature: v=1; a=rsa-sha256; c=relaxed/relaxed; d=1e100.net; s=20230601; t=1761209911; x=1761814711; h=references:in-reply-to:cc:to:from:subject:message-id:date :x-gm-message-state:from:to:cc:subject:date:message-id:reply-to; bh=wY5sN6+4Gx+qEjhIrW9VSSDf7NLDD/E28D4lxBovt0c=; b=I1TrZiyd0XivsuD6myUfzBpz/zD3/VpJAtp0Qn8qemYIJlFhoe1ND5O6dlPxmHcRTc 8Wi8+gMUjRbJyy5wNE1T7mZjj7aVpollHTyem2RPgG4Xf2VS6KT34V6qOZwNx54wAKd4 rJnChcuNJf35E2lMxgEudAzgohZo+FlnWlB7/mpQh7c25RCz/hjE9Czf/1SWBbY9ODDJ LeZ2LZ/bePvEOcqdPM0jeyc0R1R4Tz2CllKGipdZowLOHdZQejZN5GId7HNn7MRH/dnb 9nLPqCp0zMFe8UhKe8oAne0S+/JS4Ux7iWUTv7UCDaEv2j/lgRJj6xuKRaIhKeGM38Hn Il3Q== X-Gm-Message-State: AOJu0YwwzumQR6pzhMKGmqe1o4mVRd2QKj0Pk71KIeNE8ccThE1VcXVR kcxyCGiLQruT6d5MZdFh2YqYFNcAMmUgW040lcpkVlE6s4tLCqk7BqEodnQJWDEE2n0HXtGQUgj ABRgnwJkyKbCAQZGqKaEwhXRL7VOIbZ39YZj3lblobOjb X-Gm-Gg: ASbGncvotvsKtWdUtSOlDMOyz7heYnJutch99A3h14/mA7ENByO2OswSU8Qgyy8xuxb CZA3np5HxJWdQkONoideHgWp4rC8RAL6Mi4volumUWDC7i9UA7m8JiIUOkkS47FpFCkdJx+/WIv cHV4IV5DtHFK/vL+0dOQvUvzIRXqa5hA8kmf7H89zWvv0l1cNrNUqSwU9jw9SdEGVNPZ6Gca5xr vLMGyH6Np2VyS2GQCXNbtlDgKtyPet9gj9ADzJbXOEpYIhPgDMUf9+fAuDQc1TPMMsWtli7GoRL 5fefwVKptKOidc1O7fa3yDpv0MRBJAtUk64X5eypzuZtztJbFK4BYyXPBwa9+bigGYfGMtol74Y QvecAqZRJ5QUWg/ppgxYsqIYmvufoh60= X-Google-Smtp-Source: AGHT+IE7afGVfXpcgzKme7zcjC4cpnHzPWcqRr7bCbyvwBeAUclQBqNATT52A/eOyY+Z1kRsYirYIRSokzGI X-Received: by 2002:a17:902:d48b:b0:269:a2bc:799f with SMTP id d9443c01a7336-2946e0ebfe2mr21311225ad.29.1761209911446; Thu, 23 Oct 2025 01:58:31 -0700 (PDT) Received: from postal.iol.unh.edu (postal.iol.unh.edu. [132.177.123.84]) by smtp-relay.gmail.com with ESMTPS id d9443c01a7336-2946dd980f3sm1653455ad.8.2025.10.23.01.58.31 (version=TLS1_2 cipher=ECDHE-ECDSA-AES128-GCM-SHA256 bits=128/128); Thu, 23 Oct 2025 01:58:31 -0700 (PDT) X-Relaying-Domain: iol.unh.edu Date: Thu, 23 Oct 2025 01:58:31 -0700 (PDT) Message-ID: <68f9ee37.170a0220.3d4306.834bSMTPIN_ADDED_MISSING@mx.google.com> Received: from [172.21.0.3] (unknown [172.18.0.240]) by postal.iol.unh.edu (Postfix) with ESMTP id B83DC6051830; Thu, 23 Oct 2025 04:58:30 -0400 (EDT) Subject: |SUCCESS| pw157995 [PATCH] net/ngbe: support to identify centec sk21 From: dpdklab@iol.unh.edu To: Test Report Cc: dpdk-test-reports@iol.unh.edu, Stephen Hemminger In-Reply-To: <4BC1A3490B167701+20251023033207.62299-1-jiawenwu@trustnetic.com> References: <4BC1A3490B167701+20251023033207.62299-1-jiawenwu@trustnetic.com> Content-Type: text/plain X-BeenThere: test-report@dpdk.org X-Mailman-Version: 2.1.29 Precedence: list List-Id: automatic DPDK test reports List-Unsubscribe: , List-Archive: List-Post: List-Help: List-Subscribe: , Errors-To: test-report-bounces@dpdk.org Test-Label: iol-compile-arm64-testing Test-Status: SUCCESS http://dpdk.org/patch/157995 _Testing PASS_ Submitter: Jiawen Wu Date: Thursday, October 23 2025 03:32:07 DPDK git baseline: Repo:dpdk-next-net Branch: master CommitID:4c4055bdd19f919795f83a01faae9fc267570d7f 157995 --> testing pass Upstream job id: Generic-DPDK-Compile-Meson#436860 Test environment and result as below: +------------------------------+--------------------+ | Environment | dpdk_meson_compile | +==============================+====================+ | Ubuntu 20.04 | PASS | +------------------------------+--------------------+ | Red Hat Enterprise Linux 9.5 | PASS | +------------------------------+--------------------+ | Fedora Linux 42 | PASS | +------------------------------+--------------------+ | Debian GNU/Linux 12 | PASS | +------------------------------+--------------------+ | Ubuntu 22.04 | PASS | +------------------------------+--------------------+ | CentOS Stream 9 | PASS | +------------------------------+--------------------+ | Ubuntu 24.04 | PASS | +------------------------------+--------------------+ | CentOS Stream 10 | PASS | +------------------------------+--------------------+ Ubuntu 20.04 Kernel: 5.15 Compiler: aarch64-linux-gnu-gcc gcc (Ubuntu 9.4.0-1ubuntu1~20.04.2) 9.4.0 Red Hat Enterprise Linux 9.5 Kernel: 5.4 Compiler: gcc gcc (GCC) 11.5.0 20240719 (Red Hat 11.5.0-2) Fedora Linux 42 Kernel: 5.4 Compiler: clang gcc (GCC) 15.2.1 20250808 (Red Hat 15.2.1-1) Debian GNU/Linux 12 Kernel: 5.4 Compiler: gcc gcc (Debian 12.2.0-14+deb12u1) 12.2.0 Ubuntu 22.04 Kernel: 5.4 Compiler: gcc gcc (Ubuntu 11.4.0-1ubuntu1~22.04) 11.4.0 CentOS Stream 9 Kernel: 5.4 Compiler: gcc gcc (GCC) 11.5.0 20240719 (Red Hat 11.5.0-11) Ubuntu 24.04 Kernel: 5.4 Compiler: gcc gcc (Ubuntu 13.3.0-6ubuntu2~24.04) 13.3.0 CentOS Stream 10 Kernel: 5.4 Compiler: gcc gcc (GCC) 14.2.1 20250110 (Red Hat 14.2.1-8) To view detailed results, visit: https://lab.dpdk.org/results/dashboard/patchsets/34350/ UNH-IOL DPDK Community Lab To manage your email subscriptions, visit: https://lab.dpdk.org/results/dashboard/preferences/subscriptions/