From mboxrd@z Thu Jan 1 00:00:00 1970 Return-Path: Received: from mails.dpdk.org (mails.dpdk.org [217.70.189.124]) by inbox.dpdk.org (Postfix) with ESMTP id 50E01489B1 for ; Thu, 23 Oct 2025 10:58:48 +0200 (CEST) Received: from mails.dpdk.org (localhost [127.0.0.1]) by mails.dpdk.org (Postfix) with ESMTP id 4AF0F400D6; Thu, 23 Oct 2025 10:58:48 +0200 (CEST) Received: from mail-qk1-f226.google.com (mail-qk1-f226.google.com [209.85.222.226]) by mails.dpdk.org (Postfix) with ESMTP id 6925B400D6 for ; Thu, 23 Oct 2025 10:58:47 +0200 (CEST) Received: by mail-qk1-f226.google.com with SMTP id af79cd13be357-892d1443e48so98565685a.0 for ; Thu, 23 Oct 2025 01:58:47 -0700 (PDT) DKIM-Signature: v=1; a=rsa-sha256; c=relaxed/relaxed; d=iol.unh.edu; s=unh-iol; t=1761209927; x=1761814727; darn=dpdk.org; h=references:in-reply-to:cc:to:from:subject:message-id:date:from:to :cc:subject:date:message-id:reply-to; bh=VRVZEb0+u1VEOwUsv9fk2Oe0ZyQ+mDwFBuc9cDnwMsk=; b=SsKOiIEz28ROWL56ct2W4lu7LytRobTS8NHP6uTGqIsWEEnclCODX6arMvq1nDMJmv HIqydankbvZ1fePugMz77PChV7Yz6U4UkfC/8qgod8FLviqzh0Juni2WNSm84JINzYGP RsapWR3L8eP+yDAXFtWk5yhxTjFyF1JkNK3TM= X-Google-DKIM-Signature: v=1; a=rsa-sha256; c=relaxed/relaxed; d=1e100.net; s=20230601; t=1761209927; x=1761814727; h=references:in-reply-to:cc:to:from:subject:message-id:date :x-gm-message-state:from:to:cc:subject:date:message-id:reply-to; bh=VRVZEb0+u1VEOwUsv9fk2Oe0ZyQ+mDwFBuc9cDnwMsk=; b=GpmDiGCghKuEJGFWQJJ94Y8o0B/y+Xe7DucloDfODTkpvmlMXFkeZPhr+ccT/vPUtJ aH3OJMUTq+n+3JJYoPHVQHAMlpfu8wSRd0orkg2+pwV8VlFTpX4WUT2EMoAWgIMt0Ckx YNC9FiyR8M5dG+7Sbc7pJRVvGXHgti6r+lkI/wF+uj28/xRMSV8sregShP0ZzSPpSD+m dM/Q/UNgsp26VeApqPPNiiVYJKPPHQZkCR5OCVrYpV1G/bk2BTT7pwOPYnEl6UIi60Pm hxc1Uwi4JF9CQgVB9HWshhuYeLMvGt25WZfftP5h4irb8jAqcKn1pwPEe9hAn+iKShO+ bnwg== X-Gm-Message-State: AOJu0Yz17SA8thdOcqCE7QWbLHyzYhH3VHMf1X4TZ165Ibz58WdQLd70 WWwvBaHwIUerU0YzryEn6RDN4zUMstUlsLXLpUpuwHVyaX0y4GSBnwOqEKuSuKsywxMqf99QYXQ WQZPiUpqit0k1QINuP3cIfuhneA9UuhaNqGmjRQOOEyxq X-Gm-Gg: ASbGncsVYDiaByIXfe76OnUSAJRAphlJxw1LsDqP3OWl+iPE6XlHBP+CTyCTOKEF+qD faCWZ7IT0Bv7lQ6tANAO38aCZ+xfoXGJsKyh+Yej6f94RqZjACn/j4OLuqnsVspQqBUZnxzXOcY i5NEuyoZqygZLcE4CzYBaWhFQNyQj94Zd++8DV0z7bN1UzhhRd9rPVPiQRjgu4FZjs/HDq0+D1T vGRJZqgByfvMqPMIkU1KmyaySzY7NStSSe/MrFQxrcMmAaxiuwY8nT9bIattSgAos+ywTFsYG8Q iDEu0diZdhudbdsFyJecOwkJyin71eD78Ys/81TgWgN6LIO5wdYw2Z1s6N4d7RRdFiK/5y1H0UM hdK+4azkFwGKP15v1/fXkejMrtTuOfGE= X-Google-Smtp-Source: AGHT+IG17b5dFPVE5OPVOFevagf7PEkJvw9KZ0/w8y/dgD6OseO1NQmzEQ/SdvUtP/XpDNyBAnC8bDKFjuAB X-Received: by 2002:a05:620a:4406:b0:892:fc3d:9917 with SMTP id af79cd13be357-892fc3d9e14mr1953459085a.52.1761209926729; Thu, 23 Oct 2025 01:58:46 -0700 (PDT) Received: from postal.iol.unh.edu (postal.iol.unh.edu. [132.177.123.84]) by smtp-relay.gmail.com with ESMTPS id d75a77b69052e-4eb806a11fasm1324891cf.6.2025.10.23.01.58.46 (version=TLS1_2 cipher=ECDHE-ECDSA-AES128-GCM-SHA256 bits=128/128); Thu, 23 Oct 2025 01:58:46 -0700 (PDT) X-Relaying-Domain: iol.unh.edu Date: Thu, 23 Oct 2025 01:58:46 -0700 (PDT) Message-ID: <68f9ee46.050a0220.3c0c44.6c6eSMTPIN_ADDED_MISSING@mx.google.com> Received: from [172.21.0.6] (unknown [172.18.0.240]) by postal.iol.unh.edu (Postfix) with ESMTP id 4392A6051830; Thu, 23 Oct 2025 04:58:46 -0400 (EDT) Subject: |SUCCESS| pw157995 [PATCH] net/ngbe: support to identify centec sk21 From: dpdklab@iol.unh.edu To: Test Report Cc: dpdk-test-reports@iol.unh.edu, Stephen Hemminger In-Reply-To: <4BC1A3490B167701+20251023033207.62299-1-jiawenwu@trustnetic.com> References: <4BC1A3490B167701+20251023033207.62299-1-jiawenwu@trustnetic.com> Content-Type: text/plain X-BeenThere: test-report@dpdk.org X-Mailman-Version: 2.1.29 Precedence: list List-Id: automatic DPDK test reports List-Unsubscribe: , List-Archive: List-Post: List-Help: List-Subscribe: , Errors-To: test-report-bounces@dpdk.org Test-Label: iol-compile-arm64-testing Test-Status: SUCCESS http://dpdk.org/patch/157995 _Testing PASS_ Submitter: Jiawen Wu Date: Thursday, October 23 2025 03:32:07 DPDK git baseline: Repo:dpdk-next-net Branch: master CommitID:4c4055bdd19f919795f83a01faae9fc267570d7f 157995 --> testing pass Upstream job id: Generic-DPDK-Compile-Meson#436861 Test environment and result as below: +------------------------------+--------------------+ | Environment | dpdk_meson_compile | +==============================+====================+ | Ubuntu 20.04 | PASS | +------------------------------+--------------------+ | Red Hat Enterprise Linux 9.5 | PASS | +------------------------------+--------------------+ | Fedora Linux 42 | PASS | +------------------------------+--------------------+ | Debian GNU/Linux 12 | PASS | +------------------------------+--------------------+ | Ubuntu 22.04 | PASS | +------------------------------+--------------------+ | CentOS Stream 9 | PASS | +------------------------------+--------------------+ | Ubuntu 24.04 | PASS | +------------------------------+--------------------+ | CentOS Stream 10 | PASS | +------------------------------+--------------------+ Ubuntu 20.04 Kernel: 5.15 Compiler: aarch64-linux-gnu-gcc gcc (Ubuntu 9.4.0-1ubuntu1~20.04.2) 9.4.0 Red Hat Enterprise Linux 9.5 Kernel: 5.4 Compiler: gcc gcc (GCC) 11.5.0 20240719 (Red Hat 11.5.0-2) Fedora Linux 42 Kernel: 5.4 Compiler: clang gcc (GCC) 15.2.1 20250808 (Red Hat 15.2.1-1) Debian GNU/Linux 12 Kernel: 5.4 Compiler: gcc gcc (Debian 12.2.0-14+deb12u1) 12.2.0 Ubuntu 22.04 Kernel: 5.4 Compiler: gcc gcc (Ubuntu 11.4.0-1ubuntu1~22.04) 11.4.0 CentOS Stream 9 Kernel: 5.4 Compiler: gcc gcc (GCC) 11.5.0 20240719 (Red Hat 11.5.0-11) Ubuntu 24.04 Kernel: 5.4 Compiler: gcc gcc (Ubuntu 13.3.0-6ubuntu2~24.04) 13.3.0 CentOS Stream 10 Kernel: 5.4 Compiler: gcc gcc (GCC) 14.2.1 20250110 (Red Hat 14.2.1-8) To view detailed results, visit: https://lab.dpdk.org/results/dashboard/patchsets/34350/ UNH-IOL DPDK Community Lab To manage your email subscriptions, visit: https://lab.dpdk.org/results/dashboard/preferences/subscriptions/