From mboxrd@z Thu Jan 1 00:00:00 1970 Return-Path: Received: from mails.dpdk.org (mails.dpdk.org [217.70.189.124]) by inbox.dpdk.org (Postfix) with ESMTP id B6479489B1 for ; Thu, 23 Oct 2025 11:12:25 +0200 (CEST) Received: from mails.dpdk.org (localhost [127.0.0.1]) by mails.dpdk.org (Postfix) with ESMTP id 9A81F400D6; Thu, 23 Oct 2025 11:12:25 +0200 (CEST) Received: from mail-yx1-f98.google.com (mail-yx1-f98.google.com [74.125.224.98]) by mails.dpdk.org (Postfix) with ESMTP id 92139400D6 for ; Thu, 23 Oct 2025 11:12:24 +0200 (CEST) Received: by mail-yx1-f98.google.com with SMTP id 956f58d0204a3-63bbf5f77daso617355d50.3 for ; Thu, 23 Oct 2025 02:12:24 -0700 (PDT) DKIM-Signature: v=1; a=rsa-sha256; c=relaxed/relaxed; d=iol.unh.edu; s=unh-iol; t=1761210744; x=1761815544; darn=dpdk.org; h=references:in-reply-to:cc:to:from:subject:message-id:date:from:to :cc:subject:date:message-id:reply-to; bh=9oBHTMVL/vlb4rFQcnOvTZwK9lmX5t3qDqQPC/LCf8w=; b=TJwdImkkD8u0XHuMCB0FpC+V+HeHpQeDJkrxa2+9i19QyOrDL12bhndhIhSZooubrs +5xdyyGpVxq/o5HEvflSQ0LEnWdXbxg9n23ceCb0P4WdAHZoywfSc9Wf5F41J6TccmB9 p0in0EP6n8J1Zwuct1mdzbYQBbFPoeezjSQkc= X-Google-DKIM-Signature: v=1; a=rsa-sha256; c=relaxed/relaxed; d=1e100.net; s=20230601; t=1761210744; x=1761815544; h=references:in-reply-to:cc:to:from:subject:message-id:date :x-gm-message-state:from:to:cc:subject:date:message-id:reply-to; bh=9oBHTMVL/vlb4rFQcnOvTZwK9lmX5t3qDqQPC/LCf8w=; b=Knuk5QGYd8Xh1zqs2beA5zHGWETM3pFqOyM3uXxJ2st+lkDz8Rkow5/mZ74qyX5Fdg feYtYQHDnlVeQ9cmkpOc1EY1IOtQGR5c1eNIzLOLen4L+7z/zd5pRSxGwBZwo2YH6gTu vy6wNG8bb44SSpEj0PAPXUWNEU5jc0tYMHO3LO0DpUAYPpY7fNQWkyIri9EypVYi1AUN ji6aGUgAd1v2vfLMVD+VbWLplcFeMPqe1p/qdpbDREAB1hKaxZCyBwW9hfEbSqLa/6vw 6xjBgqZ7t8MjnyNV/X81uAaekEzzp0fqAvg+cG3UQk5vUo3fhytLF5PwB8KN9SWUA8wQ 4agA== X-Gm-Message-State: AOJu0YyOpMeZQx3mOkpPRXsO1zgQnDvZTd7dhnq77DtEsJL13VuEQpm7 zVfXMPXGtGSRVJv70nFCHJY2Fv354MBJKOb2FNZcN9RFhd3Z2vzjODdtnDY8ioh/HokWIXT48Dl bDZke0xTcigAXy5syi7yoM4Kgi05qxhEF3fnCVd2tI2rF X-Gm-Gg: ASbGncs3yDO+8t+BEnhQU877p7DfSeajbH/60crDzjKziXxtfVQhnmlhB/cR0/Mt7YZ 32AqJHyztzchyWgTWWsG7AqtcHHHH5Kdb2tauOvE2QSQ2ljHdZMBISW3CrcO1FXFi8Jsge5WWsb Mp70ZymhA1L87XJ04BYKXHMR8JxFFdyC4z8SyOwMhFSnQe2ZejdHQ0peGswovhQiOYZkSxNd35j hvdXeaXzaqafoTvS6+iYW33xKHzjCUHfhEUzSzYeVyrj5Oo+Mebz3JSiyn5kW7CabYZJlKocqfj ymCgM5y2/YGWrmcIL2/P+OF2E+d1kQMm+91gAD8Pg2/Wk5Uk/5tYTofgkJqRkuQPIZAVaI8NL0G RSFi4ahsvdOvZUhX1Ks6UpbUR370kUqo= X-Google-Smtp-Source: AGHT+IEaYeaic7GRmNazb4cD200nP9g1Klmkoc8Xq2zsUYoX72jkI1R5H+ouchZgoR7qZdGTXOvXoXqN7qi7 X-Received: by 2002:a05:690e:120e:b0:63e:2906:e7f1 with SMTP id 956f58d0204a3-63e2906eea1mr13711447d50.1.1761210743941; Thu, 23 Oct 2025 02:12:23 -0700 (PDT) Received: from postal.iol.unh.edu (postal.iol.unh.edu. [132.177.123.84]) by smtp-relay.gmail.com with ESMTPS id 956f58d0204a3-63f378d9accsm75052d50.1.2025.10.23.02.12.23 (version=TLS1_2 cipher=ECDHE-ECDSA-AES128-GCM-SHA256 bits=128/128); Thu, 23 Oct 2025 02:12:23 -0700 (PDT) X-Relaying-Domain: iol.unh.edu Date: Thu, 23 Oct 2025 02:12:23 -0700 (PDT) Message-ID: <68f9f177.050a0220.13adf1.3941SMTPIN_ADDED_MISSING@mx.google.com> Received: from [172.21.0.2] (unknown [172.18.0.240]) by postal.iol.unh.edu (Postfix) with ESMTP id 95B2B6051830; Thu, 23 Oct 2025 05:12:23 -0400 (EDT) Subject: |SUCCESS| pw158009 [PATCH] [v5] mbuf: optimize segment prefree From: dpdklab@iol.unh.edu To: Test Report Cc: dpdk-test-reports@iol.unh.edu In-Reply-To: <20251023080136.165513-1-mb@smartsharesystems.com> References: <20251023080136.165513-1-mb@smartsharesystems.com> Content-Type: text/plain X-BeenThere: test-report@dpdk.org X-Mailman-Version: 2.1.29 Precedence: list List-Id: automatic DPDK test reports List-Unsubscribe: , List-Archive: List-Post: List-Help: List-Subscribe: , Errors-To: test-report-bounces@dpdk.org Test-Label: iol-compile-amd64-testing Test-Status: SUCCESS http://dpdk.org/patch/158009 _Testing PASS_ Submitter: Morten Brorup Date: Thursday, October 23 2025 08:01:36 DPDK git baseline: Repo:dpdk Branch: master CommitID:2863cbd9ee6dabee2b183382d298f4054ba3e8a2 158009 --> testing pass Upstream job id: Windows-Compile-DPDK-VS#7291 Test environment and result as below: +---------------------+--------------------+-------------------+ | Environment | dpdk_meson_compile | dpdk_msvc_compile | +=====================+====================+===================+ | Ubuntu 20.04 | PASS | SKIPPED | +---------------------+--------------------+-------------------+ | FreeBSD 14.2 | PASS | SKIPPED | +---------------------+--------------------+-------------------+ | Windows Server 2022 | SKIPPED | PASS | +---------------------+--------------------+-------------------+ Ubuntu 20.04 Kernel: 4.19 Compiler: gcc gcc (Ubuntu 9.4.0-1ubuntu1~20.04.2) 9.4.0 FreeBSD 14.2 Kernel: 14.2-RELEASE Compiler: clang 18.1.6 Windows Server 2022 Kernel: 10.0.20348.2031 Compiler: clang 15.0.7, gcc 14.1.0 (MinGW), and MSVC VS 19.39.33521 To view detailed results, visit: https://lab.dpdk.org/results/dashboard/patchsets/34354/ UNH-IOL DPDK Community Lab To manage your email subscriptions, visit: https://lab.dpdk.org/results/dashboard/preferences/subscriptions/