From mboxrd@z Thu Jan 1 00:00:00 1970 Return-Path: Received: from mails.dpdk.org (mails.dpdk.org [217.70.189.124]) by inbox.dpdk.org (Postfix) with ESMTP id 62B26489B1 for ; Thu, 23 Oct 2025 11:18:41 +0200 (CEST) Received: from mails.dpdk.org (localhost [127.0.0.1]) by mails.dpdk.org (Postfix) with ESMTP id 5E4C7400D6; Thu, 23 Oct 2025 11:18:41 +0200 (CEST) Received: from mail-yx1-f99.google.com (mail-yx1-f99.google.com [74.125.224.99]) by mails.dpdk.org (Postfix) with ESMTP id ED710400D6 for ; Thu, 23 Oct 2025 11:18:39 +0200 (CEST) Received: by mail-yx1-f99.google.com with SMTP id 956f58d0204a3-63e1a326253so613677d50.2 for ; Thu, 23 Oct 2025 02:18:39 -0700 (PDT) DKIM-Signature: v=1; a=rsa-sha256; c=relaxed/relaxed; d=iol.unh.edu; s=unh-iol; t=1761211119; x=1761815919; darn=dpdk.org; h=references:in-reply-to:cc:to:from:subject:message-id:date:from:to :cc:subject:date:message-id:reply-to; bh=TxDlE0COvUmY2n7uv/zLyDXbWxHzlhkehPI/IBr1CcQ=; b=LVhqE7d8jai7Vii48pF8Zwf31rPta1xY/NVQdQt7Hwk+6l7RSd8LNW6EbMG2Ply35o ScoW76YSNYV0KS6sLK9lBxPHN6DdGxXqhnmn1UTSAtqlJ47F5QTchNvNgbWDs+1Nq0KP Sj7ez7mF/nXYOClEnTo3RWlRclFzOlh3UTEWE= X-Google-DKIM-Signature: v=1; a=rsa-sha256; c=relaxed/relaxed; d=1e100.net; s=20230601; t=1761211119; x=1761815919; h=references:in-reply-to:cc:to:from:subject:message-id:date :x-gm-message-state:from:to:cc:subject:date:message-id:reply-to; bh=TxDlE0COvUmY2n7uv/zLyDXbWxHzlhkehPI/IBr1CcQ=; b=UcfvQHrk78QbDY0DPqGb98Y4OUebN0VpdOE44TJcc9JqvZKMt7MrD5DN1RnJfeKwUQ MG+KpNfn108dItetOGxyNlJd4kmtvYO5h0TsW4l1h+DIZGXE4JQLT/16ahma5O/zH9o1 nHsSCQqveU+9c2hhqZhIvhnpo8IbFUB8FlgBgwybvVgH0gdtosMM/UVfz2cSASz9XDBU 1XYYBZqd2ONTEqFzZloiVCa9CmkKIle6vut8Wv/CRhGSnNG9oL5WeHzSs9yR1moELu1q 2rfb6BCIPArlumlYijPgNTC9m8zYspNFJJDlT26jMLN9M2kr71b4vnZGQ0qM9RoaP0Vk GM4A== X-Gm-Message-State: AOJu0YyIE1aXZL2quqSGV92lx2SPdSn5IH7+/3fC/+dKob/Wvz+ZfLSp Je7tuzoKOyeU8PaW4sGtek+4GaRSCjyS8AkC/+ZmBLw3a7Ur2KBoNMURTqe4+Np2U1f7ji0iwpR 1aw2ECTyFp1HKyO8o4sBRM5ucPXfmO7d0bYUlTxpDmlud8XQQ8iIpnGm3THWv X-Gm-Gg: ASbGnctuLEuIW6Qfa65Pn3E2yMjJ5wai30EOO3j9EQZjSGjxIKujCapW+BfcrEZu3E7 pMsVm+/jbvNkUOlzsmGVDj7L29hmM28HoTx5t3M2j1wh9EvyLN3eByA5g3v1I9hA8fvXZfp10up cqcI8I9+U1zApuVmAxOBDaUp4Tlkz25sYBRYLSBRRuo1tzKPBkzQVOBX+9llxzQE2mixjihDr3o wMC2e1+nTncV3Gcp6NB6vQKl9H/ESX33fz4maiECVdQtRSa48odgTiQxDVrQi9/mQb/ayIJ8HbQ YPldyau7ZmTS2S/668gp4K9aOEkb1xMSgOHmpgZBBgANlft+G4mVk05LGA080jLcehfPlRoGrlV Apqz8TLLt X-Google-Smtp-Source: AGHT+IHTaWarvli3N/I2SRef8UP0Cf8fZOIdG/nKmkDLUdqnukdLZesMvyajS0CTo0bPDhbGttacqMUpKsQo X-Received: by 2002:a05:690e:2505:10b0:63c:efd6:c607 with SMTP id 956f58d0204a3-63e160d904emr16622655d50.3.1761211119310; Thu, 23 Oct 2025 02:18:39 -0700 (PDT) Received: from postal.iol.unh.edu (postal.iol.unh.edu. [2606:4100:3880:1234::84]) by smtp-relay.gmail.com with ESMTPS id 956f58d0204a3-63f37a35efesm83891d50.9.2025.10.23.02.18.39 (version=TLS1_2 cipher=ECDHE-ECDSA-AES128-GCM-SHA256 bits=128/128); Thu, 23 Oct 2025 02:18:39 -0700 (PDT) X-Relaying-Domain: iol.unh.edu Date: Thu, 23 Oct 2025 02:18:39 -0700 (PDT) Message-ID: <68f9f2ef.530a0220.274af9.44e3SMTPIN_ADDED_MISSING@mx.google.com> Received: from [172.21.0.8] (unknown [172.18.0.240]) by postal.iol.unh.edu (Postfix) with ESMTP id 00DCF6051830; Thu, 23 Oct 2025 05:18:39 -0400 (EDT) Subject: |WARNING| pw158002 [PATCH] [v3] net/vmxnet3: disable RSS for single From: dpdklab@iol.unh.edu To: Test Report Cc: dpdk-test-reports@iol.unh.edu, Stephen Hemminger In-Reply-To: <20251023072238.17584-1-amiyaranjan.mohakud@gmail.com> References: <20251023072238.17584-1-amiyaranjan.mohakud@gmail.com> Content-Type: text/plain X-BeenThere: test-report@dpdk.org X-Mailman-Version: 2.1.29 Precedence: list List-Id: automatic DPDK test reports List-Unsubscribe: , List-Archive: List-Post: List-Help: List-Subscribe: , Errors-To: test-report-bounces@dpdk.org Test-Label: iol-compile-amd64-testing Test-Status: WARNING http://dpdk.org/patch/158002 _Testing issues_ Submitter: Amiya Ranjan Mohakud Date: Thursday, October 23 2025 07:22:38 DPDK git baseline: Repo:dpdk-next-net Branch: master CommitID:4c4055bdd19f919795f83a01faae9fc267570d7f 158002 --> testing issues Upstream job id: Generic-DPDK-Compile-Meson#436956 Test environment and result as below: +-------------------------------+--------------------+-------------------------+-------------------+----------------------+-------------------+------------------+ | Environment | dpdk_meson_compile | dpdk_llvm_clang_compile | dpdk_msvc_compile | dpdk_mingw64_compile | dpdk_compile_spdk | dpdk_compile_ovs | +===============================+====================+=========================+===================+======================+===================+==================+ | Ubuntu 20.04 | PASS | SKIPPED | SKIPPED | SKIPPED | SKIPPED | SKIPPED | +-------------------------------+--------------------+-------------------------+-------------------+----------------------+-------------------+------------------+ | FreeBSD 14.2 | PASS | SKIPPED | SKIPPED | SKIPPED | SKIPPED | SKIPPED | +-------------------------------+--------------------+-------------------------+-------------------+----------------------+-------------------+------------------+ | CentOS Stream 9 | PEND | SKIPPED | SKIPPED | SKIPPED | PEND | SKIPPED | +-------------------------------+--------------------+-------------------------+-------------------+----------------------+-------------------+------------------+ | CentOS Stream 10 | PASS | SKIPPED | SKIPPED | SKIPPED | SKIPPED | SKIPPED | +-------------------------------+--------------------+-------------------------+-------------------+----------------------+-------------------+------------------+ | Fedora Linux 42 | PEND | SKIPPED | SKIPPED | SKIPPED | PEND | PEND | +-------------------------------+--------------------+-------------------------+-------------------+----------------------+-------------------+------------------+ | Debian GNU/Linux 12 | PASS | SKIPPED | SKIPPED | SKIPPED | WARN | SKIPPED | +-------------------------------+--------------------+-------------------------+-------------------+----------------------+-------------------+------------------+ | openSUSE Leap 15.6 | PASS | SKIPPED | SKIPPED | SKIPPED | SKIPPED | SKIPPED | +-------------------------------+--------------------+-------------------------+-------------------+----------------------+-------------------+------------------+ | Red Hat Enterprise Linux 8.10 | PASS | SKIPPED | SKIPPED | SKIPPED | SKIPPED | SKIPPED | +-------------------------------+--------------------+-------------------------+-------------------+----------------------+-------------------+------------------+ | Red Hat Enterprise Linux 9.5 | PASS | SKIPPED | SKIPPED | SKIPPED | SKIPPED | SKIPPED | +-------------------------------+--------------------+-------------------------+-------------------+----------------------+-------------------+------------------+ | Ubuntu 22.04 | PEND | SKIPPED | SKIPPED | SKIPPED | PEND | SKIPPED | +-------------------------------+--------------------+-------------------------+-------------------+----------------------+-------------------+------------------+ | Ubuntu 24.04 | PEND | SKIPPED | SKIPPED | SKIPPED | PEND | PEND | +-------------------------------+--------------------+-------------------------+-------------------+----------------------+-------------------+------------------+ | Alpine Linux 3.22.0 | PEND | SKIPPED | SKIPPED | SKIPPED | SKIPPED | SKIPPED | +-------------------------------+--------------------+-------------------------+-------------------+----------------------+-------------------+------------------+ | Windows Server 2022 | SKIPPED | PASS | PASS | PASS | SKIPPED | SKIPPED | +-------------------------------+--------------------+-------------------------+-------------------+----------------------+-------------------+------------------+ ==== 20 line log output for Debian GNU/Linux 12 (dpdk_compile_spdk): ==== --- Failed to get log output --- ==== End log output ==== Ubuntu 20.04 Kernel: 4.19 Compiler: gcc gcc (Ubuntu 9.4.0-1ubuntu1~20.04.2) 9.4.0 FreeBSD 14.2 Kernel: 14.2-RELEASE Compiler: clang 18.1.6 CentOS Stream 9 Kernel: 5.15 Compiler: gcc gcc (GCC) 11.5.0 20240719 (Red Hat 11.5.0-11) CentOS Stream 10 Kernel: 5.15 Compiler: gcc gcc (GCC) 14.2.1 20250110 (Red Hat 14.2.1-8) Fedora Linux 42 Kernel: 5.15 Compiler: clang gcc (GCC) 15.2.1 20250808 (Red Hat 15.2.1-1) Debian GNU/Linux 12 Kernel: 5.15 Compiler: gcc gcc (Debian 12.2.0-14+deb12u1) 12.2.0 openSUSE Leap 15.6 Kernel: 5.15 Compiler: gcc gcc (SUSE Linux) 7.5.0 Red Hat Enterprise Linux 8.10 Kernel: 5.15 Compiler: gcc gcc (GCC) 8.5.0 20210514 (Red Hat 8.5.0-22) Red Hat Enterprise Linux 9.5 Kernel: 5.15 Compiler: gcc gcc (GCC) 11.5.0 20240719 (Red Hat 11.5.0-2) Ubuntu 22.04 Kernel: 5.15 Compiler: gcc gcc (Ubuntu 11.4.0-1ubuntu1~22.04) 11.4.0 Ubuntu 24.04 Kernel: 5.15 Compiler: gcc gcc (Ubuntu 13.3.0-6ubuntu2~24.04) 13.3.0 Alpine Linux 3.22.0 Kernel: 5.15 Compiler: gcc gcc (Alpine 14.2.0) 14.2.0 Windows Server 2022 Kernel: 10.0.20348.2031 Compiler: clang 15.0.7, gcc 14.1.0 (MinGW), and MSVC VS 19.39.33521 To view detailed results, visit: https://lab.dpdk.org/results/dashboard/patchsets/34352/ UNH-IOL DPDK Community Lab To manage your email subscriptions, visit: https://lab.dpdk.org/results/dashboard/preferences/subscriptions/