From mboxrd@z Thu Jan 1 00:00:00 1970 Return-Path: Received: from mails.dpdk.org (mails.dpdk.org [217.70.189.124]) by inbox.dpdk.org (Postfix) with ESMTP id 21882489B1 for ; Thu, 23 Oct 2025 11:25:36 +0200 (CEST) Received: from mails.dpdk.org (localhost [127.0.0.1]) by mails.dpdk.org (Postfix) with ESMTP id 1AD44400D6; Thu, 23 Oct 2025 11:25:36 +0200 (CEST) Received: from mail-pf1-f227.google.com (mail-pf1-f227.google.com [209.85.210.227]) by mails.dpdk.org (Postfix) with ESMTP id C5EF5400D6 for ; Thu, 23 Oct 2025 11:25:34 +0200 (CEST) Received: by mail-pf1-f227.google.com with SMTP id d2e1a72fcca58-7a2754a7f6aso735335b3a.1 for ; Thu, 23 Oct 2025 02:25:34 -0700 (PDT) DKIM-Signature: v=1; a=rsa-sha256; c=relaxed/relaxed; d=iol.unh.edu; s=unh-iol; t=1761211534; x=1761816334; darn=dpdk.org; h=references:in-reply-to:cc:to:from:subject:message-id:date:from:to :cc:subject:date:message-id:reply-to; bh=Tdf3YPU5wy/pOUjPpV3T56my+yWg7tDlUQPUOS0Jg1k=; b=Td4jBSAR+eRrg+usdTsrTzNPKzdsN4WJWsaTES5hDmlWA96CY1/jAfq32ZX0c99INx BL3GVtPvEnZ3NIq5xVbU+/iC/hx8JANCcJrX1qe0BpmZrfjx/o+Cy/4iqo8Qk9Cx4wzN X4v8B2ca2gppf+7Aue1ouwP9hN4mA1mylesrI= X-Google-DKIM-Signature: v=1; a=rsa-sha256; c=relaxed/relaxed; d=1e100.net; s=20230601; t=1761211534; x=1761816334; h=references:in-reply-to:cc:to:from:subject:message-id:date :x-gm-message-state:from:to:cc:subject:date:message-id:reply-to; bh=Tdf3YPU5wy/pOUjPpV3T56my+yWg7tDlUQPUOS0Jg1k=; b=AUsRae17Wkw9eLdApd00U2EOLWJPVr6EX2XKT3sil+J7I0bGkgEH4vnGeHEDKvaSEb 7sEZQcEvqetYB0zkPEjokEpHxvSwagXiD/PNDj/0OiarnSmZ9jz3jg/KR2A9ok3AVfoO uSOBjxIePNAhP+21V0y2iu0wAzHhvRI2dGyn8iB6/DWkKdDCSGnQe0oOFt2Oxs8xBW+p OIYwIgYpY1Sfd7sAIJRhq/gpbjQE+unv2CX85/D/bz/DdGyXuzxDohCa340M8K6lLdgd wshZXLWNMWSPA4ukhv4AX/QaxrL0pC7Yk0Be49g4albT8rEBpEwLx1pnMT2MO1ZNc2Nq Mq4Q== X-Gm-Message-State: AOJu0Ywsl+A4NLAy9R1oHuYl08NC/+hxAzVFD71524E9YRmKe1Vnv6Li SuOmpRHKkfewrFMGyv/GdtF6ESlR2At9XYbxXer2v8/2+paQlXX4eq2aGdRndUneJXOxrsj6Vl1 MS1vQMUdvWHUSMcGAlvm+fm0Q9rIqs58L4CuTqc0WEdp6BAr5FBSdQiaZDt71 X-Gm-Gg: ASbGncvbRCOdpn5c0dRvBojCSMNTHsES1tSVtgEZmtIGOl6zLPZH836sy6dxKCAWMF6 q++KX0QLeULJ/NuhvmjINAQn6NmXFYYXfhBkGiQeSbQi3k91IZdwFQHkki4BCwTdLqE4unIn8Cz lSzTDPf6pmakWco4ZdAyos0JmgCXzmF+XD04a5Cv7rcSWJYPsJHWovFFLzVlyXEiZconVQeRjb/ EgeAEUnsmVO9x27TUd6Pd2uIwFB/gv5rUw7FcSx1FMUNpub/JN1o7i/pfrAj7ZQ6TF/mRJ1J2ku eD6+FEt7ASym2PJizSZntkWRom6lPzigAVSQbZ6EP58TGemOOpjE3HjvO8RRprwgd+hTHgK15E7 Sk2/yg4bz X-Google-Smtp-Source: AGHT+IGKjgLsRoNnxCbpmc2JWJ/dl4lF2MXY6Yrh0y5Z/EdjfI26zux5EkoB5o6j6wwdgux66Ns7uCDnn7pU X-Received: by 2002:a05:6a20:3c8d:b0:2fa:26fb:4a7b with SMTP id adf61e73a8af0-334a8650347mr31851081637.57.1761211533617; Thu, 23 Oct 2025 02:25:33 -0700 (PDT) Received: from postal.iol.unh.edu (postal.iol.unh.edu. [2606:4100:3880:1234::84]) by smtp-relay.gmail.com with ESMTPS id d2e1a72fcca58-7a274a94fa5sm123155b3a.4.2025.10.23.02.25.33 (version=TLS1_2 cipher=ECDHE-ECDSA-AES128-GCM-SHA256 bits=128/128); Thu, 23 Oct 2025 02:25:33 -0700 (PDT) X-Relaying-Domain: iol.unh.edu Date: Thu, 23 Oct 2025 02:25:33 -0700 (PDT) Message-ID: <68f9f48d.050a0220.37572a.6245SMTPIN_ADDED_MISSING@mx.google.com> Received: from [172.21.0.3] (unknown [172.18.0.240]) by postal.iol.unh.edu (Postfix) with ESMTP id E250C6051830; Thu, 23 Oct 2025 05:25:32 -0400 (EDT) Subject: |SUCCESS| pw158003-158008 [PATCH] [v5,6/6] net/cnxk: report link mod From: dpdklab@iol.unh.edu To: Test Report Cc: dpdk-test-reports@iol.unh.edu In-Reply-To: <20251023075450.4145667-6-skori@marvell.com> References: <20251023075450.4145667-6-skori@marvell.com> Content-Type: text/plain X-BeenThere: test-report@dpdk.org X-Mailman-Version: 2.1.29 Precedence: list List-Id: automatic DPDK test reports List-Unsubscribe: , List-Archive: List-Post: List-Help: List-Subscribe: , Errors-To: test-report-bounces@dpdk.org Test-Label: iol-unit-amd64-testing Test-Status: SUCCESS http://dpdk.org/patch/158008 _Testing PASS_ Submitter: Sunil Kumar Kori Date: Thursday, October 23 2025 07:53:30 DPDK git baseline: Repo:dpdk Branch: master CommitID:2863cbd9ee6dabee2b183382d298f4054ba3e8a2 158003-158008 --> testing pass Upstream job id: Generic-Unit-Test-DPDK#384393 Test environment and result as below: +-------------------------------+----------------+ | Environment | dpdk_unit_test | +===============================+================+ | CentOS Stream 10 | PASS | +-------------------------------+----------------+ | CentOS Stream 9 | PASS | +-------------------------------+----------------+ | Debian GNU/Linux 12 | PASS | +-------------------------------+----------------+ | Ubuntu 20.04 | PASS | +-------------------------------+----------------+ | Fedora Linux 42 | PASS | +-------------------------------+----------------+ | Fedora Linux 40 | PASS | +-------------------------------+----------------+ | Fedora Linux 41 | PASS | +-------------------------------+----------------+ | Red Hat Enterprise Linux 8.10 | PASS | +-------------------------------+----------------+ | Red Hat Enterprise Linux 9.5 | PASS | +-------------------------------+----------------+ | Ubuntu 22.04 | PASS | +-------------------------------+----------------+ | Ubuntu 24.04 | PASS | +-------------------------------+----------------+ | Windows Server 2022 | PASS | +-------------------------------+----------------+ CentOS Stream 10 Kernel: 5.15 Compiler: gcc gcc (GCC) 14.2.1 20250110 (Red Hat 14.2.1-8) CentOS Stream 9 Kernel: 5.15 Compiler: gcc gcc (GCC) 11.5.0 20240719 (Red Hat 11.5.0-11) Debian GNU/Linux 12 Kernel: 5.15 Compiler: gcc gcc (Debian 12.2.0-14+deb12u1) 12.2.0 Ubuntu 20.04 Kernel: 5.15 Compiler: gcc gcc (Ubuntu 9.4.0-1ubuntu1~20.04.2) 9.4.0 Fedora Linux 42 Kernel: 5.15 Compiler: gcc gcc (GCC) 15.2.1 20250808 (Red Hat 15.2.1-1) Fedora Linux 40 Kernel: 5.15 Compiler: gcc gcc (GCC) 14.2.1 20240912 (Red Hat 14.2.1-3) Fedora Linux 41 Kernel: 5.15 Compiler: gcc gcc (GCC) 14.3.1 20250523 (Red Hat 14.3.1-1) Red Hat Enterprise Linux 8.10 Kernel: 5.15 Compiler: gcc gcc (GCC) 8.5.0 20210514 (Red Hat 8.5.0-22) Red Hat Enterprise Linux 9.5 Kernel: 5.15 Compiler: gcc gcc (GCC) 11.5.0 20240719 (Red Hat 11.5.0-2) Ubuntu 22.04 Kernel: 5.15 Compiler: gcc gcc (Ubuntu 11.4.0-1ubuntu1~22.04) 11.4.0 Ubuntu 24.04 Kernel: 5.15 Compiler: gcc gcc (Ubuntu 13.3.0-6ubuntu2~24.04) 13.3.0 Windows Server 2022 Kernel: 10.0.20348.2031 Compiler: clang 15.0.7, gcc 14.1.0 (MinGW), and MSVC VS 19.39.33521 To view detailed results, visit: https://lab.dpdk.org/results/dashboard/patchsets/34353/ UNH-IOL DPDK Community Lab To manage your email subscriptions, visit: https://lab.dpdk.org/results/dashboard/preferences/subscriptions/