From mboxrd@z Thu Jan 1 00:00:00 1970 Return-Path: Received: from mails.dpdk.org (mails.dpdk.org [217.70.189.124]) by inbox.dpdk.org (Postfix) with ESMTP id E4419489B1 for ; Thu, 23 Oct 2025 11:33:37 +0200 (CEST) Received: from mails.dpdk.org (localhost [127.0.0.1]) by mails.dpdk.org (Postfix) with ESMTP id DFE59400D6; Thu, 23 Oct 2025 11:33:37 +0200 (CEST) Received: from mail-qv1-f100.google.com (mail-qv1-f100.google.com [209.85.219.100]) by mails.dpdk.org (Postfix) with ESMTP id E7735400D6 for ; Thu, 23 Oct 2025 11:33:36 +0200 (CEST) Received: by mail-qv1-f100.google.com with SMTP id 6a1803df08f44-87c11268b97so6460826d6.3 for ; Thu, 23 Oct 2025 02:33:36 -0700 (PDT) DKIM-Signature: v=1; a=rsa-sha256; c=relaxed/relaxed; d=iol.unh.edu; s=unh-iol; t=1761212016; x=1761816816; darn=dpdk.org; h=cc:to:from:subject:message-id:date:from:to:cc:subject:date :message-id:reply-to; bh=F2atLgdKE4vvtcz79TKJVcjfxRms994AM9fz1bItPfc=; b=E09IBF6uv7UsZNSwctKP2ArFrE+jYBEnEWpntmx/BBnZyyFcV1i2pETHq75+Lx6Y1m u8Q85H4mydSWOCr7PilAzXYs5x8mfI6PKI8KREGIsb6PtNIwd1c1BGPZC6AAObBFHwTV Eil3T8b+mQIJD3ptOyZHufV0kFd3ioPsAWy1c= X-Google-DKIM-Signature: v=1; a=rsa-sha256; c=relaxed/relaxed; d=1e100.net; s=20230601; t=1761212016; x=1761816816; h=cc:to:from:subject:message-id:date:x-gm-message-state:from:to:cc :subject:date:message-id:reply-to; bh=F2atLgdKE4vvtcz79TKJVcjfxRms994AM9fz1bItPfc=; b=W7PQCF9wR/2bKTqkdgAhj5mH+B0KxwzH9at7eAzzBmfXGY19IugmX/QaadtLiaX4e+ EZIdqMe7aBh5WgCumXVfsaZX7iTOc9Wd5Q1AgZH44Lmz5Q+3sLuD2cRDMgRpdFtoufHR MkrBmEcMHfjlznmVjW7SCvXko/wBQq20YWgLRW+aal6RfIeqW2nttBCwzMnnNYZkxc9/ ctbiripODsQL7qkx9kQCxBycxQrlAapBTwyFzuQ0CTsUkbkg2xVSvBbm0gNcnvYooEwN H+1IrEaVlQnATB2Wuh7KYXu6JMdIc9VauTqJLcCjltpNC5aRPPsZVjEOMRwMtJVT+NVu ApsA== X-Gm-Message-State: AOJu0YwzAvuEaVZZy8clrF7MdV49K0ofnxIWyTBn5CCKgM6AhKABeZnO u5auzEHKeSMaJbjco+B37NFKz/8SeNYZu1A0cQh/2xPgk63VFPCbP9eFYwKsr48Nb9rfTSz7DwE 0IF9vSjbo5hJyWBn5w2vqU8i7PeOkfCzyUYsIm5Q/Kp2JnRblQ9lT X-Gm-Gg: ASbGnctywYplqiadQxQJeGmxIVkOJ+XzpIWgtisVPwqmVSAA8Rw3FclNKh1E7yRtq3v hlONItJEugfuDvHrxMom7XCAgd41vs+YiEjCn5ULz6XC56uZwxJSPkQIC7Yr61Vrx0gxhKTPFN5 ZENrqnXS98vI6YtsHUp/2WTP0vmly4s0OF3yEmJFXuFzTSbI/L9dNBaOYeMUxq4kbLZIvWIedZU fdY1p20JQ4Fpew34ibv32uDp4HFzfqyq28pPwtpuy3YFF3+4Ahp3DJ2BT0YPCBTcJjht0XGSrOV aGNap4CD83kuScsUcFzeJNe+P/Pz/2Oirnw4l0HeeemYHd+k2UC+9J/FD9xBA3uyaONlzYiZvtc YEjo2cjgk X-Google-Smtp-Source: AGHT+IF3E5llz7xRB0ovlOrPDuV3qSJZhlCziN2Dm/5pVDCg00+vvWwH2zpXGoEU6E58Xq7vvbCbWGcCVlfy X-Received: by 2002:a05:6214:4705:b0:87c:20ae:68d2 with SMTP id 6a1803df08f44-87c20ae7c3fmr242766986d6.1.1761212016267; Thu, 23 Oct 2025 02:33:36 -0700 (PDT) Received: from postal.iol.unh.edu (postal.iol.unh.edu. [2606:4100:3880:1234::84]) by smtp-relay.gmail.com with ESMTPS id 6a1803df08f44-87f9a1601a7sm1419166d6.3.2025.10.23.02.33.36 (version=TLS1_2 cipher=ECDHE-ECDSA-AES128-GCM-SHA256 bits=128/128); Thu, 23 Oct 2025 02:33:36 -0700 (PDT) X-Relaying-Domain: iol.unh.edu Date: Thu, 23 Oct 2025 02:33:36 -0700 (PDT) Message-ID: <68f9f670.050a0220.27539d.71b2SMTPIN_ADDED_MISSING@mx.google.com> Received: from [172.21.0.2] (unknown [172.18.0.240]) by postal.iol.unh.edu (Postfix) with ESMTP id A6F6D60003E8; Thu, 23 Oct 2025 05:33:35 -0400 (EDT) Subject: |SUCCESS| [GIT MASTER] 3b43ce3f4a54468e7ef65760c2fd7b4d6ee6d9fc From: dpdklab@iol.unh.edu To: Test Report Cc: dpdk-test-reports@iol.unh.edu, Xueming Li , Christian Ehrhardt , Kevin Traynor , Luca Boccassi Content-Type: text/plain X-BeenThere: test-report@dpdk.org X-Mailman-Version: 2.1.29 Precedence: list List-Id: automatic DPDK test reports List-Unsubscribe: , List-Archive: List-Post: List-Help: List-Subscribe: , Errors-To: test-report-bounces@dpdk.org _Testing PASS_ Branch: tags/v22.11 3b43ce3f4a54468e7ef65760c2fd7b4d6ee6d9fc --> testing pass Upstream job id: Generic-Unit-Test-DPDK#384287 Test environment and result as below: +-----------------+---------------------------+--------------+------------------------------+----------------+ | Environment | cryptodev_sw_zuc_autotest | lpm_autotest | cryptodev_sw_snow3g_autotest | dpdk_unit_test | +=================+===========================+==============+==============================+================+ | Debian 12 (arm) | PASS | SKIPPED | PASS | SKIPPED | +-----------------+---------------------------+--------------+------------------------------+----------------+ | Ubuntu 20.04 | SKIPPED | PASS | SKIPPED | SKIPPED | +-----------------+---------------------------+--------------+------------------------------+----------------+ | Ubuntu 22.04 | SKIPPED | SKIPPED | SKIPPED | PASS | +-----------------+---------------------------+--------------+------------------------------+----------------+ Debian 12 (arm) Kernel: Depends on container host Compiler: gcc (Debian 12.2.0-14) 12.2.0 Ubuntu 20.04 Kernel: 5.4 Compiler: gcc gcc (Ubuntu 9.4.0-1ubuntu1~20.04.2) 9.4.0 Ubuntu 22.04 Kernel: 5.15 Compiler: gcc gcc (Ubuntu 11.4.0-1ubuntu1~22.04.2) 11.4.0 To view detailed results, visit: https://lab.dpdk.org/results/dashboard/tarballs/35307/ UNH-IOL DPDK Community Lab To manage your email subscriptions, visit: https://lab.dpdk.org/results/dashboard/preferences/subscriptions/