From mboxrd@z Thu Jan 1 00:00:00 1970 Return-Path: Received: from mails.dpdk.org (mails.dpdk.org [217.70.189.124]) by inbox.dpdk.org (Postfix) with ESMTP id 9F006489B1 for ; Thu, 23 Oct 2025 11:40:51 +0200 (CEST) Received: from mails.dpdk.org (localhost [127.0.0.1]) by mails.dpdk.org (Postfix) with ESMTP id 858F5400D6; Thu, 23 Oct 2025 11:40:51 +0200 (CEST) Received: from mail-pl1-f227.google.com (mail-pl1-f227.google.com [209.85.214.227]) by mails.dpdk.org (Postfix) with ESMTP id 92A23400D6 for ; Thu, 23 Oct 2025 11:40:50 +0200 (CEST) Received: by mail-pl1-f227.google.com with SMTP id d9443c01a7336-290d4d421f6so5478325ad.2 for ; Thu, 23 Oct 2025 02:40:50 -0700 (PDT) DKIM-Signature: v=1; a=rsa-sha256; c=relaxed/relaxed; d=iol.unh.edu; s=unh-iol; t=1761212450; x=1761817250; darn=dpdk.org; h=references:in-reply-to:cc:to:from:subject:message-id:date:from:to :cc:subject:date:message-id:reply-to; bh=9/9lQLD2cuISehpambcW4BPbURvqQtmlg0C+5CMMbJE=; b=X74sPAm60XylVG5sHT5FHBo1jfrYdt5gnE1wfiHlAq/QWvNfCn1/XqAtRykDvQ2hL5 zty7zRovZycWDmkhHh+WvkYCB0z4cei3a3p8WkqC0D+MUy8//iwyjYQ0Xe824SacC/l0 iA+84YlGbWnSymeCWgu/NdYXKW/vMF6NqhxHc= X-Google-DKIM-Signature: v=1; a=rsa-sha256; c=relaxed/relaxed; d=1e100.net; s=20230601; t=1761212450; x=1761817250; h=references:in-reply-to:cc:to:from:subject:message-id:date :x-gm-message-state:from:to:cc:subject:date:message-id:reply-to; bh=9/9lQLD2cuISehpambcW4BPbURvqQtmlg0C+5CMMbJE=; b=wJoe42MFipU1I2FCQvniwPIZo1OFNvIdZ9NjwE9Er8ecqjF3mVlUVJrh8sRcfVhFW+ Hy1xEKpzcIiGPFZb2ASEMbkE+kG9ZnjxO9VGRnTY8mycnbC8mZQQgF5OilMgCgw8QS9B 4SP21x+mMcQqBYW2yqJoQqCpiVFzbaVSHYC/2Hw8c/yLtCJX9Q6N+tKiuzQ1A4bgwbpB 7iafglemXF7dPaNf46z1W44CU1dMlyx8M3+TbqYdoSReMXr6QL7HD0aWH4+FokTMwSYX zFe6oJXm0Oc0cetdVCCNa1cDcGlirrnAlvtP8dpnqmC2SUINXIsm0Af3qHYXhS3YxMgN oaJg== X-Gm-Message-State: AOJu0YwVldxRAz5s8JPyI0Gaq8ZPq3Q/SvbEabsGk4/+A1qe72mFaTVJ AJQJJWzjFumJPjSxdJQhOXGthp+Ck1c84wH1kXxzH6hcm62FJtIQGY8OX62vr9khhVZKY7L2MZw ODlKXYhHUmfJ5iezmtiVT1uA/BJtjYriRZ0EE/QDcLcE05VOupk/7Oka8Bj7y X-Gm-Gg: ASbGncuP/7csqi6nYCqaLoMh4Z1FFV8POuLaB1AWj7lt8FAo8r7waIPm7bmsD2tXG1d 51he8/oDgFDLgZE6dOOP/RiZ39A/K9J98o/Ye8AdAx7vQnmWkvwRmzQRsa4dOTu2ivyVisyD8yG 1JgfO8wBALif4P0hYdfqRTADfwYBUNz4Pys6PbuU4XLO+dFlI4LHMeMW2SfTa42pow9dKoa27YT 1h928GHIR5M49nNfbIDntarGj31OfQI8HPydhFtkIcYV4cDHdNdeFupE3oyy7qZR29euvS4tWoe nhDyBqg7MrACPSQIQ3O69oDA6CTzWpf/ftQvZ93cUEYvrLRzNOOnlls5S2hqhzPlTQzPXfimJ1F DEUIC9Wcy X-Google-Smtp-Source: AGHT+IEdRtggiVZjPPJTxsaHpDNfIsicubg+d0IKPQCRuttZiXUR+a2WuPdEJtrqb/j0dvNiYj7LheRg1J0N X-Received: by 2002:a17:902:ce12:b0:24c:7b94:2f53 with SMTP id d9443c01a7336-290c9c8a765mr267849915ad.6.1761212449157; Thu, 23 Oct 2025 02:40:49 -0700 (PDT) Received: from postal.iol.unh.edu (postal.iol.unh.edu. [2606:4100:3880:1234::84]) by smtp-relay.gmail.com with ESMTPS id d9443c01a7336-2946dee70desm1728485ad.40.2025.10.23.02.40.49 (version=TLS1_2 cipher=ECDHE-ECDSA-AES128-GCM-SHA256 bits=128/128); Thu, 23 Oct 2025 02:40:49 -0700 (PDT) X-Relaying-Domain: iol.unh.edu Date: Thu, 23 Oct 2025 02:40:49 -0700 (PDT) Message-ID: <68f9f821.170a0220.18e758.8580SMTPIN_ADDED_MISSING@mx.google.com> Received: from [172.21.0.2] (unknown [172.18.0.240]) by postal.iol.unh.edu (Postfix) with ESMTP id 8EAD96051830; Thu, 23 Oct 2025 05:40:48 -0400 (EDT) Subject: |SUCCESS| pw158011 [PATCH] [v3] net/vmxnet3: disable RSS for single From: dpdklab@iol.unh.edu To: Test Report Cc: dpdk-test-reports@iol.unh.edu, Stephen Hemminger In-Reply-To: <20251023083019.18792-1-amiyaranjan.mohakud@gmail.com> References: <20251023083019.18792-1-amiyaranjan.mohakud@gmail.com> Content-Type: text/plain X-BeenThere: test-report@dpdk.org X-Mailman-Version: 2.1.29 Precedence: list List-Id: automatic DPDK test reports List-Unsubscribe: , List-Archive: List-Post: List-Help: List-Subscribe: , Errors-To: test-report-bounces@dpdk.org Test-Label: iol-compile-amd64-testing Test-Status: SUCCESS http://dpdk.org/patch/158011 _Testing PASS_ Submitter: Amiya Ranjan Mohakud Date: Thursday, October 23 2025 08:30:19 DPDK git baseline: Repo:dpdk-next-net Branch: master CommitID:4c4055bdd19f919795f83a01faae9fc267570d7f 158011 --> testing pass Upstream job id: Windows-Compile-DPDK-VS#7292 Test environment and result as below: +---------------------+--------------------+-------------------+ | Environment | dpdk_meson_compile | dpdk_msvc_compile | +=====================+====================+===================+ | Ubuntu 20.04 | PASS | SKIPPED | +---------------------+--------------------+-------------------+ | FreeBSD 14.2 | PASS | SKIPPED | +---------------------+--------------------+-------------------+ | Windows Server 2022 | SKIPPED | PASS | +---------------------+--------------------+-------------------+ Ubuntu 20.04 Kernel: 4.19 Compiler: gcc gcc (Ubuntu 9.4.0-1ubuntu1~20.04.2) 9.4.0 FreeBSD 14.2 Kernel: 14.2-RELEASE Compiler: clang 18.1.6 Windows Server 2022 Kernel: 10.0.20348.2031 Compiler: clang 15.0.7, gcc 14.1.0 (MinGW), and MSVC VS 19.39.33521 To view detailed results, visit: https://lab.dpdk.org/results/dashboard/patchsets/34355/ UNH-IOL DPDK Community Lab To manage your email subscriptions, visit: https://lab.dpdk.org/results/dashboard/preferences/subscriptions/