From mboxrd@z Thu Jan 1 00:00:00 1970 Return-Path: Received: from mails.dpdk.org (mails.dpdk.org [217.70.189.124]) by inbox.dpdk.org (Postfix) with ESMTP id D1ECF489B2 for ; Thu, 23 Oct 2025 12:00:54 +0200 (CEST) Received: from mails.dpdk.org (localhost [127.0.0.1]) by mails.dpdk.org (Postfix) with ESMTP id C349540151; Thu, 23 Oct 2025 12:00:54 +0200 (CEST) Received: from mail-io1-f99.google.com (mail-io1-f99.google.com [209.85.166.99]) by mails.dpdk.org (Postfix) with ESMTP id 3A18340151 for ; Thu, 23 Oct 2025 12:00:53 +0200 (CEST) Received: by mail-io1-f99.google.com with SMTP id ca18e2360f4ac-93eab530884so57706239f.3 for ; Thu, 23 Oct 2025 03:00:53 -0700 (PDT) DKIM-Signature: v=1; a=rsa-sha256; c=relaxed/relaxed; d=iol.unh.edu; s=unh-iol; t=1761213652; x=1761818452; darn=dpdk.org; h=references:in-reply-to:cc:to:from:subject:message-id:date:from:to :cc:subject:date:message-id:reply-to; bh=9CryRuJvsKC6xwlFaqqoA0w1b5I73mZxajbJX9hXDjo=; b=NhDScHYnx5KvUxzGkfGf8QJ+lvaQDODbjpT/7+lrIVT+I/0xrmM3vPmrLn7N9pvoNy TALtnVXM0alkTyov9wBdXaAQQKPGhwAyIbBrw1EhqNi4s70iK4tudXfA1+I/i1qqsgbD XNMtyRnNh8Y72Jpz5ONIr0mWycxaurQmRciTg= X-Google-DKIM-Signature: v=1; a=rsa-sha256; c=relaxed/relaxed; d=1e100.net; s=20230601; t=1761213652; x=1761818452; h=references:in-reply-to:cc:to:from:subject:message-id:date :x-gm-message-state:from:to:cc:subject:date:message-id:reply-to; bh=9CryRuJvsKC6xwlFaqqoA0w1b5I73mZxajbJX9hXDjo=; b=POtXOELeoLnBBJwYWagt0z4Ucm4szI/JcxTO/OREdtfgHfVEcaP3g/KCRD0mM0Kis9 czABB8Se/w1x6Y9pmfsZNc6gqTcGM/NtmXJmjyJP3gHHS/3hUCzg80T7Nyj8vzNVjtzY MCWNQG2jVEx9VEABt2xJr+qiTs7cP3Q+egu0wyA8FIuUawN6s2mvRxaTEkiN6r07e6cr MRXdIBwHwyYbBPnh9SyF2NTghYtLzZZzjxYmbfsNVbg8ohcpAVd10ML5EdY4MX8yiybW 4TnIhNA1jJl1ZjWPMf6aEOrUZTrbxbwBWYOeULsFa4OW8q6nWJAw1mbRZonxlbtNk0vE ubYA== X-Gm-Message-State: AOJu0YwVzdVwnR/xDBvt66b7G9apzWOArjQv6BxxV6Ziqfnd1ArKpueZ B0r2W3Ks1b57X1qGJVLaCmekqEAiOU+bP0p4MupMAH/NNmlC4txN2lioZz/BiL58MIQI2qYW3TW 5wSPnLy8ZVNeALmFysoreQ8Ah4CKO7kEhHSWYgC90DIOP X-Gm-Gg: ASbGncvwV4wqVFE6vmzw3DtMN0fcp8v1jWAyTuaNEOg+23hsYsK4YErEbm3x9yGMT4Q YZV+kbPfDd0OOwSEyrl5VN1JL/uCO9xzPZjJAljy3/7sK9LozpyQUPhovQdFqzZkoOB/mHV33jG OKwlAY3q0VS9DkmUtrufb1FRZ3Huh51vlqyO+F3qTuyw6HDIUk5do5v8dqAsLhL4CtXtLYXxuT4 3hLZ4BkKHhLngBaOzIj04f9AnFSTk76bFB68mqWpb5sH2VOywwshCPb+cP3OLHjKuvMxxLBPfmY dCFS/1kZnrfOrvnD2Z06VNhcR0VftJ2/Uto8ITPslnxY6P6rEDHz6qNNGLd5GnOo6meuRd3eg1O XJDDvXHTHuTXxcdS4u7Pe6DREiW7GcEE= X-Google-Smtp-Source: AGHT+IHIv14Clbwvi8lK0RJTvOxZIlu0viGKzjAusrS07S+ur4sqxyZWFrrS9131IYyHr2qNlw3R1UuqbzUA X-Received: by 2002:a05:6602:154f:b0:940:f171:c5f with SMTP id ca18e2360f4ac-940f1710cd1mr1201088339f.7.1761213650418; Thu, 23 Oct 2025 03:00:50 -0700 (PDT) Received: from postal.iol.unh.edu (postal.iol.unh.edu. [132.177.123.84]) by smtp-relay.gmail.com with ESMTPS id 8926c6da1cb9f-5abb701d969sm121660173.24.2025.10.23.03.00.50 (version=TLS1_2 cipher=ECDHE-ECDSA-AES128-GCM-SHA256 bits=128/128); Thu, 23 Oct 2025 03:00:50 -0700 (PDT) X-Relaying-Domain: iol.unh.edu Date: Thu, 23 Oct 2025 03:00:50 -0700 (PDT) Message-ID: <68f9fcd2.050a0220.5cf2e.5d43SMTPIN_ADDED_MISSING@mx.google.com> Received: from [172.21.0.3] (unknown [172.18.0.240]) by postal.iol.unh.edu (Postfix) with ESMTP id B7BC76051830; Thu, 23 Oct 2025 06:00:49 -0400 (EDT) Subject: |SUCCESS| pw158011 [PATCH] [v3] net/vmxnet3: disable RSS for single From: dpdklab@iol.unh.edu To: Test Report Cc: dpdk-test-reports@iol.unh.edu, Stephen Hemminger In-Reply-To: <20251023083019.18792-1-amiyaranjan.mohakud@gmail.com> References: <20251023083019.18792-1-amiyaranjan.mohakud@gmail.com> Content-Type: text/plain X-BeenThere: test-report@dpdk.org X-Mailman-Version: 2.1.29 Precedence: list List-Id: automatic DPDK test reports List-Unsubscribe: , List-Archive: List-Post: List-Help: List-Subscribe: , Errors-To: test-report-bounces@dpdk.org Test-Label: iol-compile-amd64-testing Test-Status: SUCCESS http://dpdk.org/patch/158011 _Testing PASS_ Submitter: Amiya Ranjan Mohakud Date: Thursday, October 23 2025 08:30:19 DPDK git baseline: Repo:dpdk-next-net Branch: master CommitID:4c4055bdd19f919795f83a01faae9fc267570d7f 158011 --> testing pass Upstream job id: Windows-Compile-DPDK-Native#31833 Test environment and result as below: +---------------------+--------------------+-------------------+-------------------------+ | Environment | dpdk_meson_compile | dpdk_msvc_compile | dpdk_llvm_clang_compile | +=====================+====================+===================+=========================+ | Ubuntu 20.04 | PASS | SKIPPED | SKIPPED | +---------------------+--------------------+-------------------+-------------------------+ | FreeBSD 14.2 | PASS | SKIPPED | SKIPPED | +---------------------+--------------------+-------------------+-------------------------+ | Windows Server 2022 | SKIPPED | PASS | PASS | +---------------------+--------------------+-------------------+-------------------------+ Ubuntu 20.04 Kernel: 4.19 Compiler: gcc gcc (Ubuntu 9.4.0-1ubuntu1~20.04.2) 9.4.0 FreeBSD 14.2 Kernel: 14.2-RELEASE Compiler: clang 18.1.6 Windows Server 2022 Kernel: 10.0.20348.2031 Compiler: clang 15.0.7, gcc 14.1.0 (MinGW), and MSVC VS 19.39.33521 To view detailed results, visit: https://lab.dpdk.org/results/dashboard/patchsets/34355/ UNH-IOL DPDK Community Lab To manage your email subscriptions, visit: https://lab.dpdk.org/results/dashboard/preferences/subscriptions/