From mboxrd@z Thu Jan 1 00:00:00 1970 Return-Path: Received: from mails.dpdk.org (mails.dpdk.org [217.70.189.124]) by inbox.dpdk.org (Postfix) with ESMTP id 06A2B489B2 for ; Thu, 23 Oct 2025 12:02:22 +0200 (CEST) Received: from mails.dpdk.org (localhost [127.0.0.1]) by mails.dpdk.org (Postfix) with ESMTP id 015C840151; Thu, 23 Oct 2025 12:02:22 +0200 (CEST) Received: from mail-il1-f228.google.com (mail-il1-f228.google.com [209.85.166.228]) by mails.dpdk.org (Postfix) with ESMTP id 1B25640151 for ; Thu, 23 Oct 2025 12:02:21 +0200 (CEST) Received: by mail-il1-f228.google.com with SMTP id e9e14a558f8ab-430a5fe0c5cso5804985ab.0 for ; Thu, 23 Oct 2025 03:02:21 -0700 (PDT) DKIM-Signature: v=1; a=rsa-sha256; c=relaxed/relaxed; d=iol.unh.edu; s=unh-iol; t=1761213740; x=1761818540; darn=dpdk.org; h=references:in-reply-to:cc:to:from:subject:message-id:date:from:to :cc:subject:date:message-id:reply-to; bh=niKWHGapIdfiMlNB1KL6Kh8/CJaAVu5+BeDSqlTrcgU=; b=iseJ7tKICVDw3IeVDJ0OW/zxjG0IM7rKR09dPGTBJVlHN90haEIGoUMDkbrRrvl1V9 bfBDCOyFlD2b6JnC0Ia6tifQ1R57FAQAyktp/X74fAPWLJblYy9z9c/8nwVrf/pLVUnp qwadvtTp7OalbDpkVV3mpyZ9H12PE8qD4EHO4= X-Google-DKIM-Signature: v=1; a=rsa-sha256; c=relaxed/relaxed; d=1e100.net; s=20230601; t=1761213740; x=1761818540; h=references:in-reply-to:cc:to:from:subject:message-id:date :x-gm-message-state:from:to:cc:subject:date:message-id:reply-to; bh=niKWHGapIdfiMlNB1KL6Kh8/CJaAVu5+BeDSqlTrcgU=; b=P+I4SDm7AAFBqaAX/ejZWW60aXKAlATx1gCSiu18JjAbRKj/8bMIgyEnj/taqTGoPW 0hpPj2TRcXITELDjTT5jbx9eC2vO0Ktbde19AL0y+DN2EhQIpIKCuavOZm2ewIH6MP+v 3ufmMR0Sa/yTsOwYBrH59BaIjG78H1ZutbDS41Sxm4F4yTsOIVeUYN5Ao2XS11ABNn9Q 3tbTz5Ou1/X3FU1dZ6qIv+itvf0yRNa77BjROaJxTaQrmFiOXqPZQANPsywW9juqmUyQ lhqDo1o2qb4PRKpnaG1ANIe8yFqDkrUq4B1u7aRYn/mUx+E7cqnTENjLtIT0U1Mk0HBL P8Pw== X-Gm-Message-State: AOJu0YzDjvlXexPTMRH7oyjxnsmVhNWJ3zxijPftcXlx3b79U6ZTgyyH M44CVT+6zm4CPJbeNN3itqmKldx1deH+PUC8y76spNLZ8ngW/Bgt+rVSFEIUf7Kma6uyCx96EEl FKKus69l6oyzjSvT4XazpbWG/H542WKvXJaaqcDwsuLsYOLHzPRf8H+exfVu3 X-Gm-Gg: ASbGncvT98HjhEJFFgSMOXs32vE7VO/GBBk/q5OSE4+w88T+KS/LjrWTWFBn5w/BOhW e21199DxBR+6fso4iaYKVExTys6JD/ujfi9JDvtKpl93Avu3lfqExakI/VpEs7lxVBxeQii8eI8 PeljvR6kGRHtXxxlrtwTHuUg7rc+YDYIO+wTSNCQx9zuSB9wX0UnfeemiPuCAoGXJsvoOSPTJ0Q Iv+UtcZV1i+pwl8/qoGT+4GB7EsPms9G5iVvtM9cK0VbrakzZA1xQrh2ODKoxHDwFsaZwAyjzW3 T2RhDn2GfNpOug54CUE0gZoQEFqE3E/tYYVde7Q1vhBjdF77jHL65qyvMIBzjF6/vXPJvJahdeh shmQA7jHF X-Google-Smtp-Source: AGHT+IEWIZmC4+7vzRBYz5oQhnqLduMyWZRCLkMQ17UJmo2gNGUs6E/bkMbJDlkASArOL57VjxNZqdDVDHsk X-Received: by 2002:a05:6e02:441b:10b0:431:d9d9:de1f with SMTP id e9e14a558f8ab-431d9d9e022mr41393775ab.2.1761213740188; Thu, 23 Oct 2025 03:02:20 -0700 (PDT) Received: from postal.iol.unh.edu (postal.iol.unh.edu. [2606:4100:3880:1234::84]) by smtp-relay.gmail.com with ESMTPS id 8926c6da1cb9f-5abb7af0e36sm124625173.41.2025.10.23.03.02.20 (version=TLS1_2 cipher=ECDHE-ECDSA-AES128-GCM-SHA256 bits=128/128); Thu, 23 Oct 2025 03:02:20 -0700 (PDT) X-Relaying-Domain: iol.unh.edu Date: Thu, 23 Oct 2025 03:02:20 -0700 (PDT) Message-ID: <68f9fd2c.050a0220.390ff7.617bSMTPIN_ADDED_MISSING@mx.google.com> Received: from [172.21.0.3] (unknown [172.18.0.240]) by postal.iol.unh.edu (Postfix) with ESMTP id A96A56051830; Thu, 23 Oct 2025 06:02:19 -0400 (EDT) Subject: |SUCCESS| pw157995 [PATCH] net/ngbe: support to identify centec sk21 From: dpdklab@iol.unh.edu To: Test Report Cc: dpdk-test-reports@iol.unh.edu, Stephen Hemminger In-Reply-To: <4BC1A3490B167701+20251023033207.62299-1-jiawenwu@trustnetic.com> References: <4BC1A3490B167701+20251023033207.62299-1-jiawenwu@trustnetic.com> Content-Type: text/plain X-BeenThere: test-report@dpdk.org X-Mailman-Version: 2.1.29 Precedence: list List-Id: automatic DPDK test reports List-Unsubscribe: , List-Archive: List-Post: List-Help: List-Subscribe: , Errors-To: test-report-bounces@dpdk.org Test-Label: iol-unit-arm64-testing Test-Status: SUCCESS http://dpdk.org/patch/157995 _Testing PASS_ Submitter: Jiawen Wu Date: Thursday, October 23 2025 03:32:07 DPDK git baseline: Repo:dpdk-next-net Branch: master CommitID:4c4055bdd19f919795f83a01faae9fc267570d7f 157995 --> testing pass Upstream job id: Generic-Unit-Test-DPDK#384270 Test environment and result as below: +------------------------------+----------------+--------------+------------------------------+---------------------------+ | Environment | dpdk_unit_test | lpm_autotest | cryptodev_sw_snow3g_autotest | cryptodev_sw_zuc_autotest | +==============================+================+==============+==============================+===========================+ | Fedora Linux 40 | PASS | SKIPPED | SKIPPED | SKIPPED | +------------------------------+----------------+--------------+------------------------------+---------------------------+ | CentOS Stream 10 | PASS | SKIPPED | SKIPPED | SKIPPED | +------------------------------+----------------+--------------+------------------------------+---------------------------+ | Fedora Linux 42 | PASS | SKIPPED | SKIPPED | SKIPPED | +------------------------------+----------------+--------------+------------------------------+---------------------------+ | Fedora Linux 41 | PASS | SKIPPED | SKIPPED | SKIPPED | +------------------------------+----------------+--------------+------------------------------+---------------------------+ | CentOS Stream 9 | PASS | SKIPPED | SKIPPED | SKIPPED | +------------------------------+----------------+--------------+------------------------------+---------------------------+ | Debian GNU/Linux 12 | PASS | SKIPPED | SKIPPED | SKIPPED | +------------------------------+----------------+--------------+------------------------------+---------------------------+ | Ubuntu 22.04 | PASS | SKIPPED | SKIPPED | SKIPPED | +------------------------------+----------------+--------------+------------------------------+---------------------------+ | Ubuntu 20.04 | PASS | PASS | SKIPPED | SKIPPED | +------------------------------+----------------+--------------+------------------------------+---------------------------+ | Ubuntu 24.04 | PASS | SKIPPED | SKIPPED | SKIPPED | +------------------------------+----------------+--------------+------------------------------+---------------------------+ | Red Hat Enterprise Linux 9.5 | PASS | SKIPPED | SKIPPED | SKIPPED | +------------------------------+----------------+--------------+------------------------------+---------------------------+ | Debian 12 (arm) | SKIPPED | SKIPPED | PASS | PASS | +------------------------------+----------------+--------------+------------------------------+---------------------------+ Fedora Linux 40 Kernel: 5.4 Compiler: clang gcc (GCC) 14.2.1 20240912 (Red Hat 14.2.1-3) CentOS Stream 10 Kernel: 5.4 Compiler: gcc gcc (GCC) 14.2.1 20250110 (Red Hat 14.2.1-8) Fedora Linux 42 Kernel: 5.4 Compiler: gcc gcc (GCC) 15.2.1 20250808 (Red Hat 15.2.1-1) Fedora Linux 41 Kernel: 5.4 Compiler: clang gcc (GCC) 14.3.1 20250523 (Red Hat 14.3.1-1) CentOS Stream 9 Kernel: 5.4 Compiler: gcc gcc (GCC) 11.5.0 20240719 (Red Hat 11.5.0-11) Debian GNU/Linux 12 Kernel: 5.4 Compiler: gcc gcc (Debian 12.2.0-14+deb12u1) 12.2.0 Ubuntu 22.04 Kernel: 5.4 Compiler: gcc gcc (Ubuntu 11.4.0-1ubuntu1~22.04) 11.4.0 Ubuntu 20.04 Kernel: 5.4 Compiler: gcc gcc (Ubuntu 9.4.0-1ubuntu1~20.04.2) 9.4.0 Ubuntu 24.04 Kernel: 5.4 Compiler: gcc gcc (Ubuntu 13.3.0-6ubuntu2~24.04) 13.3.0 Red Hat Enterprise Linux 9.5 Kernel: 5.4 Compiler: gcc gcc (GCC) 11.5.0 20240719 (Red Hat 11.5.0-2) Debian 12 (arm) Kernel: Depends on container host Compiler: gcc (Debian 12.2.0-14) 12.2.0 To view detailed results, visit: https://lab.dpdk.org/results/dashboard/patchsets/34350/ UNH-IOL DPDK Community Lab To manage your email subscriptions, visit: https://lab.dpdk.org/results/dashboard/preferences/subscriptions/