From mboxrd@z Thu Jan 1 00:00:00 1970 Return-Path: Received: from mails.dpdk.org (mails.dpdk.org [217.70.189.124]) by inbox.dpdk.org (Postfix) with ESMTP id 11C1E489B2 for ; Thu, 23 Oct 2025 12:02:27 +0200 (CEST) Received: from mails.dpdk.org (localhost [127.0.0.1]) by mails.dpdk.org (Postfix) with ESMTP id 0CAAF40151; Thu, 23 Oct 2025 12:02:27 +0200 (CEST) Received: from mail-io1-f97.google.com (mail-io1-f97.google.com [209.85.166.97]) by mails.dpdk.org (Postfix) with ESMTP id BF18940151 for ; Thu, 23 Oct 2025 12:02:23 +0200 (CEST) Received: by mail-io1-f97.google.com with SMTP id ca18e2360f4ac-93e2d42d9b4so23932839f.2 for ; Thu, 23 Oct 2025 03:02:23 -0700 (PDT) DKIM-Signature: v=1; a=rsa-sha256; c=relaxed/relaxed; d=iol.unh.edu; s=unh-iol; t=1761213743; x=1761818543; darn=dpdk.org; h=references:in-reply-to:cc:to:from:subject:message-id:date:from:to :cc:subject:date:message-id:reply-to; bh=7tXgoBZSPmkB5iKI5ppZ08cxbPey4w+nFFVVlyfoGZ4=; b=ToiyIyR9Y03kG150KZaaJyXH2ehUE7YlJ6O30KczibWbh/YrULKAd+i95wknRBtK0x ofh7JYPBFxgeXxl7tu+RMzNAUItR++3aWSKvMUHu2fFFyR9Ius0GYO7fF2c9qKhAEgem WxuZ2cTJ2iUviDMd+n82GCAXpwQ5KCxCJd1w8= X-Google-DKIM-Signature: v=1; a=rsa-sha256; c=relaxed/relaxed; d=1e100.net; s=20230601; t=1761213743; x=1761818543; h=references:in-reply-to:cc:to:from:subject:message-id:date :x-gm-message-state:from:to:cc:subject:date:message-id:reply-to; bh=7tXgoBZSPmkB5iKI5ppZ08cxbPey4w+nFFVVlyfoGZ4=; b=avorpPyNI9hdAPyTyLV5/WoWqA2NOmSgiXaQhEfOE9mR0bPwHi9brkZHbUFdgRnOmR fHeJpxx+8wZLpP6rinUza29R4WirpohIsR4NdAwCK6gTdZ7jkr4QB7iJ5LHlv/p5NaAi 5sAxp5W9kEYWAg991KpG0/BWpleKd0W79oO3ud4f2bGIKtRwQ2kFhEaXhRb7ikxCwdKe lQMmPdY2OPrQ4LlRkYTezUanwchH4trv0wu31B5nZ/BFHioH0NmwL8UI0t7f1MsY7VtJ xNI8cSkPJaHsyBYOqvB/5ta8Qkrjo+CKhK1HYaMyOjsxRjuyolFHynU23oqnLU4IflQG N8aw== X-Gm-Message-State: AOJu0YwqinrpoMRjhCXvMeU4CDLwZoFq5LR5DvJNFV9Qg2vCbPb2Aqc/ 4ixPfBfbOsMizRYfjzVmTm2E6RoPcGYeaxZPU75ctOeYpw8udr1n+bkETm0jgKihuGM81Y95Xr8 xTyvfVbmmUWjCWZXlpnKXSAUowm6BG6AAoqRo/Ojscy6v X-Gm-Gg: ASbGnctkC5ewOPo3f32RPDGSr2RS56fhNt6a5y+3ke8AFGD1lbh8KrjgoPd28FJyeC3 Mm92UK4ZeKu0FLtNOg9NPg6QMa6+WiNcF4kKsJ0/66DiWFugVDIpE/XMB3iqa4kEHg4EWyaPDhG QHsxNRSaGSXalfTnPIM6PSx6imkqA9FiVOSxIBBsIa2vE3JNZO/dHwgyZaHZuaazPzRmghCuDW8 C00xZ5nQLdTc42n1sCMF93imI6rg0CQtUMBkLlxcE0cZeswgK6TVMCsQgufT7wKnv8Fp7TwonIp W2hI3ERMwmHqcsTHIhRto66aplNVhKD3v/GdSLlVmLnmg7ulL4RCP8NTHZpzyGllR8cpp1rKNRA k2n/D/z6M+X9tq9TltZkoXBCcsD0kc3g= X-Google-Smtp-Source: AGHT+IFqGyTxi4vsT9kZOF4Tgyp5wO2YlSvUxUy56x5rCJ83S7lD8/17/6nKsyfOfN37IwwfNmsixjXMxTvS X-Received: by 2002:a05:6e02:348f:b0:431:da5b:9ef3 with SMTP id e9e14a558f8ab-431da5ba0a2mr46433955ab.27.1761213743063; Thu, 23 Oct 2025 03:02:23 -0700 (PDT) Received: from postal.iol.unh.edu (postal.iol.unh.edu. [132.177.123.84]) by smtp-relay.gmail.com with ESMTPS id e9e14a558f8ab-431dbc1a48csm1503645ab.16.2025.10.23.03.02.22 (version=TLS1_2 cipher=ECDHE-ECDSA-AES128-GCM-SHA256 bits=128/128); Thu, 23 Oct 2025 03:02:23 -0700 (PDT) X-Relaying-Domain: iol.unh.edu Date: Thu, 23 Oct 2025 03:02:23 -0700 (PDT) Message-ID: <68f9fd2f.050a0220.d99a.802bSMTPIN_ADDED_MISSING@mx.google.com> Received: from [172.21.0.4] (unknown [172.18.0.240]) by postal.iol.unh.edu (Postfix) with ESMTP id A28DE6051830; Thu, 23 Oct 2025 06:02:22 -0400 (EDT) Subject: |SUCCESS| pw158011 [PATCH] [v3] net/vmxnet3: disable RSS for single From: dpdklab@iol.unh.edu To: Test Report Cc: dpdk-test-reports@iol.unh.edu, Stephen Hemminger In-Reply-To: <20251023083019.18792-1-amiyaranjan.mohakud@gmail.com> References: <20251023083019.18792-1-amiyaranjan.mohakud@gmail.com> Content-Type: text/plain X-BeenThere: test-report@dpdk.org X-Mailman-Version: 2.1.29 Precedence: list List-Id: automatic DPDK test reports List-Unsubscribe: , List-Archive: List-Post: List-Help: List-Subscribe: , Errors-To: test-report-bounces@dpdk.org Test-Label: iol-compile-amd64-testing Test-Status: SUCCESS http://dpdk.org/patch/158011 _Testing PASS_ Submitter: Amiya Ranjan Mohakud Date: Thursday, October 23 2025 08:30:19 DPDK git baseline: Repo:dpdk-next-net Branch: master CommitID:4c4055bdd19f919795f83a01faae9fc267570d7f 158011 --> testing pass Upstream job id: Windows-Compile-DPDK-Native#31834 Test environment and result as below: +---------------------+--------------------+-------------------+-------------------------+----------------------+ | Environment | dpdk_meson_compile | dpdk_msvc_compile | dpdk_llvm_clang_compile | dpdk_mingw64_compile | +=====================+====================+===================+=========================+======================+ | Ubuntu 20.04 | PASS | SKIPPED | SKIPPED | SKIPPED | +---------------------+--------------------+-------------------+-------------------------+----------------------+ | FreeBSD 14.2 | PASS | SKIPPED | SKIPPED | SKIPPED | +---------------------+--------------------+-------------------+-------------------------+----------------------+ | Windows Server 2022 | SKIPPED | PASS | PASS | PASS | +---------------------+--------------------+-------------------+-------------------------+----------------------+ Ubuntu 20.04 Kernel: 4.19 Compiler: gcc gcc (Ubuntu 9.4.0-1ubuntu1~20.04.2) 9.4.0 FreeBSD 14.2 Kernel: 14.2-RELEASE Compiler: clang 18.1.6 Windows Server 2022 Kernel: 10.0.20348.2031 Compiler: clang 15.0.7, gcc 14.1.0 (MinGW), and MSVC VS 19.39.33521 To view detailed results, visit: https://lab.dpdk.org/results/dashboard/patchsets/34355/ UNH-IOL DPDK Community Lab To manage your email subscriptions, visit: https://lab.dpdk.org/results/dashboard/preferences/subscriptions/