From mboxrd@z Thu Jan 1 00:00:00 1970 Return-Path: Received: from mails.dpdk.org (mails.dpdk.org [217.70.189.124]) by inbox.dpdk.org (Postfix) with ESMTP id 1E192489B2 for ; Thu, 23 Oct 2025 12:12:01 +0200 (CEST) Received: from mails.dpdk.org (localhost [127.0.0.1]) by mails.dpdk.org (Postfix) with ESMTP id 1979D40150; Thu, 23 Oct 2025 12:12:01 +0200 (CEST) Received: from mail-yx1-f98.google.com (mail-yx1-f98.google.com [74.125.224.98]) by mails.dpdk.org (Postfix) with ESMTP id 746FF40150 for ; Thu, 23 Oct 2025 12:12:00 +0200 (CEST) Received: by mail-yx1-f98.google.com with SMTP id 956f58d0204a3-63e16fbdd50so614029d50.2 for ; Thu, 23 Oct 2025 03:12:00 -0700 (PDT) DKIM-Signature: v=1; a=rsa-sha256; c=relaxed/relaxed; d=iol.unh.edu; s=unh-iol; t=1761214320; x=1761819120; darn=dpdk.org; h=references:in-reply-to:cc:to:from:subject:message-id:date:from:to :cc:subject:date:message-id:reply-to; bh=YBGnWCC/CYHPRiAw5xVwQW+G62c63kRwP/smrRKVDjw=; b=ATOSDo5xr3AU4lb1rYoLEkbgnjKkbmQI9EszHwOfdl+IHaJVE5NQImGPAuonAER12s KpxqJhxe2qkbj1yDkGMildZdBIgXKVMPxBOWSWM1dJtUVnjKK61U2/zs6Jhlzox8i5Kk s+yfU8lWLTXNxstUEAd4/TvKlAjgbkZyZ+sDE= X-Google-DKIM-Signature: v=1; a=rsa-sha256; c=relaxed/relaxed; d=1e100.net; s=20230601; t=1761214320; x=1761819120; h=references:in-reply-to:cc:to:from:subject:message-id:date :x-gm-message-state:from:to:cc:subject:date:message-id:reply-to; bh=YBGnWCC/CYHPRiAw5xVwQW+G62c63kRwP/smrRKVDjw=; b=XznDnNzr+DuPASA6ZAskDghX7S7tWWZtoarZsQDHaOLxJRRPjYZPjfm1ZdILHJn1wR y7cg45apH3kGoIzAzDZPN21DjQAASi9N4iDj/xzrXahj0vTKUdyWKx6koaO9n4S4Ooim C4yg+f/Ua5WQyT+ELEzdLN5g7KP6ZywUA/cBnRbO54Z/slb6RtFtwdZEg6JcaFrd94+k 8OrYUPI0bunH6YrlpONfNwN+yZw6f05qQJ/AyxB207X9AgAlxyNw7Od5lGNkSvZg0YcB BddaqYjKE0YqemptwXGuqzpAWsff5RnC0ZeCGRzNAqWevgQFa6NAGQ5ktJd5TroFH/f7 ObeQ== X-Gm-Message-State: AOJu0YwYndA5F9+FuT2qJV4kz9UTWEuvs7esNffe+NHs6dvHxrpkIIzC YbMJ2JTLtE1fl1Kj3XYSqVPPlclT78jeaLxU5q0i82QTDfWkmu+juasAZlv5qfFJboQXynjdnWt pSMY5tHxrq5Kg3mKInlyD5g6l6aa6jF7y7xL1Sunru207p3omPKTdMOfrr+5R X-Gm-Gg: ASbGncvVrUJYOL/NABzcSp0oCpd9Kia8XxXYfVuEPpaV3Md86w6o3lbEL4AjQO9Gmcg Kw5ExIx527rshVNEu2et2e1j4GUywHYR3WRkQG19PXlsVBo1WqCDWWohcG+JShxFGzUHDKMa7Hi DGGITms85ecvd1KuSNwXvYwkHdH94HPEsUiJsG8yv1Vj35E1L2IsRie54eKAaRZVSxxTJ6vvP0i Zu6uKmY4n7qOEou0JYhuH00emKvFFZMyamomEQLe+uU9j+LCdNRLzJeSyDyxCANriLEnHtc7Ffw vopBqyvCpM7LKSG2AP8SGuX8VSXbzRQnEwSskMxQyLsWYTF1Tm4O98UWYOj3IUAWnAl0mL2dSTH 5QGCPj7Um X-Google-Smtp-Source: AGHT+IGcLj1ulRlU40Gq70473aChCNSPMZMKkZ6s3P8EQCgTAHqfqSsCxYF6Re7kuBf0VNJRX8ucWvXWcQzz X-Received: by 2002:a05:690e:2505:10b0:636:1fde:a49b with SMTP id 956f58d0204a3-63e160e98ddmr16807020d50.12.1761214319852; Thu, 23 Oct 2025 03:11:59 -0700 (PDT) Received: from postal.iol.unh.edu (postal.iol.unh.edu. [2606:4100:3880:1234::84]) by smtp-relay.gmail.com with ESMTPS id 00721157ae682-785cd46f43bsm831087b3.0.2025.10.23.03.11.59 (version=TLS1_2 cipher=ECDHE-ECDSA-AES128-GCM-SHA256 bits=128/128); Thu, 23 Oct 2025 03:11:59 -0700 (PDT) X-Relaying-Domain: iol.unh.edu Date: Thu, 23 Oct 2025 03:11:59 -0700 (PDT) Message-ID: <68f9ff6f.050a0220.64df8.40ddSMTPIN_ADDED_MISSING@mx.google.com> Received: from [172.21.0.5] (unknown [172.18.0.240]) by postal.iol.unh.edu (Postfix) with ESMTP id 859F26051830; Thu, 23 Oct 2025 06:11:59 -0400 (EDT) Subject: |WARNING| pw158002 [PATCH] [v3] net/vmxnet3: disable RSS for single From: dpdklab@iol.unh.edu To: Test Report Cc: dpdk-test-reports@iol.unh.edu, Stephen Hemminger In-Reply-To: <20251023072238.17584-1-amiyaranjan.mohakud@gmail.com> References: <20251023072238.17584-1-amiyaranjan.mohakud@gmail.com> Content-Type: text/plain X-BeenThere: test-report@dpdk.org X-Mailman-Version: 2.1.29 Precedence: list List-Id: automatic DPDK test reports List-Unsubscribe: , List-Archive: List-Post: List-Help: List-Subscribe: , Errors-To: test-report-bounces@dpdk.org Test-Label: iol-compile-amd64-testing Test-Status: WARNING http://dpdk.org/patch/158002 _Testing issues_ Submitter: Amiya Ranjan Mohakud Date: Thursday, October 23 2025 07:22:38 DPDK git baseline: Repo:dpdk-next-net Branch: master CommitID:4c4055bdd19f919795f83a01faae9fc267570d7f 158002 --> testing issues Upstream job id: Generic-DPDK-Compile-Meson#436958 Test environment and result as below: +-------------------------------+--------------------+-------------------------+-------------------+----------------------+-------------------+------------------+ | Environment | dpdk_meson_compile | dpdk_llvm_clang_compile | dpdk_msvc_compile | dpdk_mingw64_compile | dpdk_compile_spdk | dpdk_compile_ovs | +===============================+====================+=========================+===================+======================+===================+==================+ | Ubuntu 20.04 | PASS | SKIPPED | SKIPPED | SKIPPED | SKIPPED | SKIPPED | +-------------------------------+--------------------+-------------------------+-------------------+----------------------+-------------------+------------------+ | FreeBSD 14.2 | PASS | SKIPPED | SKIPPED | SKIPPED | SKIPPED | SKIPPED | +-------------------------------+--------------------+-------------------------+-------------------+----------------------+-------------------+------------------+ | CentOS Stream 9 | PASS | SKIPPED | SKIPPED | SKIPPED | WARN | SKIPPED | +-------------------------------+--------------------+-------------------------+-------------------+----------------------+-------------------+------------------+ | CentOS Stream 10 | PASS | SKIPPED | SKIPPED | SKIPPED | SKIPPED | SKIPPED | +-------------------------------+--------------------+-------------------------+-------------------+----------------------+-------------------+------------------+ | Fedora Linux 42 | PASS | SKIPPED | SKIPPED | SKIPPED | WARN | PASS | +-------------------------------+--------------------+-------------------------+-------------------+----------------------+-------------------+------------------+ | Debian GNU/Linux 12 | PASS | SKIPPED | SKIPPED | SKIPPED | WARN | SKIPPED | +-------------------------------+--------------------+-------------------------+-------------------+----------------------+-------------------+------------------+ | openSUSE Leap 15.6 | PASS | SKIPPED | SKIPPED | SKIPPED | SKIPPED | SKIPPED | +-------------------------------+--------------------+-------------------------+-------------------+----------------------+-------------------+------------------+ | Red Hat Enterprise Linux 8.10 | PASS | SKIPPED | SKIPPED | SKIPPED | SKIPPED | SKIPPED | +-------------------------------+--------------------+-------------------------+-------------------+----------------------+-------------------+------------------+ | Red Hat Enterprise Linux 9.5 | PASS | SKIPPED | SKIPPED | SKIPPED | SKIPPED | SKIPPED | +-------------------------------+--------------------+-------------------------+-------------------+----------------------+-------------------+------------------+ | Ubuntu 22.04 | PASS | SKIPPED | SKIPPED | SKIPPED | WARN | SKIPPED | +-------------------------------+--------------------+-------------------------+-------------------+----------------------+-------------------+------------------+ | Ubuntu 24.04 | PASS | SKIPPED | SKIPPED | SKIPPED | WARN | PASS | +-------------------------------+--------------------+-------------------------+-------------------+----------------------+-------------------+------------------+ | Alpine Linux 3.22.0 | PASS | SKIPPED | SKIPPED | SKIPPED | SKIPPED | SKIPPED | +-------------------------------+--------------------+-------------------------+-------------------+----------------------+-------------------+------------------+ | Windows Server 2022 | SKIPPED | PASS | PASS | PASS | SKIPPED | SKIPPED | +-------------------------------+--------------------+-------------------------+-------------------+----------------------+-------------------+------------------+ ==== 20 line log output for Ubuntu 24.04 (dpdk_compile_spdk): ==== --- Failed to get log output --- ==== End log output ==== Ubuntu 20.04 Kernel: 4.19 Compiler: gcc gcc (Ubuntu 9.4.0-1ubuntu1~20.04.2) 9.4.0 FreeBSD 14.2 Kernel: 14.2-RELEASE Compiler: clang 18.1.6 CentOS Stream 9 Kernel: 5.15 Compiler: gcc gcc (GCC) 11.5.0 20240719 (Red Hat 11.5.0-11) CentOS Stream 10 Kernel: 5.15 Compiler: gcc gcc (GCC) 14.2.1 20250110 (Red Hat 14.2.1-8) Fedora Linux 42 Kernel: 5.15 Compiler: clang gcc (GCC) 15.2.1 20250808 (Red Hat 15.2.1-1) Debian GNU/Linux 12 Kernel: 5.15 Compiler: gcc gcc (Debian 12.2.0-14+deb12u1) 12.2.0 openSUSE Leap 15.6 Kernel: 5.15 Compiler: gcc gcc (SUSE Linux) 7.5.0 Red Hat Enterprise Linux 8.10 Kernel: 5.15 Compiler: gcc gcc (GCC) 8.5.0 20210514 (Red Hat 8.5.0-22) Red Hat Enterprise Linux 9.5 Kernel: 5.15 Compiler: gcc gcc (GCC) 11.5.0 20240719 (Red Hat 11.5.0-2) Ubuntu 22.04 Kernel: 5.15 Compiler: gcc gcc (Ubuntu 11.4.0-1ubuntu1~22.04) 11.4.0 Ubuntu 24.04 Kernel: 5.15 Compiler: gcc gcc (Ubuntu 13.3.0-6ubuntu2~24.04) 13.3.0 Alpine Linux 3.22.0 Kernel: 5.15 Compiler: gcc gcc (Alpine 14.2.0) 14.2.0 Windows Server 2022 Kernel: 10.0.20348.2031 Compiler: clang 15.0.7, gcc 14.1.0 (MinGW), and MSVC VS 19.39.33521 To view detailed results, visit: https://lab.dpdk.org/results/dashboard/patchsets/34352/ UNH-IOL DPDK Community Lab To manage your email subscriptions, visit: https://lab.dpdk.org/results/dashboard/preferences/subscriptions/