From mboxrd@z Thu Jan 1 00:00:00 1970 Return-Path: Received: from mails.dpdk.org (mails.dpdk.org [217.70.189.124]) by inbox.dpdk.org (Postfix) with ESMTP id 30450489B2 for ; Thu, 23 Oct 2025 12:42:11 +0200 (CEST) Received: from mails.dpdk.org (localhost [127.0.0.1]) by mails.dpdk.org (Postfix) with ESMTP id 108B740150; Thu, 23 Oct 2025 12:42:11 +0200 (CEST) Received: from mail-pg1-f228.google.com (mail-pg1-f228.google.com [209.85.215.228]) by mails.dpdk.org (Postfix) with ESMTP id E91D140150 for ; Thu, 23 Oct 2025 12:42:09 +0200 (CEST) Received: by mail-pg1-f228.google.com with SMTP id 41be03b00d2f7-b6329b6e3b0so1620151a12.1 for ; Thu, 23 Oct 2025 03:42:09 -0700 (PDT) DKIM-Signature: v=1; a=rsa-sha256; c=relaxed/relaxed; d=iol.unh.edu; s=unh-iol; t=1761216129; x=1761820929; darn=dpdk.org; h=references:in-reply-to:cc:to:from:subject:message-id:date:from:to :cc:subject:date:message-id:reply-to; bh=6QvysTQrls/e9CUOq8zScdXELAlIQUj/wIPBGAjOZEU=; b=P+F6rRw3Etq5QsTLyJkrM0djgvA84O/O3AhL5L/1nPwKAAm6sXvo1ZI9pK//3qcjgl 2XhEyjF11i8WC3up/IJe0gxfyV/cnT02HhWjk79gj+7DJc4ZOCf+jxKOfLWkBw0sM3ez IoRSTDC+JBpuoXZzdg+MlyDHR53Hgu4RHWUJ0= X-Google-DKIM-Signature: v=1; a=rsa-sha256; c=relaxed/relaxed; d=1e100.net; s=20230601; t=1761216129; x=1761820929; h=references:in-reply-to:cc:to:from:subject:message-id:date :x-gm-message-state:from:to:cc:subject:date:message-id:reply-to; bh=6QvysTQrls/e9CUOq8zScdXELAlIQUj/wIPBGAjOZEU=; b=MhIxvX3N3wczNecqOyMEkco2Em/2clkDLqHNjr/qP+aCo/rrFhVxTIqmXOWbR3I9Ey BlOcHlMzTESqeYAGhtPcDj4oaUnG9lI2Z+TAlTdmK3b6eJ+u5LB2UqusmWZ6QjjOPqfL Xpw1Pq8tFeHsghoOoXzyuRZv8vhTSCBGIHeHy/+1ay1ICiLHyw6ds5RCNi0gFOGVoUwn QRmJOsLWyTXXbIt+yFTv4SY20yqs5GjfLJEGkSJ1FCGPB3Bw/8dFlhSenzzHRN7QAzMB YtmllBrY96y1vh9ZW7icpEZH2XJdPy2+zOrx96XmGYifxNf2MsJYoLNBnQL0loZDMad2 QJVA== X-Gm-Message-State: AOJu0YxConRbNCY4goAsyTa3b/B/03bnPdy7RGrZm1yg4o/ZQkstzfVD eFaMfhbPLLOYa3m0HywmqIvlnGQYlBp/4n67Qr1wC9WhxFyD6EFw0zwUTqcjujdZbUA4EwiBG6X rP1BYgMse1Vtl9i1TB/9kcaXx7KMHYqZtHdpS6v25OYHN5PeETTLa5oedCyxS X-Gm-Gg: ASbGncsCGQLZy7eb8qcj42f9YRnhWYhNKTSVYsYII3oxhwZDc1Sh5QfCnAWLB0o1WWB 9uxDGbz/mACtjhxH0xS/h6C0pqSZj4hYBSo1B2zpFoy1RZarWP/MDe9SV1Qpbmo6oxJ/sEDVLe2 TaMi1i93MjrM1HV4l3C8xKtc9vu3I1hBtA9o4ZrCgmt12QcPCJnj8PFADyW4npbONGKyRlYloeV MYcVQhg2LdDAKnCUINLsfaKBwSqByyO8pvPZemfc7aUnoUgnOg/wUj4le8sa9HcEAIkjrbk+f1n 1L14rAEEQdA4K+Ip+9rLYSwODGAgZ13uaVPkZr4Lw3DBLb0oilixfx+ayrSxqS4UFElAp8Hw24x 4xlGMdtaS X-Google-Smtp-Source: AGHT+IEDue7mZu9Jeg9vTjF7uV2LVVGqma9w9ee93hEKHBgvP2GsoKTSs+2glCowOP1bqXrrX50WgAad4A6a X-Received: by 2002:a17:903:186:b0:274:506d:7fcc with SMTP id d9443c01a7336-2935dff65a7mr67789265ad.6.1761216128880; Thu, 23 Oct 2025 03:42:08 -0700 (PDT) Received: from postal.iol.unh.edu (postal.iol.unh.edu. [2606:4100:3880:1234::84]) by smtp-relay.gmail.com with ESMTPS id d9443c01a7336-2946dde1106sm1931585ad.15.2025.10.23.03.42.08 (version=TLS1_2 cipher=ECDHE-ECDSA-AES128-GCM-SHA256 bits=128/128); Thu, 23 Oct 2025 03:42:08 -0700 (PDT) X-Relaying-Domain: iol.unh.edu Date: Thu, 23 Oct 2025 03:42:08 -0700 (PDT) Message-ID: <68fa0680.170a0220.378ba2.968dSMTPIN_ADDED_MISSING@mx.google.com> Received: from [172.21.0.2] (unknown [172.18.0.240]) by postal.iol.unh.edu (Postfix) with ESMTP id 2759E6051830; Thu, 23 Oct 2025 06:42:08 -0400 (EDT) Subject: |SUCCESS| pw158009 [PATCH] [v5] mbuf: optimize segment prefree From: dpdklab@iol.unh.edu To: Test Report Cc: dpdk-test-reports@iol.unh.edu In-Reply-To: <20251023080136.165513-1-mb@smartsharesystems.com> References: <20251023080136.165513-1-mb@smartsharesystems.com> Content-Type: text/plain X-BeenThere: test-report@dpdk.org X-Mailman-Version: 2.1.29 Precedence: list List-Id: automatic DPDK test reports List-Unsubscribe: , List-Archive: List-Post: List-Help: List-Subscribe: , Errors-To: test-report-bounces@dpdk.org Test-Label: iol-unit-amd64-testing Test-Status: SUCCESS http://dpdk.org/patch/158009 _Testing PASS_ Submitter: Morten Brorup Date: Thursday, October 23 2025 08:01:36 DPDK git baseline: Repo:dpdk Branch: master CommitID:2863cbd9ee6dabee2b183382d298f4054ba3e8a2 158009 --> testing pass Upstream job id: Generic-Unit-Test-DPDK#384435 Test environment and result as below: +-------------------------------+----------------+ | Environment | dpdk_unit_test | +===============================+================+ | CentOS Stream 9 | PASS | +-------------------------------+----------------+ | CentOS Stream 10 | PASS | +-------------------------------+----------------+ | Fedora Linux 41 | PASS | +-------------------------------+----------------+ | Debian GNU/Linux 12 | PASS | +-------------------------------+----------------+ | Fedora Linux 40 | PASS | +-------------------------------+----------------+ | Fedora Linux 42 | PASS | +-------------------------------+----------------+ | Red Hat Enterprise Linux 8.10 | PASS | +-------------------------------+----------------+ | Red Hat Enterprise Linux 9.5 | PASS | +-------------------------------+----------------+ | Ubuntu 22.04 | PASS | +-------------------------------+----------------+ | Ubuntu 20.04 | PASS | +-------------------------------+----------------+ | Ubuntu 24.04 | PASS | +-------------------------------+----------------+ | Windows Server 2022 | PASS | +-------------------------------+----------------+ CentOS Stream 9 Kernel: 5.15 Compiler: gcc gcc (GCC) 11.5.0 20240719 (Red Hat 11.5.0-11) CentOS Stream 10 Kernel: 5.15 Compiler: gcc gcc (GCC) 14.2.1 20250110 (Red Hat 14.2.1-8) Fedora Linux 41 Kernel: 5.15 Compiler: gcc gcc (GCC) 14.3.1 20250523 (Red Hat 14.3.1-1) Debian GNU/Linux 12 Kernel: 5.15 Compiler: gcc gcc (Debian 12.2.0-14+deb12u1) 12.2.0 Fedora Linux 40 Kernel: 5.15 Compiler: clang gcc (GCC) 14.2.1 20240912 (Red Hat 14.2.1-3) Fedora Linux 42 Kernel: 5.15 Compiler: gcc gcc (GCC) 15.2.1 20250808 (Red Hat 15.2.1-1) Red Hat Enterprise Linux 8.10 Kernel: 5.15 Compiler: gcc gcc (GCC) 8.5.0 20210514 (Red Hat 8.5.0-22) Red Hat Enterprise Linux 9.5 Kernel: 5.15 Compiler: gcc gcc (GCC) 11.5.0 20240719 (Red Hat 11.5.0-2) Ubuntu 22.04 Kernel: 5.15 Compiler: gcc gcc (Ubuntu 11.4.0-1ubuntu1~22.04) 11.4.0 Ubuntu 20.04 Kernel: 5.15 Compiler: gcc gcc (Ubuntu 9.4.0-1ubuntu1~20.04.2) 9.4.0 Ubuntu 24.04 Kernel: 5.15 Compiler: gcc gcc (Ubuntu 13.3.0-6ubuntu2~24.04) 13.3.0 Windows Server 2022 Kernel: 10.0.20348.2031 Compiler: clang 15.0.7, gcc 14.1.0 (MinGW), and MSVC VS 19.39.33521 To view detailed results, visit: https://lab.dpdk.org/results/dashboard/patchsets/34354/ UNH-IOL DPDK Community Lab To manage your email subscriptions, visit: https://lab.dpdk.org/results/dashboard/preferences/subscriptions/