From mboxrd@z Thu Jan 1 00:00:00 1970 Return-Path: Received: from mails.dpdk.org (mails.dpdk.org [217.70.189.124]) by inbox.dpdk.org (Postfix) with ESMTP id 67380489B2 for ; Thu, 23 Oct 2025 12:44:53 +0200 (CEST) Received: from mails.dpdk.org (localhost [127.0.0.1]) by mails.dpdk.org (Postfix) with ESMTP id 5E38040150; Thu, 23 Oct 2025 12:44:53 +0200 (CEST) Received: from mail-yw1-f227.google.com (mail-yw1-f227.google.com [209.85.128.227]) by mails.dpdk.org (Postfix) with ESMTP id AECB240150 for ; Thu, 23 Oct 2025 12:44:51 +0200 (CEST) Received: by mail-yw1-f227.google.com with SMTP id 00721157ae682-7832691f86cso8402057b3.1 for ; Thu, 23 Oct 2025 03:44:51 -0700 (PDT) DKIM-Signature: v=1; a=rsa-sha256; c=relaxed/relaxed; d=iol.unh.edu; s=unh-iol; t=1761216291; x=1761821091; darn=dpdk.org; h=references:in-reply-to:cc:to:from:subject:message-id:date:from:to :cc:subject:date:message-id:reply-to; bh=u3b1df7EH4SUBocSoRJN4/VI4clDwn+QD7d4pIev5yI=; b=FlyDS5cI7rPkILc1qmJ0S3dSoFMQEPTlHDQoBP0Rfy/toM9YmHzyhnWPeq5e6kgbuh JAUP+TXHPNOPXXS2iz2moJuwdAyTf9nJKb4UKCJosagYfy5aa3RwAAKFmD1JXKALWvZj 1w1KSRjpUanx2L/ogul8eQVZH+wIEVSQdQLgk= X-Google-DKIM-Signature: v=1; a=rsa-sha256; c=relaxed/relaxed; d=1e100.net; s=20230601; t=1761216291; x=1761821091; h=references:in-reply-to:cc:to:from:subject:message-id:date :x-gm-message-state:from:to:cc:subject:date:message-id:reply-to; bh=u3b1df7EH4SUBocSoRJN4/VI4clDwn+QD7d4pIev5yI=; b=GKwowWfflK1GDGYgnVq6pAqahEHuVTsD7jsAF39AAMVmbt78+uvJCVVo7oxTGJkub4 X2T9TU0KphzagZLTaLfuXY9ANLWTGnrFMM0EJIK6/wJZKCZyw3W3wFSgJOIng7r8r92E 7TBwIzLkOCdJMkAkOhFwG9IKscwuQ8Jqhy3tOskLoMhZ2MZsDYZPK+3VC3CLjAC8IsIe Oj6Vw6dwsKAv8mOdQMia51gfr3a+bucfbAuU0TRzxOmePQ67nlZhEzM++n98gURJcnT9 GfAtqpP0r7xAkwJq4ZoVRwFJ1Gtm85OwdOi2ZEcBIqFniIrKx4P29N1+bGaZTrr45mkS b3BQ== X-Gm-Message-State: AOJu0YxnhMA5fhMG9W6TBbFparCy+2nu3NccLfOMKwK25/bS480mPL4O 9fD1Ikc7/OCAwa98myUWIUGNthOldWMFei+sAsne97pmGGyh5/ZqdsmQwfVYqUi+mzki5uvuCDU KrNKXJyl27JXD3S1k1tOBZ2Ml2oFjUYTRAaVT6KsCfvNZctUUSG0jkgL8wpt5 X-Gm-Gg: ASbGncs25Z7LOjoddwPPpPduODPcEdQ7xiE6WZpsFwcPzdyfGis/UdeP7/tDxPMO1/q 3bcKhALsZKA+8tS7SvWHQxBj5JTq7XrUm9uvK/QhGf09NdomGlfBIf9+ClSXM/cwfC3YhwMOZ9P N4B6d8Km1UsuVx09bm6VlaXGqhCbQ0irMNoERVjMt1wPGeG+H2gGgDkJSvsJ2jo/OH8HrLP3aUD oMzpL9UvIvyF39hmEGYLRwrB06yz8sLH6KUnZIoHYYTWwaO3dn/z2FF5n11C8uE8iqLgqGS3vOB +ojzXeDhp2E4pPvkGc6C5rmxdkev0nbbvmuur+jKeSzJPci43YzCn32A0qyy1KKMHDmrcND6Yb2 H5PN0Hgg4 X-Google-Smtp-Source: AGHT+IFSwGV8GJKgXyzKhUm3sygKOmXEaBt4/ajNtDoPMhMwrTKsog1/eCDo7Ko7E4KEWYU/Tg6rKOJxXn3X X-Received: by 2002:a05:690c:fd4:b0:73c:3bfe:30cf with SMTP id 00721157ae682-7836d4d2552mr217013667b3.13.1761216291019; Thu, 23 Oct 2025 03:44:51 -0700 (PDT) Received: from postal.iol.unh.edu (postal.iol.unh.edu. [2606:4100:3880:1234::84]) by smtp-relay.gmail.com with ESMTPS id 00721157ae682-785cd5c03fesm833207b3.7.2025.10.23.03.44.50 (version=TLS1_2 cipher=ECDHE-ECDSA-AES128-GCM-SHA256 bits=128/128); Thu, 23 Oct 2025 03:44:51 -0700 (PDT) X-Relaying-Domain: iol.unh.edu Date: Thu, 23 Oct 2025 03:44:51 -0700 (PDT) Message-ID: <68fa0723.050a0220.2e4771.44faSMTPIN_ADDED_MISSING@mx.google.com> Received: from [172.21.0.2] (unknown [172.18.0.240]) by postal.iol.unh.edu (Postfix) with ESMTP id ADFDD6051830; Thu, 23 Oct 2025 06:44:50 -0400 (EDT) Subject: |WARNING| pw158009 [PATCH] [v5] mbuf: optimize segment prefree From: dpdklab@iol.unh.edu To: Test Report Cc: dpdk-test-reports@iol.unh.edu In-Reply-To: <20251023080136.165513-1-mb@smartsharesystems.com> References: <20251023080136.165513-1-mb@smartsharesystems.com> Content-Type: text/plain X-BeenThere: test-report@dpdk.org X-Mailman-Version: 2.1.29 Precedence: list List-Id: automatic DPDK test reports List-Unsubscribe: , List-Archive: List-Post: List-Help: List-Subscribe: , Errors-To: test-report-bounces@dpdk.org Test-Label: iol-compile-amd64-testing Test-Status: WARNING http://dpdk.org/patch/158009 _Testing issues_ Submitter: Morten Brorup Date: Thursday, October 23 2025 08:01:36 DPDK git baseline: Repo:dpdk Branch: master CommitID:2863cbd9ee6dabee2b183382d298f4054ba3e8a2 158009 --> testing issues Upstream job id: Generic-DPDK-Compile-Meson#436996 Test environment and result as below: +-------------------------------+--------------------+-------------------+-------------------------+-------------------+----------------------+------------------+ | Environment | dpdk_meson_compile | dpdk_msvc_compile | dpdk_llvm_clang_compile | dpdk_compile_spdk | dpdk_mingw64_compile | dpdk_compile_ovs | +===============================+====================+===================+=========================+===================+======================+==================+ | Ubuntu 20.04 | PASS | SKIPPED | SKIPPED | SKIPPED | SKIPPED | SKIPPED | +-------------------------------+--------------------+-------------------+-------------------------+-------------------+----------------------+------------------+ | FreeBSD 14.2 | PASS | SKIPPED | SKIPPED | SKIPPED | SKIPPED | SKIPPED | +-------------------------------+--------------------+-------------------+-------------------------+-------------------+----------------------+------------------+ | CentOS Stream 9 | PASS | SKIPPED | SKIPPED | WARN | SKIPPED | SKIPPED | +-------------------------------+--------------------+-------------------+-------------------------+-------------------+----------------------+------------------+ | CentOS Stream 10 | PASS | SKIPPED | SKIPPED | SKIPPED | SKIPPED | SKIPPED | +-------------------------------+--------------------+-------------------+-------------------------+-------------------+----------------------+------------------+ | Debian GNU/Linux 12 | PEND | SKIPPED | SKIPPED | PEND | SKIPPED | SKIPPED | +-------------------------------+--------------------+-------------------+-------------------------+-------------------+----------------------+------------------+ | Fedora Linux 42 | PEND | SKIPPED | SKIPPED | PEND | SKIPPED | PEND | +-------------------------------+--------------------+-------------------+-------------------------+-------------------+----------------------+------------------+ | openSUSE Leap 15.6 | PEND | SKIPPED | SKIPPED | SKIPPED | SKIPPED | SKIPPED | +-------------------------------+--------------------+-------------------+-------------------------+-------------------+----------------------+------------------+ | Red Hat Enterprise Linux 8.10 | PEND | SKIPPED | SKIPPED | SKIPPED | SKIPPED | SKIPPED | +-------------------------------+--------------------+-------------------+-------------------------+-------------------+----------------------+------------------+ | Windows Server 2022 | SKIPPED | PASS | PASS | SKIPPED | PASS | SKIPPED | +-------------------------------+--------------------+-------------------+-------------------------+-------------------+----------------------+------------------+ ==== 20 line log output for CentOS Stream 9 (dpdk_compile_spdk): ==== --- Failed to get log output --- ==== End log output ==== Ubuntu 20.04 Kernel: 4.19 Compiler: gcc gcc (Ubuntu 9.4.0-1ubuntu1~20.04.2) 9.4.0 FreeBSD 14.2 Kernel: 14.2-RELEASE Compiler: clang 18.1.6 CentOS Stream 9 Kernel: 5.15 Compiler: gcc gcc (GCC) 11.5.0 20240719 (Red Hat 11.5.0-11) CentOS Stream 10 Kernel: 5.15 Compiler: gcc gcc (GCC) 14.2.1 20250110 (Red Hat 14.2.1-8) Debian GNU/Linux 12 Kernel: 5.15 Compiler: gcc gcc (Debian 12.2.0-14+deb12u1) 12.2.0 Fedora Linux 42 Kernel: 5.15 Compiler: clang gcc (GCC) 15.2.1 20250808 (Red Hat 15.2.1-1) openSUSE Leap 15.6 Kernel: 5.15 Compiler: gcc gcc (SUSE Linux) 7.5.0 Red Hat Enterprise Linux 8.10 Kernel: 5.15 Compiler: gcc gcc (GCC) 8.5.0 20210514 (Red Hat 8.5.0-22) Windows Server 2022 Kernel: 10.0.20348.2031 Compiler: clang 15.0.7, gcc 14.1.0 (MinGW), and MSVC VS 19.39.33521 To view detailed results, visit: https://lab.dpdk.org/results/dashboard/patchsets/34354/ UNH-IOL DPDK Community Lab To manage your email subscriptions, visit: https://lab.dpdk.org/results/dashboard/preferences/subscriptions/