From mboxrd@z Thu Jan 1 00:00:00 1970 Return-Path: Received: from mails.dpdk.org (mails.dpdk.org [217.70.189.124]) by inbox.dpdk.org (Postfix) with ESMTP id 65A49489B2 for ; Thu, 23 Oct 2025 12:55:19 +0200 (CEST) Received: from mails.dpdk.org (localhost [127.0.0.1]) by mails.dpdk.org (Postfix) with ESMTP id 5DBED40150; Thu, 23 Oct 2025 12:55:19 +0200 (CEST) Received: from mail-qv1-f99.google.com (mail-qv1-f99.google.com [209.85.219.99]) by mails.dpdk.org (Postfix) with ESMTP id 0A8ED40150 for ; Thu, 23 Oct 2025 12:55:18 +0200 (CEST) Received: by mail-qv1-f99.google.com with SMTP id 6a1803df08f44-87c1f3f4373so10659896d6.2 for ; Thu, 23 Oct 2025 03:55:17 -0700 (PDT) DKIM-Signature: v=1; a=rsa-sha256; c=relaxed/relaxed; d=iol.unh.edu; s=unh-iol; t=1761216917; x=1761821717; darn=dpdk.org; h=cc:to:from:subject:message-id:date:from:to:cc:subject:date :message-id:reply-to; bh=dPjvB9Azrd0Y2XSR5cVypUqn7fPUNROxMbdKk0n7tFQ=; b=fzKrgD1Fq2M3wuy7CLxfRNn3c2xaf35UZ587/dF3bBtW7R+UjJoJMg9MwnCP///HZc XohFIhmam8pP6xb8uRasXclebetIVkSfXIHq4fwVAeZyTXVQtGFLuae/fHPGTSV0vlvS 5EKYN4C+r45ic28GZxn8eMkD78fw63Cc8eiV8= X-Google-DKIM-Signature: v=1; a=rsa-sha256; c=relaxed/relaxed; d=1e100.net; s=20230601; t=1761216917; x=1761821717; h=cc:to:from:subject:message-id:date:x-gm-message-state:from:to:cc :subject:date:message-id:reply-to; bh=dPjvB9Azrd0Y2XSR5cVypUqn7fPUNROxMbdKk0n7tFQ=; b=sCSdchdBmNjSOPFDNUqPrVovtb8uYt9YmTgD8Rl+MvAm+fPoRr2k87KZ5kK1toP7WZ IhXHMoe5v8HXEjFSEmdrxxwMFtZJ3mGQenP69+rMYljwl/nqfAkU2BfcZTxHzULBhdph ZfqPbZsfvDphjODRDs7w5CGSvLYnI1JShml9vYPnRGvdU3ZqaP5bSPOvQZ3pLgJS44K2 PNocgrYEFwRA+evDVY9FC+uKD8bE84kTJdBS0/+2omlVX0JzLnhh2FE5J3xK9ZWTdlOr 0NaZ1oqzFUPivAVSxkbbf+Swn7yCySFKOFaNgiftjcP/DwV2+bdTmbnZed/4z+l46pn3 4Llw== X-Gm-Message-State: AOJu0YzIUfr3EQwa6AbDXFVfLTIg3jqGLCHDmVe8LC+e4eAxwAjdw0nm YwJh9AgPl9sy1C0tKVrjjh29Ewhc2Tumg32ksTckJrvt+LMtJy3UBIFzyUU9hbQuereSQaj+5Fe bM5D7OF9r8DKG/Vf0zyZfLJetV+TpdGUrbyxk X-Gm-Gg: ASbGncugUHa94UMQqswWcwdTJhUfaBh1jQoHICste2t66K1mD+1acociLTIlY5827hd 1PfaH3bOTUjs416UavV1yD5Ux2fheKu5jbfh0rXqz3tlNP5YrYYW9np2ULQyCX6sH2Op2wvSmg4 CSRlxlMgyMf/sYV1AwRLuAhVqgzdS3aIOI5pzKqjVKt31ULNkpNv27FHTjxRZocw+4LQyGPC4HN aCzzKU7LJK0/y+/oQpiFby5XF1UonV539ss8DUOthfiJnBleZ6Eg/PTx9rrd4S17HAgZ5Y1uZZ3 BkcL4+TP6oEq86Xh7FwfoIftfOfTT5r5adGGvTOYARkHsiR+AYq0emq+NaukfaM56hgeZywJrDe iOpsMyX2jumsqBZ5+f46j1NpE+uEme+g= X-Google-Smtp-Source: AGHT+IFgOTBF8swgRIQKUAhrbhmGCNSjAk2ZfJ765LOkBBw/rKT8hTZ8+BbwTonIpeXV0qHQrFoib+nnanEY X-Received: by 2002:ad4:5cc1:0:b0:851:746c:e6c9 with SMTP id 6a1803df08f44-87c2062d691mr60966906d6.31.1761216917342; Thu, 23 Oct 2025 03:55:17 -0700 (PDT) Received: from postal.iol.unh.edu (postal.iol.unh.edu. [132.177.123.84]) by smtp-relay.gmail.com with ESMTPS id 6a1803df08f44-87f9e82ab71sm1540016d6.31.2025.10.23.03.55.17 (version=TLS1_2 cipher=ECDHE-ECDSA-AES128-GCM-SHA256 bits=128/128); Thu, 23 Oct 2025 03:55:17 -0700 (PDT) X-Relaying-Domain: iol.unh.edu Date: Thu, 23 Oct 2025 03:55:17 -0700 (PDT) Message-ID: <68fa0995.050a0220.33f907.79fcSMTPIN_ADDED_MISSING@mx.google.com> Received: from [172.21.0.2] (unknown [172.18.0.240]) by postal.iol.unh.edu (Postfix) with ESMTP id 189CF6051830; Thu, 23 Oct 2025 06:55:17 -0400 (EDT) Subject: |SUCCESS| [GIT MASTER] 3b43ce3f4a54468e7ef65760c2fd7b4d6ee6d9fc From: dpdklab@iol.unh.edu To: Test Report Cc: dpdk-test-reports@iol.unh.edu, Xueming Li , Christian Ehrhardt , Kevin Traynor , Luca Boccassi Content-Type: text/plain X-BeenThere: test-report@dpdk.org X-Mailman-Version: 2.1.29 Precedence: list List-Id: automatic DPDK test reports List-Unsubscribe: , List-Archive: List-Post: List-Help: List-Subscribe: , Errors-To: test-report-bounces@dpdk.org _Testing PASS_ Branch: tags/v22.11 3b43ce3f4a54468e7ef65760c2fd7b4d6ee6d9fc --> testing pass Upstream job id: Generic-DPDK-Compile-Meson#436887 Test environment and result as below: +------------------------------+--------------------+ | Environment | dpdk_meson_compile | +==============================+====================+ | Ubuntu 20.04 | PASS | +------------------------------+--------------------+ | Fedora Linux 42 | PASS | +------------------------------+--------------------+ | Debian GNU/Linux 12 | PASS | +------------------------------+--------------------+ | Ubuntu 22.04 | PASS | +------------------------------+--------------------+ | Red Hat Enterprise Linux 9.5 | PASS | +------------------------------+--------------------+ | Ubuntu 24.04 | PASS | +------------------------------+--------------------+ | CentOS Stream 9 | PASS | +------------------------------+--------------------+ | CentOS Stream 10 | PASS | +------------------------------+--------------------+ Ubuntu 20.04 Kernel: 5.15 Compiler: aarch64-linux-gnu-gcc gcc (Ubuntu 9.4.0-1ubuntu1~20.04.2) 9.4.0 Fedora Linux 42 Kernel: 5.4 Compiler: gcc gcc (GCC) 15.2.1 20250808 (Red Hat 15.2.1-1) Debian GNU/Linux 12 Kernel: 5.4 Compiler: gcc gcc (Debian 12.2.0-14+deb12u1) 12.2.0 Ubuntu 22.04 Kernel: 5.4 Compiler: gcc gcc (Ubuntu 11.4.0-1ubuntu1~22.04) 11.4.0 Red Hat Enterprise Linux 9.5 Kernel: 5.4 Compiler: gcc gcc (GCC) 11.5.0 20240719 (Red Hat 11.5.0-2) Ubuntu 24.04 Kernel: 5.4 Compiler: gcc gcc (Ubuntu 13.3.0-6ubuntu2~24.04) 13.3.0 CentOS Stream 9 Kernel: 5.4 Compiler: gcc gcc (GCC) 11.5.0 20240719 (Red Hat 11.5.0-11) CentOS Stream 10 Kernel: 5.4 Compiler: gcc gcc (GCC) 14.2.1 20250110 (Red Hat 14.2.1-8) To view detailed results, visit: https://lab.dpdk.org/results/dashboard/tarballs/35307/ UNH-IOL DPDK Community Lab To manage your email subscriptions, visit: https://lab.dpdk.org/results/dashboard/preferences/subscriptions/