From: dpdklab@iol.unh.edu
To: Test Report <test-report@dpdk.org>
Cc: dpdk-test-reports@iol.unh.edu,
Stephen Hemminger <stephen@networkplumber.org>
Subject: |SUCCESS| pw158011 [PATCH] [v3] net/vmxnet3: disable RSS for single
Date: Thu, 23 Oct 2025 04:10:11 -0700 (PDT) [thread overview]
Message-ID: <68fa0d13.c80a0220.ecc1.6c5dSMTPIN_ADDED_MISSING@mx.google.com> (raw)
In-Reply-To: <20251023083019.18792-1-amiyaranjan.mohakud@gmail.com>
Test-Label: iol-unit-amd64-testing
Test-Status: SUCCESS
http://dpdk.org/patch/158011
_Testing PASS_
Submitter: Amiya Ranjan Mohakud <amiyaranjan.mohakud@gmail.com>
Date: Thursday, October 23 2025 08:30:19
DPDK git baseline: Repo:dpdk-next-net
Branch: master
CommitID:4c4055bdd19f919795f83a01faae9fc267570d7f
158011 --> testing pass
Upstream job id: Generic-Unit-Test-DPDK#384466
Test environment and result as below:
+-------------------------------+----------------+
| Environment | dpdk_unit_test |
+===============================+================+
| CentOS Stream 9 | PASS |
+-------------------------------+----------------+
| Debian GNU/Linux 12 | PASS |
+-------------------------------+----------------+
| CentOS Stream 10 | PASS |
+-------------------------------+----------------+
| Fedora Linux 40 | PASS |
+-------------------------------+----------------+
| Fedora Linux 41 | PASS |
+-------------------------------+----------------+
| Fedora Linux 42 | PASS |
+-------------------------------+----------------+
| Red Hat Enterprise Linux 8.10 | PASS |
+-------------------------------+----------------+
| Red Hat Enterprise Linux 9.5 | PASS |
+-------------------------------+----------------+
| Ubuntu 20.04 | PASS |
+-------------------------------+----------------+
| Ubuntu 22.04 | PASS |
+-------------------------------+----------------+
| Ubuntu 24.04 | PASS |
+-------------------------------+----------------+
| Windows Server 2022 | PASS |
+-------------------------------+----------------+
CentOS Stream 9
Kernel: 5.15
Compiler: gcc gcc (GCC) 11.5.0 20240719 (Red Hat 11.5.0-11)
Debian GNU/Linux 12
Kernel: 5.15
Compiler: gcc gcc (Debian 12.2.0-14+deb12u1) 12.2.0
CentOS Stream 10
Kernel: 5.15
Compiler: gcc gcc (GCC) 14.2.1 20250110 (Red Hat 14.2.1-8)
Fedora Linux 40
Kernel: 5.15
Compiler: gcc gcc (GCC) 14.2.1 20240912 (Red Hat 14.2.1-3)
Fedora Linux 41
Kernel: 5.15
Compiler: gcc gcc (GCC) 14.3.1 20250523 (Red Hat 14.3.1-1)
Fedora Linux 42
Kernel: 5.15
Compiler: gcc gcc (GCC) 15.2.1 20250808 (Red Hat 15.2.1-1)
Red Hat Enterprise Linux 8.10
Kernel: 5.15
Compiler: gcc gcc (GCC) 8.5.0 20210514 (Red Hat 8.5.0-22)
Red Hat Enterprise Linux 9.5
Kernel: 5.15
Compiler: gcc gcc (GCC) 11.5.0 20240719 (Red Hat 11.5.0-2)
Ubuntu 20.04
Kernel: 5.15
Compiler: gcc gcc (Ubuntu 9.4.0-1ubuntu1~20.04.2) 9.4.0
Ubuntu 22.04
Kernel: 5.15
Compiler: gcc gcc (Ubuntu 11.4.0-1ubuntu1~22.04) 11.4.0
Ubuntu 24.04
Kernel: 5.15
Compiler: gcc gcc (Ubuntu 13.3.0-6ubuntu2~24.04) 13.3.0
Windows Server 2022
Kernel: 10.0.20348.2031
Compiler: clang 15.0.7, gcc 14.1.0 (MinGW), and MSVC VS 19.39.33521
To view detailed results, visit:
https://lab.dpdk.org/results/dashboard/patchsets/34355/
UNH-IOL DPDK Community Lab
To manage your email subscriptions, visit:
https://lab.dpdk.org/results/dashboard/preferences/subscriptions/
next prev parent reply other threads:[~2025-10-23 11:10 UTC|newest]
Thread overview: 32+ messages / expand[flat|nested] mbox.gz Atom feed top
[not found] <20251023083019.18792-1-amiyaranjan.mohakud@gmail.com>
2025-10-23 7:55 ` |SUCCESS| pw158011 [PATCH v3] net/vmxnet3: disable RSS for single queue configuration for ESX8.0+ versions qemudev
2025-10-23 8:00 ` qemudev
2025-10-23 8:30 ` checkpatch
2025-10-23 8:50 ` |PENDING| pw158011 [PATCH] [v3] net/vmxnet3: disable RSS for single dpdklab
2025-10-23 8:55 ` |SUCCESS| " dpdklab
2025-10-23 8:55 ` dpdklab
2025-10-23 9:01 ` dpdklab
2025-10-23 9:30 ` dpdklab
2025-10-23 9:40 ` dpdklab
2025-10-23 9:45 ` dpdklab
2025-10-23 9:45 ` dpdklab
2025-10-23 9:53 ` |PENDING| " dpdklab
2025-10-23 9:55 ` dpdklab
2025-10-23 10:00 ` |SUCCESS| " dpdklab
2025-10-23 10:02 ` dpdklab
2025-10-23 10:11 ` dpdklab
2025-10-23 10:13 ` |PENDING| " dpdklab
2025-10-23 10:55 ` |SUCCESS| " dpdklab
2025-10-23 11:01 ` dpdklab
2025-10-23 11:10 ` dpdklab [this message]
2025-10-23 11:10 ` dpdklab
2025-10-23 11:20 ` dpdklab
2025-10-23 11:29 ` dpdklab
2025-10-23 12:00 ` |PENDING| " dpdklab
2025-10-23 13:20 ` |WARNING| " dpdklab
2025-10-23 14:14 ` dpdklab
2025-10-23 14:34 ` |SUCCESS| pw158011 [PATCH v3] net/vmxnet3: disable RSS for single queue configuration for ESX8.0+ versions 0-day Robot
2025-10-23 14:34 ` 0-day Robot
2025-10-23 15:19 ` |WARNING| pw158011 [PATCH] [v3] net/vmxnet3: disable RSS for single dpdklab
2025-10-23 16:08 ` dpdklab
2025-10-23 16:23 ` dpdklab
2025-10-23 16:26 ` dpdklab
Reply instructions:
You may reply publicly to this message via plain-text email
using any one of the following methods:
* Save the following mbox file, import it into your mail client,
and reply-to-all from there: mbox
Avoid top-posting and favor interleaved quoting:
https://en.wikipedia.org/wiki/Posting_style#Interleaved_style
* Reply using the --to, --cc, and --in-reply-to
switches of git-send-email(1):
git send-email \
--in-reply-to=68fa0d13.c80a0220.ecc1.6c5dSMTPIN_ADDED_MISSING@mx.google.com \
--to=dpdklab@iol.unh.edu \
--cc=dpdk-test-reports@iol.unh.edu \
--cc=stephen@networkplumber.org \
--cc=test-report@dpdk.org \
/path/to/YOUR_REPLY
https://kernel.org/pub/software/scm/git/docs/git-send-email.html
* If your mail client supports setting the In-Reply-To header
via mailto: links, try the mailto: link
Be sure your reply has a Subject: header at the top and a blank line
before the message body.
This is a public inbox, see mirroring instructions
for how to clone and mirror all data and code used for this inbox;
as well as URLs for NNTP newsgroup(s).