From mboxrd@z Thu Jan 1 00:00:00 1970 Return-Path: Received: from mails.dpdk.org (mails.dpdk.org [217.70.189.124]) by inbox.dpdk.org (Postfix) with ESMTP id 4781F489B2 for ; Thu, 23 Oct 2025 13:10:14 +0200 (CEST) Received: from mails.dpdk.org (localhost [127.0.0.1]) by mails.dpdk.org (Postfix) with ESMTP id 266EC40151; Thu, 23 Oct 2025 13:10:14 +0200 (CEST) Received: from mail-qt1-f226.google.com (mail-qt1-f226.google.com [209.85.160.226]) by mails.dpdk.org (Postfix) with ESMTP id 43AA940151 for ; Thu, 23 Oct 2025 13:10:12 +0200 (CEST) Received: by mail-qt1-f226.google.com with SMTP id d75a77b69052e-4e88ed3a132so9545601cf.0 for ; Thu, 23 Oct 2025 04:10:12 -0700 (PDT) DKIM-Signature: v=1; a=rsa-sha256; c=relaxed/relaxed; d=iol.unh.edu; s=unh-iol; t=1761217811; x=1761822611; darn=dpdk.org; h=references:in-reply-to:cc:to:from:subject:message-id:date:from:to :cc:subject:date:message-id:reply-to; bh=QgCCrXsiWXSiWcmUmiWo8Tl9YYDSwUsRGjTiYclvuF0=; b=igLgfhxzfwszZLocWbxKbZmBVJS3b40WjihXefRre0ha356qoqFnfCwgXblXCW6OYZ yiKuNwDjp1F7eWKK/pTcayYwhSRg4FV6mPs3ivGkND2rhwEXkOKDp7twTGxw3/XaR3ZR qIsMyocmS2dG6lfULYPzUcp18wK8i9q+S2klw= X-Google-DKIM-Signature: v=1; a=rsa-sha256; c=relaxed/relaxed; d=1e100.net; s=20230601; t=1761217811; x=1761822611; h=references:in-reply-to:cc:to:from:subject:message-id:date :x-gm-message-state:from:to:cc:subject:date:message-id:reply-to; bh=QgCCrXsiWXSiWcmUmiWo8Tl9YYDSwUsRGjTiYclvuF0=; b=tBLgD65GU4TCSMLRQJuoFomNy8w2TZKu1owpQM7f2212d/BFVlx+1QyuvNqp1Y629O x0VCjmrztWodp9itgxVyZ65yZ7z1u3KeHHnVDxV1+vr1rPTzfr+1NIrAX+3xXDq1hTHr 5aX45LpFgnhTAfmuzDqacL+G8u0jjIT/wlRR6+0zCxzOSe7qAEv8e3FHG1zvSMKpwEcH fI019zDpCUmjBmgh+y7u2s7ZuvmGN5sCmV6bxD/BIG6tP+rgmws35OqEniclbXuyxpYm LPqXblbSriS9GxNmO2L0ex9L9r7HKQjERZGKW31+8+86SiDyXKM0/EZfN1YKCFhEwCSZ cuhg== X-Gm-Message-State: AOJu0Yz0Lwn3PzqNHN8c/0pYYgldfcRCRlanIiz3XJpjGTS5SUhWWYy0 qgtwrhAUbRMecN1Ww0UusNjElhX2AFFB0omwNiWondk0OLGlDr0F/QFxVODKoM7wgdygHUMGFZ0 YF6COjOgc6Tlm+liwEH7ZXMZjFqoIFRNeDq3crHb/2b7TyJxqH18iUdoLjwup X-Gm-Gg: ASbGncvm9NkQmowXRFae+c9mNRgBDok28mnUKxHr56xZGUNCZhF38OC+9q26gVp4IUy D6cVYBP1X1Z08sqCfMfnlokuAAeDCyuRNcXLuqjPlw+pyJGocPW4xqpvoz7cAGSBcHfb5eVl4QX hCIbk5QAFzAJLrZiyE6H0y3+KRWTmECY1lSl+MCOy8Q2+D7fiiIeylUK6ho4crEO0DMluvnmGmY b9qBp3iwfiolTf5wOMhgAZo5Dr1KOMbAOVbStc/dgUBIntFIsmY/6KvyTFffzj+M7d1Qw4ryXLf X+MiCO4J5fQ/cG6FnV/Wlz8enrt21ofJrXvZQrJ1k4xwvpFc7dnyP6dMlTruqQmHiJVJ4DZglem P/CK24+cT X-Google-Smtp-Source: AGHT+IE0755nXWF4khy+xN4hVFw0YVhA4wseVLgOyYibWEEtE/lsTATAtFD7ULhWVS6wZToHAWcsd9/5rq4H X-Received: by 2002:ac8:588d:0:b0:4e0:e2a:a78d with SMTP id d75a77b69052e-4eb73320047mr74070121cf.32.1761217811417; Thu, 23 Oct 2025 04:10:11 -0700 (PDT) Received: from postal.iol.unh.edu (postal.iol.unh.edu. [2606:4100:3880:1234::84]) by smtp-relay.gmail.com with ESMTPS id d75a77b69052e-4eb8083a151sm1423491cf.10.2025.10.23.04.10.11 (version=TLS1_2 cipher=ECDHE-ECDSA-AES128-GCM-SHA256 bits=128/128); Thu, 23 Oct 2025 04:10:11 -0700 (PDT) X-Relaying-Domain: iol.unh.edu Date: Thu, 23 Oct 2025 04:10:11 -0700 (PDT) Message-ID: <68fa0d13.c80a0220.ecc1.6c5dSMTPIN_ADDED_MISSING@mx.google.com> Received: from [172.21.0.2] (unknown [172.18.0.240]) by postal.iol.unh.edu (Postfix) with ESMTP id EBAC36051830; Thu, 23 Oct 2025 07:10:10 -0400 (EDT) Subject: |SUCCESS| pw158011 [PATCH] [v3] net/vmxnet3: disable RSS for single From: dpdklab@iol.unh.edu To: Test Report Cc: dpdk-test-reports@iol.unh.edu, Stephen Hemminger In-Reply-To: <20251023083019.18792-1-amiyaranjan.mohakud@gmail.com> References: <20251023083019.18792-1-amiyaranjan.mohakud@gmail.com> Content-Type: text/plain X-BeenThere: test-report@dpdk.org X-Mailman-Version: 2.1.29 Precedence: list List-Id: automatic DPDK test reports List-Unsubscribe: , List-Archive: List-Post: List-Help: List-Subscribe: , Errors-To: test-report-bounces@dpdk.org Test-Label: iol-unit-amd64-testing Test-Status: SUCCESS http://dpdk.org/patch/158011 _Testing PASS_ Submitter: Amiya Ranjan Mohakud Date: Thursday, October 23 2025 08:30:19 DPDK git baseline: Repo:dpdk-next-net Branch: master CommitID:4c4055bdd19f919795f83a01faae9fc267570d7f 158011 --> testing pass Upstream job id: Generic-Unit-Test-DPDK#384466 Test environment and result as below: +-------------------------------+----------------+ | Environment | dpdk_unit_test | +===============================+================+ | CentOS Stream 9 | PASS | +-------------------------------+----------------+ | Debian GNU/Linux 12 | PASS | +-------------------------------+----------------+ | CentOS Stream 10 | PASS | +-------------------------------+----------------+ | Fedora Linux 40 | PASS | +-------------------------------+----------------+ | Fedora Linux 41 | PASS | +-------------------------------+----------------+ | Fedora Linux 42 | PASS | +-------------------------------+----------------+ | Red Hat Enterprise Linux 8.10 | PASS | +-------------------------------+----------------+ | Red Hat Enterprise Linux 9.5 | PASS | +-------------------------------+----------------+ | Ubuntu 20.04 | PASS | +-------------------------------+----------------+ | Ubuntu 22.04 | PASS | +-------------------------------+----------------+ | Ubuntu 24.04 | PASS | +-------------------------------+----------------+ | Windows Server 2022 | PASS | +-------------------------------+----------------+ CentOS Stream 9 Kernel: 5.15 Compiler: gcc gcc (GCC) 11.5.0 20240719 (Red Hat 11.5.0-11) Debian GNU/Linux 12 Kernel: 5.15 Compiler: gcc gcc (Debian 12.2.0-14+deb12u1) 12.2.0 CentOS Stream 10 Kernel: 5.15 Compiler: gcc gcc (GCC) 14.2.1 20250110 (Red Hat 14.2.1-8) Fedora Linux 40 Kernel: 5.15 Compiler: gcc gcc (GCC) 14.2.1 20240912 (Red Hat 14.2.1-3) Fedora Linux 41 Kernel: 5.15 Compiler: gcc gcc (GCC) 14.3.1 20250523 (Red Hat 14.3.1-1) Fedora Linux 42 Kernel: 5.15 Compiler: gcc gcc (GCC) 15.2.1 20250808 (Red Hat 15.2.1-1) Red Hat Enterprise Linux 8.10 Kernel: 5.15 Compiler: gcc gcc (GCC) 8.5.0 20210514 (Red Hat 8.5.0-22) Red Hat Enterprise Linux 9.5 Kernel: 5.15 Compiler: gcc gcc (GCC) 11.5.0 20240719 (Red Hat 11.5.0-2) Ubuntu 20.04 Kernel: 5.15 Compiler: gcc gcc (Ubuntu 9.4.0-1ubuntu1~20.04.2) 9.4.0 Ubuntu 22.04 Kernel: 5.15 Compiler: gcc gcc (Ubuntu 11.4.0-1ubuntu1~22.04) 11.4.0 Ubuntu 24.04 Kernel: 5.15 Compiler: gcc gcc (Ubuntu 13.3.0-6ubuntu2~24.04) 13.3.0 Windows Server 2022 Kernel: 10.0.20348.2031 Compiler: clang 15.0.7, gcc 14.1.0 (MinGW), and MSVC VS 19.39.33521 To view detailed results, visit: https://lab.dpdk.org/results/dashboard/patchsets/34355/ UNH-IOL DPDK Community Lab To manage your email subscriptions, visit: https://lab.dpdk.org/results/dashboard/preferences/subscriptions/