From mboxrd@z Thu Jan 1 00:00:00 1970 Return-Path: Received: from mails.dpdk.org (mails.dpdk.org [217.70.189.124]) by inbox.dpdk.org (Postfix) with ESMTP id 334A0489B2 for ; Thu, 23 Oct 2025 13:10:18 +0200 (CEST) Received: from mails.dpdk.org (localhost [127.0.0.1]) by mails.dpdk.org (Postfix) with ESMTP id 2FDAE40151; Thu, 23 Oct 2025 13:10:18 +0200 (CEST) Received: from mail-qk1-f228.google.com (mail-qk1-f228.google.com [209.85.222.228]) by mails.dpdk.org (Postfix) with ESMTP id DC21240151 for ; Thu, 23 Oct 2025 13:10:16 +0200 (CEST) Received: by mail-qk1-f228.google.com with SMTP id af79cd13be357-8901a7d171bso68996185a.1 for ; Thu, 23 Oct 2025 04:10:16 -0700 (PDT) DKIM-Signature: v=1; a=rsa-sha256; c=relaxed/relaxed; d=iol.unh.edu; s=unh-iol; t=1761217816; x=1761822616; darn=dpdk.org; h=references:in-reply-to:cc:to:from:subject:message-id:date:from:to :cc:subject:date:message-id:reply-to; bh=2ewhQGjnTDeAhfvgXs8+QMixZCskRUDSx/hF+WL2GnY=; b=HdtpAK29gEStZlBElhm82kIuWfCNEyt5fkDhQBlvKsAZ89AzIgfhBWHG5VAu6Lq8QJ /B3jV5vUgzqRuAqe2Bpwdb7JSyY0KU4dftrRwPK3htGmg78qrf8e8KhsDMPlm1kxoMrx IA8MId0KNSM62VXkvS+B1UoeqH/m6y7NjPH0c= X-Google-DKIM-Signature: v=1; a=rsa-sha256; c=relaxed/relaxed; d=1e100.net; s=20230601; t=1761217816; x=1761822616; h=references:in-reply-to:cc:to:from:subject:message-id:date :x-gm-message-state:from:to:cc:subject:date:message-id:reply-to; bh=2ewhQGjnTDeAhfvgXs8+QMixZCskRUDSx/hF+WL2GnY=; b=AZmUXUbHXK6WXTOmqkyjhxzLCHtEQOhSTZYgTN5reARkN6dkMohdLRxE8b67zZPl+z TWjWQrxv8I0xu4Gq1Z7d0wzSoBCVPlDiLtR7JofKYfuaNd6JVt4OTrGLSo0a65jSUxTK 9UidjLe+6k0QHn7tQMZw0Fedm9JioRt9Pn2MM6S7IDGL53b4cUPLQc82Btun8eBHHWuL b9cj6rzlhJBhIChJlpiwhuexkqLPYLaeVPiX0qTK4eNH/lrbTESiXRY2ZEjpTVdUUkul sY5Pg8XLuHJhnx9p8JWUqq3gW8S2g/WlJAiPOw44vz6JYwLdkPbwYFZ+2J8/n/UTCMZl LeZg== X-Gm-Message-State: AOJu0YwwDD4OnFjxbbbGIE9nE0IEen6ciVQyDTtWS0OKh0HpYs6Cll1J WSNPlGw4lkeHiFJjNbrNig+AAer1a2BhAE0/8VhWLZVI/7QT9gBbWCCHar7brHs+TkWyN9ctgER rg0oj0N71pyfXfxJdDcdIr+H/CN6Ts1hPAc3fV5GRBMaXKe5MYvt1/ZePHA6v X-Gm-Gg: ASbGncvjO95QlwURi+kkazAZ6NKMwOk08c0/fAmTk2pqxxQI1OeSC2qYFsAod9HnR7B nOOL6igiCEB7m5hSUJXAYCEmSTgAokIJ60r3SawVn14I/QXTdJDN5qGxcQ88AW1BacTS78vhE1B qXPwyoFzl8zh89AD+G6Gx/9yqtQ3GIT57Q+gI7J1L9CatYyBawlDH3Rj3yEO8BWNWnnz5d4HGb2 Wj0Az2b4qlQJ5nyk2y/9M6QEeHT1RZ7bdGjyfwyBfB2qBmthXiGdElINBtrMYpw/35ErkDpEIAj xGug9xpW/vEg0aWNZFrlbWrcA79Uyq9yQKPdUswGFfBqExg6KgiJKfQJuyQ6E+S8hf65gP59teA wf8iNyVMY X-Google-Smtp-Source: AGHT+IFyYEgcisbFgq4GWhVv4PyeaNZjwASo9FDWkbxnZIXssxfZnoSSKETIz84degefZSvF87V9g4cVFhig X-Received: by 2002:a05:620a:2913:b0:89c:37f:3563 with SMTP id af79cd13be357-89c037f3673mr307206985a.22.1761217816203; Thu, 23 Oct 2025 04:10:16 -0700 (PDT) Received: from postal.iol.unh.edu (postal.iol.unh.edu. [2606:4100:3880:1234::84]) by smtp-relay.gmail.com with ESMTPS id af79cd13be357-89c0a44bb26sm16327285a.0.2025.10.23.04.10.16 (version=TLS1_2 cipher=ECDHE-ECDSA-AES128-GCM-SHA256 bits=128/128); Thu, 23 Oct 2025 04:10:16 -0700 (PDT) X-Relaying-Domain: iol.unh.edu Date: Thu, 23 Oct 2025 04:10:16 -0700 (PDT) Message-ID: <68fa0d18.050a0220.246e5c.812fSMTPIN_ADDED_MISSING@mx.google.com> Received: from [172.21.0.3] (unknown [172.18.0.240]) by postal.iol.unh.edu (Postfix) with ESMTP id EA6C16051830; Thu, 23 Oct 2025 07:10:15 -0400 (EDT) Subject: |SUCCESS| pw158011 [PATCH] [v3] net/vmxnet3: disable RSS for single From: dpdklab@iol.unh.edu To: Test Report Cc: dpdk-test-reports@iol.unh.edu, Stephen Hemminger In-Reply-To: <20251023083019.18792-1-amiyaranjan.mohakud@gmail.com> References: <20251023083019.18792-1-amiyaranjan.mohakud@gmail.com> Content-Type: text/plain X-BeenThere: test-report@dpdk.org X-Mailman-Version: 2.1.29 Precedence: list List-Id: automatic DPDK test reports List-Unsubscribe: , List-Archive: List-Post: List-Help: List-Subscribe: , Errors-To: test-report-bounces@dpdk.org Test-Label: iol-unit-amd64-testing Test-Status: SUCCESS http://dpdk.org/patch/158011 _Testing PASS_ Submitter: Amiya Ranjan Mohakud Date: Thursday, October 23 2025 08:30:19 DPDK git baseline: Repo:dpdk-next-net Branch: master CommitID:4c4055bdd19f919795f83a01faae9fc267570d7f 158011 --> testing pass Upstream job id: Generic-Unit-Test-DPDK#384457 Test environment and result as below: +-------------------------------+----------------+ | Environment | dpdk_unit_test | +===============================+================+ | CentOS Stream 9 | PASS | +-------------------------------+----------------+ | Debian GNU/Linux 12 | PASS | +-------------------------------+----------------+ | CentOS Stream 10 | PASS | +-------------------------------+----------------+ | Fedora Linux 40 | PASS | +-------------------------------+----------------+ | Fedora Linux 41 | PASS | +-------------------------------+----------------+ | Fedora Linux 42 | PASS | +-------------------------------+----------------+ | Red Hat Enterprise Linux 8.10 | PASS | +-------------------------------+----------------+ | Red Hat Enterprise Linux 9.5 | PASS | +-------------------------------+----------------+ | Ubuntu 20.04 | PASS | +-------------------------------+----------------+ | Ubuntu 22.04 | PASS | +-------------------------------+----------------+ | Ubuntu 24.04 | PASS | +-------------------------------+----------------+ | Windows Server 2022 | PASS | +-------------------------------+----------------+ CentOS Stream 9 Kernel: 5.15 Compiler: gcc gcc (GCC) 11.5.0 20240719 (Red Hat 11.5.0-11) Debian GNU/Linux 12 Kernel: 5.15 Compiler: gcc gcc (Debian 12.2.0-14+deb12u1) 12.2.0 CentOS Stream 10 Kernel: 5.15 Compiler: gcc gcc (GCC) 14.2.1 20250110 (Red Hat 14.2.1-8) Fedora Linux 40 Kernel: 5.15 Compiler: gcc gcc (GCC) 14.2.1 20240912 (Red Hat 14.2.1-3) Fedora Linux 41 Kernel: 5.15 Compiler: gcc gcc (GCC) 14.3.1 20250523 (Red Hat 14.3.1-1) Fedora Linux 42 Kernel: 5.15 Compiler: gcc gcc (GCC) 15.2.1 20250808 (Red Hat 15.2.1-1) Red Hat Enterprise Linux 8.10 Kernel: 5.15 Compiler: gcc gcc (GCC) 8.5.0 20210514 (Red Hat 8.5.0-22) Red Hat Enterprise Linux 9.5 Kernel: 5.15 Compiler: gcc gcc (GCC) 11.5.0 20240719 (Red Hat 11.5.0-2) Ubuntu 20.04 Kernel: 5.15 Compiler: gcc gcc (Ubuntu 9.4.0-1ubuntu1~20.04.2) 9.4.0 Ubuntu 22.04 Kernel: 5.15 Compiler: gcc gcc (Ubuntu 11.4.0-1ubuntu1~22.04) 11.4.0 Ubuntu 24.04 Kernel: 5.15 Compiler: gcc gcc (Ubuntu 13.3.0-6ubuntu2~24.04) 13.3.0 Windows Server 2022 Kernel: 10.0.20348.2031 Compiler: clang 15.0.7, gcc 14.1.0 (MinGW), and MSVC VS 19.39.33521 To view detailed results, visit: https://lab.dpdk.org/results/dashboard/patchsets/34355/ UNH-IOL DPDK Community Lab To manage your email subscriptions, visit: https://lab.dpdk.org/results/dashboard/preferences/subscriptions/