From mboxrd@z Thu Jan 1 00:00:00 1970 Return-Path: Received: from mails.dpdk.org (mails.dpdk.org [217.70.189.124]) by inbox.dpdk.org (Postfix) with ESMTP id AE535489B2 for ; Thu, 23 Oct 2025 13:36:34 +0200 (CEST) Received: from mails.dpdk.org (localhost [127.0.0.1]) by mails.dpdk.org (Postfix) with ESMTP id 93F9040151; Thu, 23 Oct 2025 13:36:34 +0200 (CEST) Received: from mail-io1-f97.google.com (mail-io1-f97.google.com [209.85.166.97]) by mails.dpdk.org (Postfix) with ESMTP id D7E5140151 for ; Thu, 23 Oct 2025 13:36:32 +0200 (CEST) Received: by mail-io1-f97.google.com with SMTP id ca18e2360f4ac-940d9772e28so26171839f.2 for ; Thu, 23 Oct 2025 04:36:32 -0700 (PDT) DKIM-Signature: v=1; a=rsa-sha256; c=relaxed/relaxed; d=iol.unh.edu; s=unh-iol; t=1761219392; x=1761824192; darn=dpdk.org; h=cc:to:from:subject:message-id:date:from:to:cc:subject:date :message-id:reply-to; bh=1dEea3OtDnfob1TXqVOxKXnZNCtxB2T0M12XTPJiSVg=; b=LXs0Ge55bXVkVnL+FHmrfFPCAnCqpEpWYrj0Hyr7DeEXwozue2mHrHAFojL1Fhmvcz DoFuQw38hFKU8bp4wQgnG+y93x9pipLI6fbWQS0RRmCBgz60Pn80Wi/pXiKznc1uoFK8 DGcr7JS3c95ei5oRWmCBqsUYMivL1on1uBNMc= X-Google-DKIM-Signature: v=1; a=rsa-sha256; c=relaxed/relaxed; d=1e100.net; s=20230601; t=1761219392; x=1761824192; h=cc:to:from:subject:message-id:date:x-gm-message-state:from:to:cc :subject:date:message-id:reply-to; bh=1dEea3OtDnfob1TXqVOxKXnZNCtxB2T0M12XTPJiSVg=; b=OOGWPaA2xLNfcQz7CF9+5J2ckWVGXkpKLHNasQxdqafBRcgErtNuJLakHGdo42Ct86 OuaMwNBvGQnkfQ6aFMF/25QHBFEC0QkaEZpRQ40kszULy3UOHczO5HHoev84ZL7SEsep knARgsu9Q1lb/Qt7+s4uIqDOZhItoqh/OyG8Vy8lEtbdcKDDdy1M43Q5iL9Zt0GfdoDk wfTduFQJVFLLKi+2pSre+pv380piceE6Ulsb0uULaC6istGw9B4Wy34NE5SyzfO8RbJ1 mop8rSaT9Xj3DlbnSr4FRbi5/lj8uEMJwAMPnXWZx+U6/1oNNK5Q7eGnp4m/PLyVc7nM /c5A== X-Gm-Message-State: AOJu0YxCftP9pgDbzS71WjlxA5xau0J05hlHXuZstlfvXKRYZn2klcs6 Wf/EihLtjmbqjaDDicdCreEJbJhUx9QOzlU9Bo4Eea5yD5h1ZEQg0MjZwdRJMXYX9IbIyUuTGcc e7VxGk9Olz9pPBrx8MyDMRjPMbGowla3wJVpx X-Gm-Gg: ASbGncuCN5SZ9nKUSOtAYDsa/4rPpYxzS+zkDkkZpZsM2ngWJiBo/77Yci/u/B8sOEV s3qc2+pTNlrsChP7QSLTdZbuByYNl2egVLqu+yR36AJoDjYH3L1H4VydwPBv/uZex++uwc2xJlN tKd0SEvvD7d7Bh1mrL+eckbhDleR2N9+ZblcxZuUMGLRHg/oX6bay0R/Q9DUUBFQe/jLvU1YtSQ iSlgl6UdImBDSQlhTIxiB1naTH9J/WIZU7pkXwYpk2zo2Nh3S71nqFTIEejphUI8J4DNEOtj6Ra iNGlL+6RvYBXuCcEEJWJ9TuaE8hR2wWzgq1WD7mWWcBG0NvMtorSRDgASD+ZGtLcFj1RrtPg4bV mYkk3phHb8qMZBd3zUzQVdjXfkJdihLA= X-Google-Smtp-Source: AGHT+IHONkqHYceSW8z8ueFhAhZ0PLuC7eg9hz9m2CNQQU4x5idNwbURlK+rJ0xTZuoxrLrHrsl/BGC3uo80 X-Received: by 2002:a05:6e02:3e06:b0:430:a025:8ac7 with SMTP id e9e14a558f8ab-430c5209542mr312408455ab.1.1761219392133; Thu, 23 Oct 2025 04:36:32 -0700 (PDT) Received: from postal.iol.unh.edu (postal.iol.unh.edu. [132.177.123.84]) by smtp-relay.gmail.com with ESMTPS id e9e14a558f8ab-431dbc19ba1sm1615775ab.14.2025.10.23.04.36.32 (version=TLS1_2 cipher=ECDHE-ECDSA-AES128-GCM-SHA256 bits=128/128); Thu, 23 Oct 2025 04:36:32 -0700 (PDT) X-Relaying-Domain: iol.unh.edu Date: Thu, 23 Oct 2025 04:36:32 -0700 (PDT) Message-ID: <68fa1340.050a0220.126873.7e92SMTPIN_ADDED_MISSING@mx.google.com> Received: from [172.21.0.2] (unknown [172.18.0.240]) by postal.iol.unh.edu (Postfix) with ESMTP id AE1356051830; Thu, 23 Oct 2025 07:36:31 -0400 (EDT) Subject: |WARNING| [GIT MASTER] 62f583c49bf67dd4d6733ece14e55fe6839e66d1 From: dpdklab@iol.unh.edu To: Test Report Cc: dpdk-test-reports@iol.unh.edu, Xueming Li , Christian Ehrhardt , Kevin Traynor , Luca Boccassi Content-Type: text/plain X-BeenThere: test-report@dpdk.org X-Mailman-Version: 2.1.29 Precedence: list List-Id: automatic DPDK test reports List-Unsubscribe: , List-Archive: List-Post: List-Help: List-Subscribe: , Errors-To: test-report-bounces@dpdk.org _Testing issues_ Branch: tags/v23.11 62f583c49bf67dd4d6733ece14e55fe6839e66d1 --> testing issues Upstream job id: Generic-Unit-Test-DPDK#384308 Test environment and result as below: +------------------------------+----------------+------------------------------+---------------------------+--------------+ | Environment | dpdk_unit_test | cryptodev_sw_snow3g_autotest | cryptodev_sw_zuc_autotest | lpm_autotest | +==============================+================+==============================+===========================+==============+ | Fedora Linux 40 | PASS | SKIPPED | SKIPPED | SKIPPED | +------------------------------+----------------+------------------------------+---------------------------+--------------+ | CentOS Stream 9 | PASS | SKIPPED | SKIPPED | SKIPPED | +------------------------------+----------------+------------------------------+---------------------------+--------------+ | CentOS Stream 10 | PASS | SKIPPED | SKIPPED | SKIPPED | +------------------------------+----------------+------------------------------+---------------------------+--------------+ | Fedora Linux 41 | PASS | SKIPPED | SKIPPED | SKIPPED | +------------------------------+----------------+------------------------------+---------------------------+--------------+ | Fedora Linux 42 | PASS | SKIPPED | SKIPPED | SKIPPED | +------------------------------+----------------+------------------------------+---------------------------+--------------+ | Debian GNU/Linux 12 | PASS | SKIPPED | SKIPPED | SKIPPED | +------------------------------+----------------+------------------------------+---------------------------+--------------+ | Ubuntu 20.04 | PASS | SKIPPED | SKIPPED | PASS | +------------------------------+----------------+------------------------------+---------------------------+--------------+ | Ubuntu 22.04 | PASS | SKIPPED | SKIPPED | SKIPPED | +------------------------------+----------------+------------------------------+---------------------------+--------------+ | Ubuntu 24.04 | PASS | SKIPPED | SKIPPED | SKIPPED | +------------------------------+----------------+------------------------------+---------------------------+--------------+ | Red Hat Enterprise Linux 9.5 | PASS | SKIPPED | SKIPPED | SKIPPED | +------------------------------+----------------+------------------------------+---------------------------+--------------+ | Debian 12 (arm) | SKIPPED | PASS | PASS | SKIPPED | +------------------------------+----------------+------------------------------+---------------------------+--------------+ Fedora Linux 40 Kernel: 5.4 Compiler: clang gcc (GCC) 14.2.1 20240912 (Red Hat 14.2.1-3) CentOS Stream 9 Kernel: 5.4 Compiler: gcc gcc (GCC) 11.5.0 20240719 (Red Hat 11.5.0-11) CentOS Stream 10 Kernel: 5.4 Compiler: gcc gcc (GCC) 14.2.1 20250110 (Red Hat 14.2.1-8) Fedora Linux 41 Kernel: 5.4 Compiler: clang gcc (GCC) 14.3.1 20250523 (Red Hat 14.3.1-1) Fedora Linux 42 Kernel: 5.4 Compiler: gcc gcc (GCC) 15.2.1 20250808 (Red Hat 15.2.1-1) Debian GNU/Linux 12 Kernel: 5.4 Compiler: gcc gcc (Debian 12.2.0-14+deb12u1) 12.2.0 Ubuntu 20.04 Kernel: 5.4 Compiler: gcc gcc (Ubuntu 9.4.0-1ubuntu1~20.04.2) 9.4.0 Ubuntu 22.04 Kernel: 5.4 Compiler: gcc gcc (Ubuntu 11.4.0-1ubuntu1~22.04) 11.4.0 Ubuntu 24.04 Kernel: 5.4 Compiler: gcc gcc (Ubuntu 13.3.0-6ubuntu2~24.04) 13.3.0 Red Hat Enterprise Linux 9.5 Kernel: 5.4 Compiler: gcc gcc (GCC) 11.5.0 20240719 (Red Hat 11.5.0-2) Debian 12 (arm) Kernel: Depends on container host Compiler: gcc (Debian 12.2.0-14) 12.2.0 To view detailed results, visit: https://lab.dpdk.org/results/dashboard/tarballs/35308/ UNH-IOL DPDK Community Lab To manage your email subscriptions, visit: https://lab.dpdk.org/results/dashboard/preferences/subscriptions/